BEGIN:VCALENDAR
VERSION:2.0
PRODID:-//Salutementale.net - ECPv6.15.17.1//NONSGML v1.0//EN
CALSCALE:GREGORIAN
METHOD:PUBLISH
X-ORIGINAL-URL:https://www.salutementale.net
X-WR-CALDESC:Eventi per Salutementale.net
REFRESH-INTERVAL;VALUE=DURATION:PT1H
X-Robots-Tag:noindex
X-PUBLISHED-TTL:PT1H
BEGIN:VTIMEZONE
TZID:Europe/Rome
BEGIN:DAYLIGHT
TZOFFSETFROM:+0100
TZOFFSETTO:+0200
TZNAME:CEST
DTSTART:20240331T010000
END:DAYLIGHT
BEGIN:STANDARD
TZOFFSETFROM:+0200
TZOFFSETTO:+0100
TZNAME:CET
DTSTART:20241027T010000
END:STANDARD
BEGIN:DAYLIGHT
TZOFFSETFROM:+0100
TZOFFSETTO:+0200
TZNAME:CEST
DTSTART:20250330T010000
END:DAYLIGHT
BEGIN:STANDARD
TZOFFSETFROM:+0200
TZOFFSETTO:+0100
TZNAME:CET
DTSTART:20251026T010000
END:STANDARD
BEGIN:DAYLIGHT
TZOFFSETFROM:+0100
TZOFFSETTO:+0200
TZNAME:CEST
DTSTART:20260329T010000
END:DAYLIGHT
BEGIN:STANDARD
TZOFFSETFROM:+0200
TZOFFSETTO:+0100
TZNAME:CET
DTSTART:20261025T010000
END:STANDARD
END:VTIMEZONE
BEGIN:VEVENT
DTSTART;TZID=Europe/Rome:20250904T080000
DTEND;TZID=Europe/Rome:20251231T170000
DTSTAMP:20260420T124857
CREATED:20250904T141539Z
LAST-MODIFIED:20250904T141539Z
UID:29451-1756972800-1767200400@www.salutementale.net
SUMMARY:Analisi Bioenergetica – Ciclo di Webinar 2025
DESCRIPTION:L’International Institute for Bioenergetic Analysis (IIBA) è la maggiore organizzazione mondiale dedicata all’Analisi Bioenergetica\, un approccio terapeutico che integra il corpo e la mente per favorire il benessere psicofisico. \nUn’opportunità unica per approfondire l’Analisi Bioenergetica con esperti internazionali. \nAttivo dal  21/06/2025  al  31/12/2025 \nCrediti ECM: 14 \n\n\nProfessioni: Psicologo: Psicoterapia; Psicologia.
URL:https://www.salutementale.net/event/analisi-bioenergetica-ciclo-di-webinar-2025/
CATEGORIES:Corso di aggiornamento ECM
ATTACH;FMTTYPE=image/png:https://www.salutementale.net/wp-content/uploads/2025/09/Bioenergetica.png
END:VEVENT
BEGIN:VEVENT
DTSTART;TZID=Europe/Rome:20251011T150000
DTEND;TZID=Europe/Rome:20251214T170000
DTSTAMP:20260420T124857
CREATED:20250901T102540Z
LAST-MODIFIED:20250901T102540Z
UID:29397-1760194800-1765731600@www.salutementale.net
SUMMARY:Libera Scuola del Festival dei Matti – edizione numero zero\, ottobre /dicembre 2025
DESCRIPTION:La libera scuola del Festival dei Matti n.0 sarà aperta a tutte e tutti\, senza limiti di età e formazione\, e avrà come fine quello di essere uno spazio in cui condividere domande\, letture\, pensieri\, esperienze intorno ai temi che in questi anni il festival ha incrociato e raccolto. \nPer iscrizioni compilare il form entro il 22 settembre al link:  https://forms.gle/yRNGRze29L5HdiNd9
URL:https://www.salutementale.net/event/libera-scuola-del-festival-dei-matti-edizione-numero-zero-ottobre-dicembre-2025/
LOCATION:M9 Museo del 900-  Mestre
CATEGORIES:Festival,Corso
ATTACH;FMTTYPE=image/jpeg:https://www.salutementale.net/wp-content/uploads/2025/09/scuola-matti-2025-1-620x381-1.jpg
END:VEVENT
BEGIN:VEVENT
DTSTART;TZID=Europe/Rome:20251016T080000
DTEND;TZID=Europe/Rome:20251117T170000
DTSTAMP:20260420T124857
CREATED:20250923T134835Z
LAST-MODIFIED:20250923T134835Z
UID:29676-1760601600-1763398800@www.salutementale.net
SUMMARY:L'orizzonte della Psicoterapia: Teorie – Processi – Procedure
DESCRIPTION:In continuità con le edizioni del 2017\, 2018 e 2023 abbiamo il piacere di annunciare il 4° Congresso italiano di psicoterapie cognitive-comportamentali di terza generazione. \nIl Congresso sarà un’occasione per volgere lo sguardo verso un orizzonte comune della psicoterapia\, partendo da un confronto fra gli aspetti teorici e metateorici che caratterizzano lo sviluppo di modelli di intervento in ambito psicoterapeutico (e non solo) passando attraverso l’analisi dei principi dimostrati a livello sperimentale che li caratterizzano.
URL:https://www.salutementale.net/event/lorizzonte-della-psicoterapia-teorie-processi-procedure/
LOCATION:Citylife Anteo Piazza Tre Torri\, 1/l\, Milano – 3° piano Citylife Shopping District
CATEGORIES:congresso
ATTACH;FMTTYPE=image/png:https://www.salutementale.net/wp-content/uploads/2025/09/orizzontep.png
END:VEVENT
BEGIN:VEVENT
DTSTART;TZID=Europe/Rome:20251105T080000
DTEND;TZID=Europe/Rome:20251108T170000
DTSTAMP:20260420T124857
CREATED:20241203T152935Z
LAST-MODIFIED:20250609T102320Z
UID:26807-1762329600-1762621200@www.salutementale.net
SUMMARY:Psichiatria Agenda 2030
DESCRIPTION:L’edizione 2025 del Congresso nazionale della Società Italiana di Psichiatria si svolgerà dal 5 all’8 novembre nella splendida cornice della città di Bari\, presso il Centro Congressi Fiera del Levante. I congressi nazionali SIP (Società Italiana di Psichiatria) costituiscono tradizionalmente il principale punto di riferimento per l’aggiornamento\, lo scambio e l’incontro tra specialisti della salute mentale sul territorio italiano. \nL’edizione 2025\, intitolata “Psichiatria agenda 2030: complessità\, cambiamento\, sostenibilità” si prefigge di affrontare i principali temi relativi alla salute mentale con uno sguardo al futuro\, in un’ottica di rinnovamento che prepari i professionisti alle sfide dei prossimi decenni.
URL:https://www.salutementale.net/event/psichiatria-agenda-2030/
LOCATION:Centro Congressi Fiera del Levante / Bari
CATEGORIES:Convegno,congresso
ATTACH;FMTTYPE=image/jpeg:https://www.salutementale.net/wp-content/uploads/2024/12/Immagine-per-bari.jpg
END:VEVENT
BEGIN:VEVENT
DTSTART;TZID=Europe/Rome:20251105T100000
DTEND;TZID=Europe/Rome:20251108T200000
DTSTAMP:20260420T124857
CREATED:20250923T140855Z
LAST-MODIFIED:20250923T140855Z
UID:29689-1762336800-1762632000@www.salutementale.net
SUMMARY:PSICHIATRIA AGENDA 2030 - Complessità\, cambiamento\, sostenibilità.
DESCRIPTION:L’edizione 2025\, intitolata “Psichiatria agenda 2030: complessità\, cambiamento\, sostenibilità” si prefigge di affrontare i principali temi relativi alla salute mentale con uno sguardo al futuro\, in un’ottica di rinnovamento che prepari i professionisti alle sfide dei prossimi decenni.
URL:https://www.salutementale.net/event/psichiatria-agenda-2030-complessita-cambiamento-sostenibilita/
LOCATION:Centro Congressi Fiera del Levante / Bari
CATEGORIES:congresso
ATTACH;FMTTYPE=image/png:https://www.salutementale.net/wp-content/uploads/2025/09/Psyagenda.png
END:VEVENT
BEGIN:VEVENT
DTSTART;TZID=Europe/Rome:20251106T080000
DTEND;TZID=Europe/Rome:20251108T170000
DTSTAMP:20260420T124857
CREATED:20251016T135214Z
LAST-MODIFIED:20251016T135214Z
UID:30236-1762416000-1762621200@www.salutementale.net
SUMMARY:Sulle droghe abbiamo un Piano - Contro-Conferenza
DESCRIPTION:Fermiamo la guerra alla droga\, contro il governo della paura garantiamo diritti civili e sociali.\nLa Contro-conferenza nazionale sulle droghe\, autoconvocata dai movimenti per la riforma delle fallimentari politiche proibizioniste sulle droghe\, si riunisce a Roma dal 6 all’ 8 novembre\, negli stessi giorni in cui il Governo presenta la sua strategia di tolleranza zero\, criminalizzazione e patologizzazione.
URL:https://www.salutementale.net/event/sulle-droghe-abbiamo-un-piano-contro-conferenza/
LOCATION:Città dell’altra economia/ex-mattatoio di Testaccio
CATEGORIES:Conferenza
ATTACH;FMTTYPE=image/png:https://www.salutementale.net/wp-content/uploads/2025/10/Droghe.png
END:VEVENT
BEGIN:VEVENT
DTSTART;TZID=Europe/Rome:20251113T080000
DTEND;TZID=Europe/Rome:20251115T170000
DTSTAMP:20260420T124857
CREATED:20250630T092038Z
LAST-MODIFIED:20250630T092038Z
UID:28946-1763020800-1763226000@www.salutementale.net
SUMMARY:Congresso Internazionale SIPPR (Società Italiana di Psicologia e Psicoterapia Relazionale)
DESCRIPTION:Evento sulla Psicoterapia Relazionale
URL:https://www.salutementale.net/event/congresso-internazionale-sippr-societa-italiana-di-psicologia-e-psicoterapia-relazionale/
LOCATION:Via S. Donnino\, 4/6\, 50013 Campi Bisenzio FI
CATEGORIES:Conferenza,Convegno,congresso
ATTACH;FMTTYPE=image/jpeg:https://www.salutementale.net/wp-content/uploads/2025/06/SIPPR.jpg
END:VEVENT
BEGIN:VEVENT
DTSTART;TZID=Europe/Rome:20251114T080000
DTEND;TZID=Europe/Rome:20251115T170000
DTSTAMP:20260420T124857
CREATED:20251113T150128Z
LAST-MODIFIED:20251113T150128Z
UID:30597-1763107200-1763226000@www.salutementale.net
SUMMARY:XXIV Congresso Nazionale di Psicologia Giuridica - Chieti
DESCRIPTION:Per iscriversi inviare una e-mail all’indirizzo convegno@aipgitalia.org \nVerrà rilasciato attestato di partecipazione valutabile per l’accesso alla Magistrale. \nhttps://dipsi.unich.it/news/xxiv-congresso-nazionale-di-psicologia-giuridica-chieti-14-15-novembre-2025
URL:https://www.salutementale.net/event/xxiv-congresso-nazionale-di-psicologia-giuridica-chieti/
LOCATION:Auditorium del Rettorato del Campus Università G. d’Annunzio – Via dei Vestini\, 31 Chieti Scalo (CH)
CATEGORIES:congresso
ATTACH;FMTTYPE=image/png:https://www.salutementale.net/wp-content/uploads/2025/11/psicologia-giuridica-1.png
END:VEVENT
BEGIN:VEVENT
DTSTART;TZID=Europe/Rome:20251114T090000
DTEND;TZID=Europe/Rome:20251114T170000
DTSTAMP:20260420T124857
CREATED:20251111T154527Z
LAST-MODIFIED:20251111T154553Z
UID:30575-1763110800-1763139600@www.salutementale.net
SUMMARY:Dai manicomi alla salute mentale di comunità: il Lavoro come Cura? Teoria\, Pratiche\, Criticità - Seminario
DESCRIPTION:L’appuntamento\, organizzato da Università di Parma\, Università di Torino e AUSL Parma\, sarà incentrato sull’utilizzo delle pratiche lavorative nella cura del disagio e della malattia mentali nell’arco cronologico che va dall’esperienza manicomiale alle pratiche sviluppatesi dopo la legge 180. \nhttps://www.unipr.it/notizie/14-novembre-seminario-dai-manicomi-alla-salute-mentale-di-comunita-il-lavoro-come-cura
URL:https://www.salutementale.net/event/dai-manicomi-alla-salute-mentale-di-comunita-il-lavoro-come-cura-teoria-pratiche-criticita-seminario/
LOCATION:Nuovo Polo Didattico dell’Università di Parma – Aula K9\, vicolo Santa Maria
CATEGORIES:Seminario
ATTACH;FMTTYPE=image/png:https://www.salutementale.net/wp-content/uploads/2025/11/Seminario-parma.png
END:VEVENT
BEGIN:VEVENT
DTSTART;TZID=Europe/Rome:20251122T083000
DTEND;TZID=Europe/Rome:20251122T133000
DTSTAMP:20260420T124857
CREATED:20250901T094117Z
LAST-MODIFIED:20250901T094513Z
UID:29394-1763800200-1763818200@www.salutementale.net
SUMMARY:Suicidio e Spinte Suicidarie tra fantasmi e pulsioni di morte: terzo appuntamento per il corso di specializzazione in attesa di accreditamento
DESCRIPTION:DAL 27 SETTEMBRE AL 22 NOVEMBRE 2025\n3 APPUNTAMENTI SU PIATTAFORMA ZOOM\nIl corso è indirizzato a medici\, psichiatri\, psicologi e psicoterapeuti\, studenti di psicologia e medicina.
URL:https://www.salutementale.net/event/suicidio-e-spinte-suicidarie-tra-fantasmi-e-pulsioni-di-morte-terzo-appuntamento-per-il-corso-di-specializzazione-in-attesa-di-accreditamento/
CATEGORIES:Corso
ATTACH;FMTTYPE=image/png:https://www.salutementale.net/wp-content/uploads/2025/09/Suicidio.png
END:VEVENT
BEGIN:VEVENT
DTSTART;TZID=Europe/Rome:20251124T180000
DTEND;TZID=Europe/Rome:20251124T200000
DTSTAMP:20260420T124857
CREATED:20251113T144729Z
LAST-MODIFIED:20251113T144729Z
UID:30591-1764007200-1764014400@www.salutementale.net
SUMMARY:Presentazione del volume LA CITTÀ GIUSTA di don Luigi Di Liegro
DESCRIPTION:La Fondazione internazionale don Luigi Di Liegro ETS presenta il volume La città giusta – Scritti su esclusione e comunità\, che raccoglie testi di don Luigi Di Liegro\, a cura di Pierciro Galeone e Alessandro Romelli\, con prefazione del Cardinale Baldassare Reina. \nhttps://www.fondazionediliegro.com/eventi/presentazione-del-volume-la-citta-giusta/
URL:https://www.salutementale.net/event/presentazione-del-volume-la-citta-giusta-di-don-luigi-di-liegro/
LOCATION:Sala Immacolata\, Chiostro della Basilica dei Santi Apostoli\, Accesso da Via del Vaccaro 9\, Roma
CATEGORIES:Presentazione Libri
ATTACH;FMTTYPE=image/jpeg:https://www.salutementale.net/wp-content/uploads/2025/11/di-liegro-1.jpg
END:VEVENT
BEGIN:VEVENT
DTSTART;TZID=Europe/Rome:20251127T080000
DTEND;TZID=Europe/Rome:20251128T170000
DTSTAMP:20260420T124857
CREATED:20251103T095014Z
LAST-MODIFIED:20251103T095014Z
UID:30497-1764230400-1764349200@www.salutementale.net
SUMMARY:Salute mentale e giustizia: il vicolo stretto tra curare e punire - CORSO DI AGGIORNAMENTO ECM
DESCRIPTION:Sono ormai diversi anni che Psichiatria Democratica organizza occasioni di formazione con uno sforzo\ndi sintesi originale di pratiche e teorie che cercano di ridare voce all’esperienza concreta degli operatori.\nI percorsi formativi che proponiamo sono pensati come modelli attenti alla complessità\, non riduttivi ma\ncapaci di mantenere vivi orizzonti di trasformazione\, come un laboratorio\, un cantiere in continuo\nmovimento. \n  \nhttps://www.psichiatriademocratica.org/notizie/corso-ecm-salute-mentale-e-giustizia-il-vicolo-stretto-tra-curare-e-punire-roma-27-e-28-novembre-2025/
URL:https://www.salutementale.net/event/salute-mentale-e-giustizia-il-vicolo-stretto-tra-curare-e-punire-corso-di-aggiornamento-ecm/
LOCATION:Città dell’Altra Economia/Largo Dino Frisullo/Roma
CATEGORIES:Corso
ATTACH;FMTTYPE=image/jpeg:https://www.salutementale.net/wp-content/uploads/2025/11/ECM-Educazione-Continua-in-Medicina-1.jpg
END:VEVENT
BEGIN:VEVENT
DTSTART;TZID=Europe/Rome:20251127T080000
DTEND;TZID=Europe/Rome:20251129T170000
DTSTAMP:20260420T124857
CREATED:20251104T145153Z
LAST-MODIFIED:20251104T145349Z
UID:30537-1764230400-1764435600@www.salutementale.net
SUMMARY:Festival Tracce #4: Osare sognare\, osare desiderare
DESCRIPTION:La quarta edizione del Festival Tracce ci riunisce attorno ai sogni e ai desideri. \nIl sogno notturno\, poiché è involontario\, offre chiavi per esplorare le pulsioni del desiderio che attraversano la nostra quotidianità e per avvicinarci ai nostri fantasmi inconsci.\nNei servizi di salute mentale\, il lavoro collettivo consiste\, soprattutto\, nel prendersi cura dei sogni dell’altro\, ravvivare le fiamme del desiderio\, mantenere viva quella ricerca della «stella irraggiungibile»\, cantata da Jacques Brel.\nDa un anno\, gli artisti e operatori coinvolti nel Centro di Salute Mentale San Paolo hanno lavorato su questa tematica\, in collaborazione con gli utenti per creare insieme canzoni\, giochi\, performance e installazioni.\nQueste opere saranno presentate durante le tre giornate del festival. \n 
URL:https://www.salutementale.net/event/festival-tracce-4-osare-sognare-osare-desiderare/
LOCATION:Centro Diurno San Paolo – Viale Giustiniano Imperatore 45
CATEGORIES:Festival
ATTACH;FMTTYPE=image/png:https://www.salutementale.net/wp-content/uploads/2025/11/Tracce.png
END:VEVENT
BEGIN:VEVENT
DTSTART;TZID=Europe/Rome:20251127T183000
DTEND;TZID=Europe/Rome:20251127T213000
DTSTAMP:20260420T124857
CREATED:20251118T155218Z
LAST-MODIFIED:20251118T155447Z
UID:30628-1764268200-1764279000@www.salutementale.net
SUMMARY:Presentazione del libro "Per la Palestina" di Paolo Peloso
DESCRIPTION:Psichiatria Democratica invita alla presentazione del libro di Paolo Peloso “Per la Palestina”\, nell’ambito del Corso di Aggiornamento Salute Mentale e Giustizia: il Vincolo Stretto tra Curare e Punire. \nDieci poesie dal massacro di Tell Al-Zaatar alla caresia nella Striscia di Gaza con un saggio introduttivo di Erga Edizioni.
URL:https://www.salutementale.net/event/presentazione-del-libro-per-la-palestina-di-paolo-peloso/
LOCATION:Largo Dino Frisullo – Città dell’Altra Economia/Roma
CATEGORIES:Presentazione Libri
ATTACH;FMTTYPE=image/png:https://www.salutementale.net/wp-content/uploads/2025/11/Per-la-Palestina.png
END:VEVENT
BEGIN:VEVENT
DTSTART;TZID=Europe/Rome:20251128T080000
DTEND;TZID=Europe/Rome:20251129T170000
DTSTAMP:20260420T124857
CREATED:20251125T155106Z
LAST-MODIFIED:20251125T155106Z
UID:30662-1764316800-1764435600@www.salutementale.net
SUMMARY:P'AZZ Festival 2025 - Napoli
DESCRIPTION:Torna a Napoli il 28 e 29 novembre il P’Azz Festival organizzato da NapolinMente APS\, AFASP Campania\, con un’edizione che si rivolge in modo particolarmente diretto agli operatori\, ai servizi e ai professionisti che ogni giorno lavorano nei percorsi di cura\, accompagnamento e inclusione di persone con disagio psichico e disabilità intellettiva. Due giorni intensi\, ospitati negli spazi del Palazzo Caracciolo Naples\, che quest’anno si arricchisce di un respiro nazionale grazie alla collaborazione con realtà come Solaris APS e ANDEL – Agenzia Nazionale Disabilità e Lavoro\, introducendo un confronto più ampio su modelli\, metodologie e pratiche professionali.\n\nhttps://www.napolivillage.com/magazine/pazz-festival-2025/
URL:https://www.salutementale.net/event/pazz-festival-2025-napoli/
LOCATION:Palazzo Caracciolo – Via Carbonara 112\, Napoli
CATEGORIES:Festival
ATTACH;FMTTYPE=image/jpeg:https://www.salutementale.net/wp-content/uploads/2025/11/pazz-napoli.jpg
END:VEVENT
BEGIN:VEVENT
DTSTART;TZID=Europe/Rome:20251128T080000
DTEND;TZID=Europe/Rome:20251130T170000
DTSTAMP:20260420T124857
CREATED:20241205T155707Z
LAST-MODIFIED:20250527T133624Z
UID:26861-1764316800-1764522000@www.salutementale.net
SUMMARY:XXVIII Congresso Nazionale Società Italiana di Psichiatria Forense
DESCRIPTION:Dal 28 al 30 novembre 2025 si terrà a Trani il congresso di psichiatria forense.
URL:https://www.salutementale.net/event/xxviii-congresso-nazionale-societa-italiana-di-psichiatria-forense/
LOCATION:Trani
CATEGORIES:Convegno,congresso
ATTACH;FMTTYPE=image/jpeg:https://www.salutementale.net/wp-content/uploads/2024/12/Immagine-trani-novembre.jpg
END:VEVENT
BEGIN:VEVENT
DTSTART;TZID=Europe/Rome:20251129T080000
DTEND;TZID=Europe/Rome:20251130T170000
DTSTAMP:20260420T124857
CREATED:20250630T094250Z
LAST-MODIFIED:20250630T094250Z
UID:28960-1764403200-1764522000@www.salutementale.net
SUMMARY:Convegno: “Il paesaggio in evoluzione della psicoterapia nell’era mente-corpo. Relazione\, integrazione e responsività”
DESCRIPTION:Il convegno: “Il paesaggio in evoluzione della psicoterapia nell’era mente-corpo. Relazione\, integrazione e responsività” è promosso dal Centro Internazionale di Psicologia e Psicoterapia Strategica CIPPS.
URL:https://www.salutementale.net/event/convegno-il-paesaggio-in-evoluzione-della-psicoterapia-nellera-mente-corpo-relazione-integrazione-e-responsivita/
LOCATION:Mediterranea Hotel & Convention Center\, Via Generale Clark\, 54 – Salerno
CATEGORIES:Convegno
ATTACH;FMTTYPE=image/jpeg:https://www.salutementale.net/wp-content/uploads/2025/06/Locandina-Convegno-CIPPS-Nov2025-724x1024-1.jpg
END:VEVENT
END:VCALENDAR