BEGIN:VCALENDAR
VERSION:2.0
PRODID:-//Salutementale.net - ECPv6.15.17.1//NONSGML v1.0//EN
CALSCALE:GREGORIAN
METHOD:PUBLISH
X-ORIGINAL-URL:https://www.salutementale.net
X-WR-CALDESC:Eventi per Salutementale.net
REFRESH-INTERVAL;VALUE=DURATION:PT1H
X-Robots-Tag:noindex
X-PUBLISHED-TTL:PT1H
BEGIN:VTIMEZONE
TZID:Europe/Rome
BEGIN:DAYLIGHT
TZOFFSETFROM:+0100
TZOFFSETTO:+0200
TZNAME:CEST
DTSTART:20240331T010000
END:DAYLIGHT
BEGIN:STANDARD
TZOFFSETFROM:+0200
TZOFFSETTO:+0100
TZNAME:CET
DTSTART:20241027T010000
END:STANDARD
BEGIN:DAYLIGHT
TZOFFSETFROM:+0100
TZOFFSETTO:+0200
TZNAME:CEST
DTSTART:20250330T010000
END:DAYLIGHT
BEGIN:STANDARD
TZOFFSETFROM:+0200
TZOFFSETTO:+0100
TZNAME:CET
DTSTART:20251026T010000
END:STANDARD
BEGIN:DAYLIGHT
TZOFFSETFROM:+0100
TZOFFSETTO:+0200
TZNAME:CEST
DTSTART:20260329T010000
END:DAYLIGHT
BEGIN:STANDARD
TZOFFSETFROM:+0200
TZOFFSETTO:+0100
TZNAME:CET
DTSTART:20261025T010000
END:STANDARD
END:VTIMEZONE
BEGIN:VEVENT
DTSTART;TZID=Europe/Rome:20250904T080000
DTEND;TZID=Europe/Rome:20251231T170000
DTSTAMP:20260420T141444
CREATED:20250904T141539Z
LAST-MODIFIED:20250904T141539Z
UID:29451-1756972800-1767200400@www.salutementale.net
SUMMARY:Analisi Bioenergetica – Ciclo di Webinar 2025
DESCRIPTION:L’International Institute for Bioenergetic Analysis (IIBA) è la maggiore organizzazione mondiale dedicata all’Analisi Bioenergetica\, un approccio terapeutico che integra il corpo e la mente per favorire il benessere psicofisico. \nUn’opportunità unica per approfondire l’Analisi Bioenergetica con esperti internazionali. \nAttivo dal  21/06/2025  al  31/12/2025 \nCrediti ECM: 14 \n\n\nProfessioni: Psicologo: Psicoterapia; Psicologia.
URL:https://www.salutementale.net/event/analisi-bioenergetica-ciclo-di-webinar-2025/
CATEGORIES:Corso di aggiornamento ECM
ATTACH;FMTTYPE=image/png:https://www.salutementale.net/wp-content/uploads/2025/09/Bioenergetica.png
END:VEVENT
BEGIN:VEVENT
DTSTART;TZID=Europe/Rome:20250927T080000
DTEND;TZID=Europe/Rome:20251005T170000
DTSTAMP:20260420T141444
CREATED:20250917T085807Z
LAST-MODIFIED:20250917T092128Z
UID:29606-1758960000-1759683600@www.salutementale.net
SUMMARY:Lo spazio dell'Analisi Collettiva
DESCRIPTION:Quattro giornate di visite per scoprire l’evoluzione dello spazio dell’Analisi Collettiva di Massimo Fagioli nel corso del tempo attraverso tutti i progetti e le modificazioni che hanno trasformato gli spazi di via di Roma Libera 23.
URL:https://www.salutementale.net/event/lo-spazio-dellanalisi-collettiva/
LOCATION:via di Roma Libera 23
CATEGORIES:Mostra
ATTACH;FMTTYPE=image/jpeg:https://www.salutementale.net/wp-content/uploads/2025/09/FB_post_orizz4_3-1.jpg
END:VEVENT
BEGIN:VEVENT
DTSTART;TZID=Europe/Rome:20250928T150000
DTEND;TZID=Europe/Rome:20251005T180000
DTSTAMP:20260420T141444
CREATED:20250917T084404Z
LAST-MODIFIED:20250917T084404Z
UID:29599-1759071600-1759687200@www.salutementale.net
SUMMARY:21° Festival di Clownerie e Clownterapia
DESCRIPTION:Laboratori esperienziali\, incontri con i pionieri del settore e momenti di riflessione collettiva: al Clown&Clown Festival di Monte San Giusto si riunisce il mondo della clownterapia\, tra arte\, umanità e relazione d’aiuto. \nIn occasione della sua 21ª edizione\, dedicata al tema “Connessioni & Connessioni”\, il festival ospita un ricco programma di incontri\, workshop e testimonianze dedicati alla clownterapia e all’arte della relazione.
URL:https://www.salutementale.net/event/21-festival-di-clownerie-e-clownterapia/
LOCATION:Monte San Giusto (MC)
CATEGORIES:Festival
ATTACH;FMTTYPE=image/jpeg:https://www.salutementale.net/wp-content/uploads/2025/09/1.-Banner-ClownClown-20251.jpg
END:VEVENT
BEGIN:VEVENT
DTSTART;TZID=Europe/Rome:20250930T080000
DTEND;TZID=Europe/Rome:20251003T170000
DTSTAMP:20260420T141444
CREATED:20241204T110654Z
LAST-MODIFIED:20251001T083015Z
UID:26840-1759219200-1759510800@www.salutementale.net
SUMMARY:Congresso Nazionale della Società Italiana di Psichiatria Sociale
DESCRIPTION:Dal ritiro sociale e Hikikomori al ruolo cruciale delle nuove sostanze psicoattive e delle dipendenze comportamentali: verso nuovi paradigmi di cura al 14° Congresso Nazionale della Società Italiana di Psichiatria Sociale \nIn allegato il comunicato stampa della Società Italiana di Psichiatria Sociale (SIPS)
URL:https://www.salutementale.net/event/congresso-nazionale-della-societa-italiana-di-psichiatria-sociale/
LOCATION:Palazzo dei congressi / Firenze
CATEGORIES:Conferenza,Convegno,congresso
ATTACH;FMTTYPE=image/jpeg:https://www.salutementale.net/wp-content/uploads/2024/12/Programma_firenze.jpg
END:VEVENT
BEGIN:VEVENT
DTSTART;TZID=Europe/Rome:20251003T110000
DTEND;TZID=Europe/Rome:20251003T133000
DTSTAMP:20260420T141444
CREATED:20250922T100508Z
LAST-MODIFIED:20250922T100508Z
UID:29644-1759489200-1759498200@www.salutementale.net
SUMMARY:Milano4MentalHealth 2025 - Presentazione ufficiale
DESCRIPTION:Un momento istituzionale per aprire Milano4MentalHealth 2025\, con al centro il rapporto tra salute mentale\, sport e inclusione. \nUn incontro per inaugurare ufficialmente l’edizione 2025 di Milano4MentalHealth\, ribadire l’impegno della città sul tema della salute mentale come bene comune e accendere i riflettori sul legame tra sport\, benessere e inclusione. A pochi mesi dai Giochi Olimpici e Paralimpici di Milano-Cortina 2026\, sarà anche l’occasione per riflettere sul ruolo dello sport nella promozione della salute mentale e nel contrasto allo stigma. L’incontro offrirà inoltre uno spazio di confronto per fare il punto sui progetti in corso e promuovere nuove sinergie tra istituzioni\, professionisti\, terzo settore e cittadini.
URL:https://www.salutementale.net/event/milano4mentalhealth-2025-presentazione-ufficiale/
LOCATION:Sala Alessi – Palazzo Marino\, 1 Piazza della Scala 20121 Milano
CATEGORIES:Incontro
ATTACH;FMTTYPE=image/jpeg:https://www.salutementale.net/wp-content/uploads/2025/09/https___cdn.evbuc_.com_images_1129113243_1783755329873_1_original.jpg
END:VEVENT
BEGIN:VEVENT
DTSTART;TZID=Europe/Rome:20251008T080000
DTEND;TZID=Europe/Rome:20251011T170000
DTSTAMP:20260420T141444
CREATED:20251001T091740Z
LAST-MODIFIED:20251001T091740Z
UID:29917-1759910400-1760202000@www.salutementale.net
SUMMARY:"Musiclash!" - il Festival che unisce cinema\, musica e salute mentale
DESCRIPTION:Un ponte tra musica\, università e società\nMUSICLASH! si configura come un evento innovativo\, volto a interrogare l’immaginario collettivo contemporaneo attraverso l’intreccio di musica\, cinema\, arti visive e dinamiche sociali.
URL:https://www.salutementale.net/event/musiclash-il-festival-che-unisce-cinema-musica-e-salute-mentale/
LOCATION:Università del Salento – Lecce
CATEGORIES:Festival
ATTACH;FMTTYPE=image/png:https://www.salutementale.net/wp-content/uploads/2025/10/musiclash.png
END:VEVENT
BEGIN:VEVENT
DTSTART;TZID=Europe/Rome:20251011T090000
DTEND;TZID=Europe/Rome:20251011T173000
DTSTAMP:20260420T141444
CREATED:20250922T102207Z
LAST-MODIFIED:20250922T102207Z
UID:29651-1760173200-1760203800@www.salutementale.net
SUMMARY:PSICOLOGIA È PACE. Costruire Ponti\, non Muri - Convegno Nazionale del Consiglio Nazionale dell'Ordine degli Psicologi
DESCRIPTION:Un appuntamento speciale per riflettere insieme sul ruolo della Psicologia nella promozione del benessere e della coesione sociale. \nNel tempo difficile in cui viviamo\, attraversato da guerre\, crisi sanitarie e sociali\, polarizzazioni e fratture culturali che minacciano la convivenza e alimentano smarrimento e insicurezza\, desideriamo che anche la nostra professione si interroghi\, si confronti e contribuisca a costruire esperienze di Pace.
URL:https://www.salutementale.net/event/psicologia-e-pace-costruire-ponti-non-muri-convegno-nazionale-del-consiglio-nazionale-dellordine-degli-psicologi/
LOCATION:Nazionale Spazio Eventi – Roma Life Hotel\, Via Palermo 10\, Roma
CATEGORIES:Convegno
ATTACH;FMTTYPE=image/png:https://www.salutementale.net/wp-content/uploads/2025/09/screenshot-2025-09-22-alle-09.55.29-720x10241-1.png
END:VEVENT
BEGIN:VEVENT
DTSTART;TZID=Europe/Rome:20251011T150000
DTEND;TZID=Europe/Rome:20251214T170000
DTSTAMP:20260420T141444
CREATED:20250901T102540Z
LAST-MODIFIED:20250901T102540Z
UID:29397-1760194800-1765731600@www.salutementale.net
SUMMARY:Libera Scuola del Festival dei Matti – edizione numero zero\, ottobre /dicembre 2025
DESCRIPTION:La libera scuola del Festival dei Matti n.0 sarà aperta a tutte e tutti\, senza limiti di età e formazione\, e avrà come fine quello di essere uno spazio in cui condividere domande\, letture\, pensieri\, esperienze intorno ai temi che in questi anni il festival ha incrociato e raccolto. \nPer iscrizioni compilare il form entro il 22 settembre al link:  https://forms.gle/yRNGRze29L5HdiNd9
URL:https://www.salutementale.net/event/libera-scuola-del-festival-dei-matti-edizione-numero-zero-ottobre-dicembre-2025/
LOCATION:M9 Museo del 900-  Mestre
CATEGORIES:Festival,Corso
ATTACH;FMTTYPE=image/jpeg:https://www.salutementale.net/wp-content/uploads/2025/09/scuola-matti-2025-1-620x381-1.jpg
END:VEVENT
BEGIN:VEVENT
DTSTART;TZID=Europe/Rome:20251012T180000
DTEND;TZID=Europe/Rome:20251012T213000
DTSTAMP:20260420T141444
CREATED:20251009T133852Z
LAST-MODIFIED:20251009T133852Z
UID:30101-1760292000-1760304600@www.salutementale.net
SUMMARY:C'E' DA RIDERE - Il primo spettacolo sulla salute mentale
DESCRIPTION:Lo spettacolo organizzato da C’è Da Fare ETS\, l’associazione fondata da Paolo Kessisoglu e Silvia Rocchi raccoglie in 80 minuti i migliori rappresentanti della comicità italiana. \nIn questa prima tournée teatrale la compagnia di giro\, sempre in mutamento\, avrà un minimo comune denominatore\, disinteressarsi di ciò che è politically correct. \nC’è Da Fare ETS è un’organizzazione a sostegno dei più giovani in grado di creare progetti con gli ospedali\, organizzare eventi di raccolta di notevole portata come cene di gala con aste benefiche o eventi sportivi che hanno anche dato vita a una squadra di instancabili ciclisti amatoriali e di ex campioni.
URL:https://www.salutementale.net/event/ce-da-ridere-il-primo-spettacolo-sulla-salute-mentale/
LOCATION:Teatro Brancaccio – Roma
CATEGORIES:Spettacolo
ATTACH;FMTTYPE=image/png:https://www.salutementale.net/wp-content/uploads/2025/10/teatro.png
END:VEVENT
BEGIN:VEVENT
DTSTART;TZID=Europe/Rome:20251016T080000
DTEND;TZID=Europe/Rome:20251017T170000
DTSTAMP:20260420T141444
CREATED:20250923T140311Z
LAST-MODIFIED:20250923T140311Z
UID:29683-1760601600-1760720400@www.salutementale.net
SUMMARY:Mental Health Days 2025 - Il presente e il futuro del benessere psicologico
DESCRIPTION:Mental Health Days 2025 è l’evento ECM Giunti Psychometrics che unisce due mondi strettamente connessi: il benessere psicologico nei luoghi di lavoro e nella pratica clinica. Due giornate di formazione\, confronto e networking con i principali esperti ed esperte del panorama psicologico italiano che dialogheranno sullo stato dell’arte e sulle prospettive future.
URL:https://www.salutementale.net/event/mental-health-days-2025-il-presente-e-il-futuro-del-benessere-psicologico/
LOCATION:Centro Congressi Roma Eventi – Piazza di Spagna\, via Alibert\, 5/a\, 00187 Roma
CATEGORIES:Convegno
ATTACH;FMTTYPE=image/jpeg:https://www.salutementale.net/wp-content/uploads/2025/09/ecm_mentalhealthdays2025-03_pagina_prodtto-1000x1000_pagina_prodtto-1000x10001-1.jpg
END:VEVENT
BEGIN:VEVENT
DTSTART;TZID=Europe/Rome:20251016T080000
DTEND;TZID=Europe/Rome:20251117T170000
DTSTAMP:20260420T141444
CREATED:20250923T134835Z
LAST-MODIFIED:20250923T134835Z
UID:29676-1760601600-1763398800@www.salutementale.net
SUMMARY:L'orizzonte della Psicoterapia: Teorie – Processi – Procedure
DESCRIPTION:In continuità con le edizioni del 2017\, 2018 e 2023 abbiamo il piacere di annunciare il 4° Congresso italiano di psicoterapie cognitive-comportamentali di terza generazione. \nIl Congresso sarà un’occasione per volgere lo sguardo verso un orizzonte comune della psicoterapia\, partendo da un confronto fra gli aspetti teorici e metateorici che caratterizzano lo sviluppo di modelli di intervento in ambito psicoterapeutico (e non solo) passando attraverso l’analisi dei principi dimostrati a livello sperimentale che li caratterizzano.
URL:https://www.salutementale.net/event/lorizzonte-della-psicoterapia-teorie-processi-procedure/
LOCATION:Citylife Anteo Piazza Tre Torri\, 1/l\, Milano – 3° piano Citylife Shopping District
CATEGORIES:congresso
ATTACH;FMTTYPE=image/png:https://www.salutementale.net/wp-content/uploads/2025/09/orizzontep.png
END:VEVENT
BEGIN:VEVENT
DTSTART;TZID=Europe/Rome:20251018T083000
DTEND;TZID=Europe/Rome:20251018T133000
DTSTAMP:20260420T141444
CREATED:20250901T093453Z
LAST-MODIFIED:20250901T094446Z
UID:29390-1760776200-1760794200@www.salutementale.net
SUMMARY:Suicidio e Spinte Suicidarie tra fantasmi e pulsioni di morte: secondo appuntamento per il corso di specializzazione in attesa di accreditamento
DESCRIPTION:DAL 27 SETTEMBRE AL 22 NOVEMBRE 2025\n3 APPUNTAMENTI SU PIATTAFORMA ZOOM\nIl corso è indirizzato a medici\, psichiatri\, psicologi e psicoterapeuti\, studenti di psicologia e medicina.
URL:https://www.salutementale.net/event/suicidio-e-spinte-suicidarie-tra-fantasmi-e-pulsioni-di-morte-secondo-appuntamento-per-il-corso-di-specializzazione-in-attesa-di-accreditamento/
CATEGORIES:Corso
ATTACH;FMTTYPE=image/png:https://www.salutementale.net/wp-content/uploads/2025/09/Suicidio.png
END:VEVENT
BEGIN:VEVENT
DTSTART;TZID=Europe/Rome:20251024T093000
DTEND;TZID=Europe/Rome:20251024T180000
DTSTAMP:20260420T141444
CREATED:20250923T132240Z
LAST-MODIFIED:20250923T132240Z
UID:29668-1761298200-1761328800@www.salutementale.net
SUMMARY:Il Trattamento dell’Autore di Reato Infermo di Mente Socialmente Pericoloso fra Recovery e Necessità di Contenimento
DESCRIPTION:Il prossimo 24 Ottobre si terrà Il Trattamento dell’Autore di Reato Infermo di Mente Socialmente Pericoloso fra Recovery e Necessità di Contenimento a Foggia presso il Palazzo Dogana.
URL:https://www.salutementale.net/event/il-trattamento-dellautore-di-reato-infermo-di-mente-socialmente-pericoloso-fra-recovery-e-necessita-di-contenimento/
LOCATION:Palazzo Dogana – Foggia
CATEGORIES:Corso
ATTACH;FMTTYPE=image/png:https://www.salutementale.net/wp-content/uploads/2025/09/logo-we-work115.png
END:VEVENT
BEGIN:VEVENT
DTSTART;TZID=Europe/Rome:20251025T080000
DTEND;TZID=Europe/Rome:20251025T180000
DTSTAMP:20260420T141444
CREATED:20251006T090603Z
LAST-MODIFIED:20251006T090603Z
UID:29983-1761379200-1761415200@www.salutementale.net
SUMMARY:Ruolo e Necessità della Comunità Terapeutica. Dialogo ed integrazione tra i soggetti
DESCRIPTION:Il convegno annuale dell’Associazione Mito&Realtà si svolgerà in due sedi contemporaneamente (Centro Convegni “Villa Palestro” Via Palestro\, 24 – 00185 ROMA – Aula Conferenze Ospedale Niguarda\, piazza Ospedale Maggiore 3 – 20132 MILANO) e si articolerà su due tavole rotonde. \nRilascia 8 CREDITI ECM
URL:https://www.salutementale.net/event/ruolo-e-necessita-della-comunita-terapeutica-dialogo-ed-integrazione-tra-i-soggetti/
LOCATION:Centro Convegni “Villa Palestro” – via Palestro\, 24\, 00185 Roma
CATEGORIES:Convegno
ATTACH;FMTTYPE=image/png:https://www.salutementale.net/wp-content/uploads/2025/10/mito.png
END:VEVENT
END:VCALENDAR