BEGIN:VCALENDAR
VERSION:2.0
PRODID:-//Salutementale.net - ECPv6.15.17.1//NONSGML v1.0//EN
CALSCALE:GREGORIAN
METHOD:PUBLISH
X-ORIGINAL-URL:https://www.salutementale.net
X-WR-CALDESC:Eventi per Salutementale.net
REFRESH-INTERVAL;VALUE=DURATION:PT1H
X-Robots-Tag:noindex
X-PUBLISHED-TTL:PT1H
BEGIN:VTIMEZONE
TZID:Europe/Rome
BEGIN:DAYLIGHT
TZOFFSETFROM:+0100
TZOFFSETTO:+0200
TZNAME:CEST
DTSTART:20240331T010000
END:DAYLIGHT
BEGIN:STANDARD
TZOFFSETFROM:+0200
TZOFFSETTO:+0100
TZNAME:CET
DTSTART:20241027T010000
END:STANDARD
BEGIN:DAYLIGHT
TZOFFSETFROM:+0100
TZOFFSETTO:+0200
TZNAME:CEST
DTSTART:20250330T010000
END:DAYLIGHT
BEGIN:STANDARD
TZOFFSETFROM:+0200
TZOFFSETTO:+0100
TZNAME:CET
DTSTART:20251026T010000
END:STANDARD
BEGIN:DAYLIGHT
TZOFFSETFROM:+0100
TZOFFSETTO:+0200
TZNAME:CEST
DTSTART:20260329T010000
END:DAYLIGHT
BEGIN:STANDARD
TZOFFSETFROM:+0200
TZOFFSETTO:+0100
TZNAME:CET
DTSTART:20261025T010000
END:STANDARD
END:VTIMEZONE
BEGIN:VEVENT
DTSTART;TZID=Europe/Rome:20250904T080000
DTEND;TZID=Europe/Rome:20251231T170000
DTSTAMP:20260420T154212
CREATED:20250904T141539Z
LAST-MODIFIED:20250904T141539Z
UID:29451-1756972800-1767200400@www.salutementale.net
SUMMARY:Analisi Bioenergetica – Ciclo di Webinar 2025
DESCRIPTION:L’International Institute for Bioenergetic Analysis (IIBA) è la maggiore organizzazione mondiale dedicata all’Analisi Bioenergetica\, un approccio terapeutico che integra il corpo e la mente per favorire il benessere psicofisico. \nUn’opportunità unica per approfondire l’Analisi Bioenergetica con esperti internazionali. \nAttivo dal  21/06/2025  al  31/12/2025 \nCrediti ECM: 14 \n\n\nProfessioni: Psicologo: Psicoterapia; Psicologia.
URL:https://www.salutementale.net/event/analisi-bioenergetica-ciclo-di-webinar-2025/
CATEGORIES:Corso di aggiornamento ECM
ATTACH;FMTTYPE=image/png:https://www.salutementale.net/wp-content/uploads/2025/09/Bioenergetica.png
END:VEVENT
BEGIN:VEVENT
DTSTART;TZID=Europe/Rome:20250910T080000
DTEND;TZID=Europe/Rome:20250911T170000
DTSTAMP:20260420T154212
CREATED:20250630T093346Z
LAST-MODIFIED:20250630T093346Z
UID:28953-1757491200-1757610000@www.salutementale.net
SUMMARY:Congresso svizzero di salute pubblica - Salute mentale e benessere: Investire nella ricchezza mentale
DESCRIPTION:Congresso svizzero di salute pubblica organizzato dalla Swiss Society for Public Health e dalla Swiss School of Public Health (SSPH+).
URL:https://www.salutementale.net/event/congresso-svizzero-di-salute-pubblica-salute-mentale-e-benessere-investire-nella-ricchezza-mentale/
LOCATION:Lugano
CATEGORIES:congresso
ATTACH;FMTTYPE=image/jpeg:https://www.salutementale.net/wp-content/uploads/2025/06/Immagine-SWISS.jpg
END:VEVENT
BEGIN:VEVENT
DTSTART;TZID=Europe/Rome:20250910T193000
DTEND;TZID=Europe/Rome:20250910T230000
DTSTAMP:20260420T154212
CREATED:20250714T093725Z
LAST-MODIFIED:20250715T145252Z
UID:29136-1757532600-1757545200@www.salutementale.net
SUMMARY:NEURODIVERGENT MEETING: un momento inclusivo sotto le luci di EDIT Torino
DESCRIPTION:Neurodivergent Meeting\, organizzato da Associazione Aspergeronline ETS in collaborazione con EDIT Torino.
URL:https://www.salutementale.net/event/neurodivergent-meeting-un-momento-inclusivo-sotto-le-luci-di-edit-torino/
LOCATION:Piazza Teresa Noce\, 15 10155 Torino
CATEGORIES:Evento culturale
ATTACH;FMTTYPE=image/png:https://www.salutementale.net/wp-content/uploads/2025/07/Neurodivergent.png
END:VEVENT
BEGIN:VEVENT
DTSTART;TZID=Europe/Rome:20250914T090000
DTEND;TZID=Europe/Rome:20250914T183000
DTSTAMP:20260420T154212
CREATED:20250908T091857Z
LAST-MODIFIED:20250908T091857Z
UID:29482-1757840400-1757874600@www.salutementale.net
SUMMARY:Emozioni e Malattia: un nesso troppo spesso ignorato
DESCRIPTION:La salute emotiva è il tema su cui Daniela Lucangeli\, professore ordinario di psicologia dello sviluppo presso l’Università di Padova\, interverrà al congresso annuale di Epigenetica di Bologna del 14 settembre. \nBologna\, 14 settembre\, Savoia Hotel Regency \n9.00 – 18.30
URL:https://www.salutementale.net/event/emozioni-e-malattia-un-nesso-troppo-spesso-ignorato/
LOCATION:Savoia Hotel Regency\, Bologna
CATEGORIES:Conferenza
ATTACH;FMTTYPE=image/png:https://www.salutementale.net/wp-content/uploads/2025/09/cellule.png
END:VEVENT
BEGIN:VEVENT
DTSTART;TZID=Europe/Rome:20250916T150000
DTEND;TZID=Europe/Rome:20250916T190000
DTSTAMP:20260420T154212
CREATED:20250911T133946Z
LAST-MODIFIED:20250911T133946Z
UID:29544-1758034800-1758049200@www.salutementale.net
SUMMARY:Open Day 16 settembre 2025 - Fondazione Internazionale Don Luigi Di Liegro EST
DESCRIPTION:La Fondazione Internazionale Don Luigi Di Liegro ETS apre le porte alla città con un Open Day dedicato alla presentazione dei laboratori e delle attività che accompagneranno la nuova stagione. \nDalle ore 15.00 alle 19.00\, presso la sede di Via Ostiense 106 a Roma\, sarà possibile conoscere da vicino i progetti della Fondazione\, incontrare i conduttori dei laboratori e i volontari\, scoprire le opportunità di partecipazione e sostegno.
URL:https://www.salutementale.net/event/open-day-16-settembre-2025-fondazione-internazionale-don-luigi-di-liegro-est/
LOCATION:Fondazione Di Liegro – Via Ostiense 106 – Roma
CATEGORIES:Open Day
ATTACH;FMTTYPE=image/jpeg:https://www.salutementale.net/wp-content/uploads/2025/09/banner-2.jpg
ORGANIZER;CN="Fondazione Internazionale Don Luigi Di Liegro":MAILTO:segreteria@fondazionediliegro.it
END:VEVENT
BEGIN:VEVENT
DTSTART;TZID=Europe/Rome:20250917T180000
DTEND;TZID=Europe/Rome:20250917T200000
DTSTAMP:20260420T154212
CREATED:20250910T081207Z
LAST-MODIFIED:20250910T081207Z
UID:29519-1758132000-1758139200@www.salutementale.net
SUMMARY:Salute Mentale – Ben Oltre la Psichiatria
DESCRIPTION:Webinar precongressuale sul tema della salute mentale con Claudia Moretti\, Fabrizio Starace\, Piero Cipriano; modera Diego Silvestri. L’evento è accreditato con 3 ECM per professioni sanitarie.
URL:https://www.salutementale.net/event/salute-mentale-ben-oltre-la-psichiatria/
CATEGORIES:Webinar
ATTACH;FMTTYPE=image/png:https://www.salutementale.net/wp-content/uploads/2025/09/salute-mentale.png
END:VEVENT
BEGIN:VEVENT
DTSTART;TZID=Europe/Rome:20250918T153000
DTEND;TZID=Europe/Rome:20250920T180000
DTSTAMP:20260420T154212
CREATED:20250916T133836Z
LAST-MODIFIED:20250916T133836Z
UID:29583-1758209400-1758391200@www.salutementale.net
SUMMARY:Neuroni in Festival - Tre giorni per capire cosa ci muove\, dentro
DESCRIPTION:Neuroni in Festival è un evento culturale e sociale dedicato alla salute mentale\, con l’obiettivo di portarla al centro del dibattito pubblico in modo accessibile\, relazionale e inclusivo\, con il contributo delle équipe cliniche di villa Sant’Alessandro.
URL:https://www.salutementale.net/event/neuroni-in-festival-tre-giorni-per-capire-cosa-ci-muove-dentro/
LOCATION:Villa Sant’Alessandro\, via Nomentana\, Roma
CATEGORIES:Festival
ATTACH;FMTTYPE=image/jpeg:https://www.salutementale.net/wp-content/uploads/2025/09/neuroni-in-festival-18-19-20-settembre-villa-sant-alessandro-roma.jpg
END:VEVENT
BEGIN:VEVENT
DTSTART;TZID=Europe/Rome:20250919T100000
DTEND;TZID=Europe/Rome:20250919T170000
DTSTAMP:20260420T154212
CREATED:20250701T145921Z
LAST-MODIFIED:20250701T145921Z
UID:28994-1758276000-1758301200@www.salutementale.net
SUMMARY:Epidemiologia\, Psichiatria di Comunità e Innovazione
DESCRIPTION:Quest’importante evento in ricordo di Michele Tansella riunisce esperti nel campo della salute mentale per un confronto sui temi dell’epidemiologia psichiatrica e dell’innovazione nei servizi.
URL:https://www.salutementale.net/event/epidemiologia-psichiatria-di-comunita-e-innovazione/
LOCATION:Aula Magna Ca’Vignal 3 – Strada Le Grazie 15\, Verona
CATEGORIES:Convegno,Giornata
ATTACH;FMTTYPE=image/jpeg:https://www.salutementale.net/wp-content/uploads/2025/07/170625-01-1.jpg
END:VEVENT
BEGIN:VEVENT
DTSTART;TZID=Europe/Rome:20250923T080000
DTEND;TZID=Europe/Rome:20250924T170000
DTSTAMP:20260420T154212
CREATED:20250904T142236Z
LAST-MODIFIED:20250904T142236Z
UID:29456-1758614400-1758733200@www.salutementale.net
SUMMARY:Convegno Internazionale di Suicidologia e Salute Pubblica 2025 - Evento gratuito accreditato ECM
DESCRIPTION:Aperte le iscrizioni per il Convegno Internazionale di Suicidologia e Salute Pubblica 2025 – Evento gratuito accreditato ECM
URL:https://www.salutementale.net/event/convegno-internazionale-di-suicidologia-e-salute-pubblica-2025-evento-gratuito-accreditato-ecm/
LOCATION:Università di Roma La Sapienza – Aula Magna del Rettorato
CATEGORIES:Corso di aggiornamento ECM
ATTACH;FMTTYPE=image/png:https://www.salutementale.net/wp-content/uploads/2025/09/suicidologia.png
END:VEVENT
BEGIN:VEVENT
DTSTART;TZID=Europe/Rome:20250925T180000
DTEND;TZID=Europe/Rome:20250925T200000
DTSTAMP:20260420T154212
CREATED:20250922T094239Z
LAST-MODIFIED:20250922T094239Z
UID:29640-1758823200-1758830400@www.salutementale.net
SUMMARY:PRESENTAZIONE DEL PODCAST "CATTIVI" - Le carceri dei ragazzi viste da dentro
DESCRIPTION:Se il mondo del carcere per adulti è una bolla tenuta al margine della società quello per minori forse è un universo ancora più remoto. E per una storia che abbiamo la possibilità di ascoltare\, ce ne sono centinaia che sono destinate a rimanere in silenzio. \nIl podcast verrà presentato il prossimo 25 settembre\, alle ore 18.00\, alla Città dell’Altra Economia di Roma (Largo Dino Frisullo).
URL:https://www.salutementale.net/event/presentazione-del-podcast-cattivi-le-carceri-dei-ragazzi-viste-da-dentro/
LOCATION:Città dell’Altra Economia/Largo Dino Frisullo/Roma
CATEGORIES:Evento culturale
ATTACH;FMTTYPE=image/jpeg:https://www.salutementale.net/wp-content/uploads/2025/09/cattivi_invito_mail_illustrato-1.jpg
END:VEVENT
BEGIN:VEVENT
DTSTART;TZID=Europe/Rome:20250927T080000
DTEND;TZID=Europe/Rome:20251005T170000
DTSTAMP:20260420T154212
CREATED:20250917T085807Z
LAST-MODIFIED:20250917T092128Z
UID:29606-1758960000-1759683600@www.salutementale.net
SUMMARY:Lo spazio dell'Analisi Collettiva
DESCRIPTION:Quattro giornate di visite per scoprire l’evoluzione dello spazio dell’Analisi Collettiva di Massimo Fagioli nel corso del tempo attraverso tutti i progetti e le modificazioni che hanno trasformato gli spazi di via di Roma Libera 23.
URL:https://www.salutementale.net/event/lo-spazio-dellanalisi-collettiva/
LOCATION:via di Roma Libera 23
CATEGORIES:Mostra
ATTACH;FMTTYPE=image/jpeg:https://www.salutementale.net/wp-content/uploads/2025/09/FB_post_orizz4_3-1.jpg
END:VEVENT
BEGIN:VEVENT
DTSTART;TZID=Europe/Rome:20250927T083000
DTEND;TZID=Europe/Rome:20250927T133000
DTSTAMP:20260420T154212
CREATED:20250901T092443Z
LAST-MODIFIED:20250901T094423Z
UID:29386-1758961800-1758979800@www.salutementale.net
SUMMARY:Suicidio e Spinte Suicidarie tra fantasmi e pulsioni di morte: primo appuntamento per il corso di specializzazione in attesa di accreditamento
DESCRIPTION:DAL 27 SETTEMBRE AL 22 NOVEMBRE 2025\n3 APPUNTAMENTI SU PIATTAFORMA ZOOM\nIl corso è indirizzato a medici\, psichiatri\, psicologi e psicoterapeuti\, studenti di psicologia e medicina.
URL:https://www.salutementale.net/event/suicidio-e-spinte-suicidarie-tra-fantasmi-e-pulsioni-di-morte-primo-appuntamento-per-il-corso-di-specializzazione-in-attesa-di-accreditamento/
CATEGORIES:Corso
ATTACH;FMTTYPE=image/png:https://www.salutementale.net/wp-content/uploads/2025/09/Suicidio.png
END:VEVENT
BEGIN:VEVENT
DTSTART;TZID=Europe/Rome:20250927T093000
DTEND;TZID=Europe/Rome:20250927T180000
DTSTAMP:20260420T154212
CREATED:20250923T130900Z
LAST-MODIFIED:20250923T130900Z
UID:29663-1758965400-1758996000@www.salutementale.net
SUMMARY:Il Corpo Vivente nella Psicologia Fenomenologica - Convegno 2025
DESCRIPTION:Sabato 27 settembre 2025 si terrà a Napoli\, presso l’Istituto Italiano per gli Studi Filosofici\, il convegno “Il corpo vivente nella psicologia fenomenologica” a cura di Psicofen – Associazione per psicologia fenomenologica e la salute mentale.
URL:https://www.salutementale.net/event/il-corpo-vivente-nella-psicologia-fenomenologica-convegno-2025/
LOCATION:Istituto degli studi filosofici di Napoli
CATEGORIES:Convegno
ATTACH;FMTTYPE=image/png:https://www.salutementale.net/wp-content/uploads/2025/09/convegno.png
END:VEVENT
BEGIN:VEVENT
DTSTART;TZID=Europe/Rome:20250928T150000
DTEND;TZID=Europe/Rome:20251005T180000
DTSTAMP:20260420T154212
CREATED:20250917T084404Z
LAST-MODIFIED:20250917T084404Z
UID:29599-1759071600-1759687200@www.salutementale.net
SUMMARY:21° Festival di Clownerie e Clownterapia
DESCRIPTION:Laboratori esperienziali\, incontri con i pionieri del settore e momenti di riflessione collettiva: al Clown&Clown Festival di Monte San Giusto si riunisce il mondo della clownterapia\, tra arte\, umanità e relazione d’aiuto. \nIn occasione della sua 21ª edizione\, dedicata al tema “Connessioni & Connessioni”\, il festival ospita un ricco programma di incontri\, workshop e testimonianze dedicati alla clownterapia e all’arte della relazione.
URL:https://www.salutementale.net/event/21-festival-di-clownerie-e-clownterapia/
LOCATION:Monte San Giusto (MC)
CATEGORIES:Festival
ATTACH;FMTTYPE=image/jpeg:https://www.salutementale.net/wp-content/uploads/2025/09/1.-Banner-ClownClown-20251.jpg
END:VEVENT
BEGIN:VEVENT
DTSTART;TZID=Europe/Rome:20250930T080000
DTEND;TZID=Europe/Rome:20251003T170000
DTSTAMP:20260420T154212
CREATED:20241204T110654Z
LAST-MODIFIED:20251001T083015Z
UID:26840-1759219200-1759510800@www.salutementale.net
SUMMARY:Congresso Nazionale della Società Italiana di Psichiatria Sociale
DESCRIPTION:Dal ritiro sociale e Hikikomori al ruolo cruciale delle nuove sostanze psicoattive e delle dipendenze comportamentali: verso nuovi paradigmi di cura al 14° Congresso Nazionale della Società Italiana di Psichiatria Sociale \nIn allegato il comunicato stampa della Società Italiana di Psichiatria Sociale (SIPS)
URL:https://www.salutementale.net/event/congresso-nazionale-della-societa-italiana-di-psichiatria-sociale/
LOCATION:Palazzo dei congressi / Firenze
CATEGORIES:Conferenza,Convegno,congresso
ATTACH;FMTTYPE=image/jpeg:https://www.salutementale.net/wp-content/uploads/2024/12/Programma_firenze.jpg
END:VEVENT
BEGIN:VEVENT
DTSTART;TZID=Europe/Rome:20250930T110000
DTEND;TZID=Europe/Rome:20250930T130000
DTSTAMP:20260420T154212
CREATED:20250901T091346Z
LAST-MODIFIED:20250901T093822Z
UID:29384-1759230000-1759237200@www.salutementale.net
SUMMARY:Verso una nuova cultura della Salute Mentale: un percorso di consapevolezza e inclusione sociale
DESCRIPTION:Come ricordato nel nuovo Piano di Azione Nazionale per la Salute Mentale 2025-2030\, è indispensabile riconoscere l’importanza della salute mentale come priorità collettiva\, analizzandone le sfide emergenti con particolare attenzione alla condizione dei giovani nella società contemporanea. \nSe ne parlerà durante l’incontro “Verso una nuova cultura della salute mentale: un percorso di consapevolezza e inclusione sociale” che si terrà martedì 30 settembre 2025 (11:00 – 13:00) presso l’Auditorium Cosimo Piccinno del ministero della Salute
URL:https://www.salutementale.net/event/verso-una-nuova-cultura-della-salute-mentale-un-percorso-di-consapevolezza-e-inclusione-sociale/
LOCATION:Auditorium Cosimo Piccinno del Ministero della Salute
CATEGORIES:Conferenza,Incontro
ATTACH;FMTTYPE=image/jpeg:https://www.salutementale.net/wp-content/uploads/2025/09/25-08-notizia-3.jpg
END:VEVENT
BEGIN:VEVENT
DTSTART;TZID=Europe/Rome:20250930T170000
DTEND;TZID=Europe/Rome:20250930T180000
DTSTAMP:20260420T154212
CREATED:20250925T134831Z
LAST-MODIFIED:20250925T134831Z
UID:29762-1759251600-1759255200@www.salutementale.net
SUMMARY:Salute Mentale in Carcere\, presentazione on-line
DESCRIPTION:La chiusura degli Ospedali Psichiatrici Giudiziari ha rappresentato un passaggio storico per il nostro Paese\, liberando migliaia di persone da un destino segnato dallo stigma e dall’internamento. Ma ha lasciato anche aperta una questione cruciale: come garantire il diritto alla salute mentale a chi si trova in carcere? \nIl 30 settembre presentazione in streaming dei risultati della ricerca sulla salute mentale nelle carceri dopo la chiusura degli OPG.
URL:https://www.salutementale.net/event/salute-mentale-in-carcere-presentazione-on-line/
LOCATION:online
CATEGORIES:Conferenza
ATTACH;FMTTYPE=image/png:https://www.salutementale.net/wp-content/uploads/2025/09/Carcere1.png
END:VEVENT
END:VCALENDAR