BEGIN:VCALENDAR
VERSION:2.0
PRODID:-//Salutementale.net - ECPv6.15.17.1//NONSGML v1.0//EN
CALSCALE:GREGORIAN
METHOD:PUBLISH
X-ORIGINAL-URL:https://www.salutementale.net
X-WR-CALDESC:Eventi per Salutementale.net
REFRESH-INTERVAL;VALUE=DURATION:PT1H
X-Robots-Tag:noindex
X-PUBLISHED-TTL:PT1H
BEGIN:VTIMEZONE
TZID:Europe/Rome
BEGIN:DAYLIGHT
TZOFFSETFROM:+0100
TZOFFSETTO:+0200
TZNAME:CEST
DTSTART:20240331T010000
END:DAYLIGHT
BEGIN:STANDARD
TZOFFSETFROM:+0200
TZOFFSETTO:+0100
TZNAME:CET
DTSTART:20241027T010000
END:STANDARD
BEGIN:DAYLIGHT
TZOFFSETFROM:+0100
TZOFFSETTO:+0200
TZNAME:CEST
DTSTART:20250330T010000
END:DAYLIGHT
BEGIN:STANDARD
TZOFFSETFROM:+0200
TZOFFSETTO:+0100
TZNAME:CET
DTSTART:20251026T010000
END:STANDARD
BEGIN:DAYLIGHT
TZOFFSETFROM:+0100
TZOFFSETTO:+0200
TZNAME:CEST
DTSTART:20260329T010000
END:DAYLIGHT
BEGIN:STANDARD
TZOFFSETFROM:+0200
TZOFFSETTO:+0100
TZNAME:CET
DTSTART:20261025T010000
END:STANDARD
END:VTIMEZONE
BEGIN:VEVENT
DTSTART;TZID=Europe/Rome:20250215T080000
DTEND;TZID=Europe/Rome:20250425T170000
DTSTAMP:20260421T001810
CREATED:20250123T150424Z
LAST-MODIFIED:20250211T154704Z
UID:27129-1739606400-1745600400@www.salutementale.net
SUMMARY:Protagonisti
DESCRIPTION:A febbraio inizia un nuovo percorso formativo\, organizzato con Aelle il Punto\, rivolto a famiglie\, docenti\, educatori e operatori per affrontare insieme tematiche fondamentali come la prevenzione del rischio in adolescenza\, il bullismo e il cyberbullismo\, le strategie di regolazione emotiva\, e molto altro. \nGli incontri che si terranno di sabato dalle 9.30 alle 12.30 presso la sede della Fondazione Internazionale don Luigi Di Liegro in Via Ostiense 106\, Roma (Area Montemartini). Un’occasione unica per acquisire strumenti pratici e conoscenze utili per promuovere il benessere e la crescita dei giovani. \nPer informazioni:\nsegreteria@fondazione-di-liegro\n+39 06 6792669
URL:https://www.salutementale.net/event/protagonisti/
LOCATION:Fondazione Di Liegro – Via Ostiense 106 – Roma
CATEGORIES:Corso,Corso online
ATTACH;FMTTYPE=image/png:https://www.salutementale.net/wp-content/uploads/2025/01/di-liegro-evento.png
END:VEVENT
BEGIN:VEVENT
DTSTART;TZID=Europe/Rome:20250307T080000
DTEND;TZID=Europe/Rome:20250509T170000
DTSTAMP:20260421T001810
CREATED:20250220T155033Z
LAST-MODIFIED:20250220T155033Z
UID:27524-1741334400-1746810000@www.salutementale.net
SUMMARY:Laboratorio radiofonico con esperienza di scrittura collettiva
DESCRIPTION:Laboratorio radiofonico in cui si terrà una prova di scrittura collettiva. \nPer info: \nthebridgelaurentino38@gmail.com
URL:https://www.salutementale.net/event/laboratorio-radiofonico-con-esperienza-di-scrittura-collettiva/
CATEGORIES:Evento culturale
END:VEVENT
BEGIN:VEVENT
DTSTART;TZID=Europe/Rome:20250323T080000
DTEND;TZID=Europe/Rome:20250325T170000
DTSTAMP:20260421T001810
CREATED:20241210T145044Z
LAST-MODIFIED:20241210T145044Z
UID:26894-1742716800-1742922000@www.salutementale.net
SUMMARY:Riunione AINR di Neuroradiologia Interventistica
DESCRIPTION:Tra il 23 e il 25 marzo 2025 si terrà a Roma la Riunione AINR di Neuroradiologia Interventistica.
URL:https://www.salutementale.net/event/riunione-ainr-di-neuroradiologia-interventistica/
LOCATION:Hotel Quirinale/Via Nazionale\, 7/ Roma
CATEGORIES:Convegno
ATTACH;FMTTYPE=image/jpeg:https://www.salutementale.net/wp-content/uploads/2024/12/programma-xxx1_page-0001.jpg
END:VEVENT
BEGIN:VEVENT
DTSTART;TZID=Europe/Rome:20250327T080000
DTEND;TZID=Europe/Rome:20250329T170000
DTSTAMP:20260421T001810
CREATED:20250130T141917Z
LAST-MODIFIED:20250211T155611Z
UID:27256-1743062400-1743267600@www.salutementale.net
SUMMARY:Congresso nazionale AIP
DESCRIPTION:L’Associazione Italiana di Psicogeriatria è felice di annunciare che le iscrizioni per il Congresso Nazionale AIP 2025 sono ora aperte. L’evento si svolgerà nelle giornate del 27-28-29 marzo 2025 presso il Centro Congressi di Padova. Come ogni anno è aperta la Call to Abstract. L’inoltro dell’abstract secondo la forma scaricabile dal sito è inviabile entro il 15 di febbraio.
URL:https://www.salutementale.net/event/congresso-nazionale-aip/
LOCATION:Centro Congressi/Padova
CATEGORIES:Conferenza,Convegno,congresso,Evento sportivo
ATTACH;FMTTYPE=image/jpeg:https://www.salutementale.net/wp-content/uploads/2025/01/Immagine-evento-aip.jpg
END:VEVENT
END:VCALENDAR