BEGIN:VCALENDAR
VERSION:2.0
PRODID:-//Salutementale.net - ECPv6.15.17.1//NONSGML v1.0//EN
CALSCALE:GREGORIAN
METHOD:PUBLISH
X-ORIGINAL-URL:https://www.salutementale.net
X-WR-CALDESC:Eventi per Salutementale.net
REFRESH-INTERVAL;VALUE=DURATION:PT1H
X-Robots-Tag:noindex
X-PUBLISHED-TTL:PT1H
BEGIN:VTIMEZONE
TZID:Europe/Rome
BEGIN:DAYLIGHT
TZOFFSETFROM:+0100
TZOFFSETTO:+0200
TZNAME:CEST
DTSTART:20230326T010000
END:DAYLIGHT
BEGIN:STANDARD
TZOFFSETFROM:+0200
TZOFFSETTO:+0100
TZNAME:CET
DTSTART:20231029T010000
END:STANDARD
BEGIN:DAYLIGHT
TZOFFSETFROM:+0100
TZOFFSETTO:+0200
TZNAME:CEST
DTSTART:20240331T010000
END:DAYLIGHT
BEGIN:STANDARD
TZOFFSETFROM:+0200
TZOFFSETTO:+0100
TZNAME:CET
DTSTART:20241027T010000
END:STANDARD
BEGIN:DAYLIGHT
TZOFFSETFROM:+0100
TZOFFSETTO:+0200
TZNAME:CEST
DTSTART:20250330T010000
END:DAYLIGHT
BEGIN:STANDARD
TZOFFSETFROM:+0200
TZOFFSETTO:+0100
TZNAME:CET
DTSTART:20251026T010000
END:STANDARD
BEGIN:DAYLIGHT
TZOFFSETFROM:+0100
TZOFFSETTO:+0200
TZNAME:CEST
DTSTART:20260329T010000
END:DAYLIGHT
BEGIN:STANDARD
TZOFFSETFROM:+0200
TZOFFSETTO:+0100
TZNAME:CET
DTSTART:20261025T010000
END:STANDARD
END:VTIMEZONE
BEGIN:VEVENT
DTSTART;TZID=Europe/Rome:20241220T080000
DTEND;TZID=Europe/Rome:20250112T170000
DTSTAMP:20260421T033225
CREATED:20241022T134523Z
LAST-MODIFIED:20241022T135450Z
UID:26392-1734681600-1736701200@www.salutementale.net
SUMMARY:Diverso da chi?
DESCRIPTION:Il Concorso fotografico Diverso da Chi? si inserisce all’interno di una visione più ampia e integrata della riabilitazione\, che riconosce l’importanza di approcci olistici e innovativi nel supportare il recupero e la crescita personale. Di concerto con l’Associazione di Promozione sociale L’ONDA\, utenti e operatori delle strutture residenziali socio riabilitative Casa Johnny e Casa Mary organizzano diversi progetti ed eventi dentro e fuori le mura delle comunità e sono costantemente impegnati nella costruzione e nella cura di una rete di contatto e di condivisione tra le realtà che si occupano di salute mentale e di disabilità in generale\, con estrema attenzione rivolta all’inclusione e all’integrazione sociale.  \nPer partecipare con le proprie fotografie fare click sul sito dell’organizzatore
URL:https://www.salutementale.net/event/diverso-da-chi/
LOCATION:Ex Cinema Esperia\, Piazza XVII Martiri 1\, Paliano/Frosinone
CATEGORIES:Evento culturale,Mostra
ATTACH;FMTTYPE=image/png:https://www.salutementale.net/wp-content/uploads/2024/10/diverso-da-chi.png
END:VEVENT
BEGIN:VEVENT
DTSTART;TZID=Europe/Rome:20250115T150000
DTEND;TZID=Europe/Rome:20250118T190000
DTSTAMP:20260421T033225
CREATED:20241217T151254Z
LAST-MODIFIED:20241217T153755Z
UID:26979-1736953200-1737226800@www.salutementale.net
SUMMARY:Giornate di neuropsicologia dell'età evolutiva
DESCRIPTION:L ‘evento “Giornate di neuropsicologia dell’età evolutiva” si terrà a Bressanone dal 15 al 18 gennaio 2025.
URL:https://www.salutementale.net/event/giornate-di-neuropsicologia-delleta-evolutiva/
LOCATION:Piazza seminario\, 2 / Bressanone
CATEGORIES:congresso,Evento sportivo,Convegno
ATTACH;FMTTYPE=image/jpeg:https://www.salutementale.net/wp-content/uploads/2024/12/psicologiaetaevolutiva.jpg
END:VEVENT
BEGIN:VEVENT
DTSTART;TZID=Europe/Rome:20250116T150000
DTEND;TZID=Europe/Rome:20250116T173000
DTSTAMP:20260421T033225
CREATED:20241112T145109Z
LAST-MODIFIED:20241112T145424Z
UID:26565-1737039600-1737048600@www.salutementale.net
SUMMARY:Come riconoscere un narcisista manipolatore?
DESCRIPTION:Gli argomenti trattati sono:\nChi è il narcisista manipolatore\nCome riconoscerlo (campanelli d’allarme)\nDiagnosi clinica (DSM-V)\nApproccio clinico e sociologico.
URL:https://www.salutementale.net/event/come-riconoscere-un-narcisista-manipolatore/
LOCATION:Corso online
CATEGORIES:Corso
END:VEVENT
BEGIN:VEVENT
DTSTART;TZID=Europe/Rome:20250117T150000
DTEND;TZID=Europe/Rome:20250117T180000
DTSTAMP:20260421T033225
CREATED:20250114T155317Z
LAST-MODIFIED:20250114T155317Z
UID:27090-1737126000-1737136800@www.salutementale.net
SUMMARY:Seminario di studi con Miguel Benasayag
DESCRIPTION:Questo incontro prevede la presenza del filosofo-psicoanalista Miguel Benasayag.
URL:https://www.salutementale.net/event/seminario-di-studi-con-miguel-benasayag/
LOCATION:Sala Basaglia\, ex-ospedale psichiatrico “Leonardo Bianchi”/Calata Capodichino\,230/Napoli
CATEGORIES:Evento culturale
ATTACH;FMTTYPE=image/jpeg:https://www.salutementale.net/wp-content/uploads/2025/01/capodichino.jpg
END:VEVENT
BEGIN:VEVENT
DTSTART;TZID=Europe/Rome:20250121T160000
DTEND;TZID=Europe/Rome:20250121T183000
DTSTAMP:20260421T033225
CREATED:20250114T141324Z
LAST-MODIFIED:20250114T141324Z
UID:27086-1737475200-1737484200@www.salutementale.net
SUMMARY:Il filo che unisce
DESCRIPTION:Il laboratorio di sartoria presenta la sfilata della nuova collezione di abbigliamento e accessori di moda.
URL:https://www.salutementale.net/event/il-filo-che-unisce/
LOCATION:Piazza di Cinecittà\,11 /Roma
CATEGORIES:Mostra
ATTACH;FMTTYPE=image/jpeg:https://www.salutementale.net/wp-content/uploads/2025/01/CD-Cinecitta-EVENTO-SARTORIA-21-gennaio-2025.jpg
END:VEVENT
BEGIN:VEVENT
DTSTART;TZID=Europe/Rome:20250122T080000
DTEND;TZID=Europe/Rome:20250124T170000
DTSTAMP:20260421T033225
CREATED:20241211T102911Z
LAST-MODIFIED:20241211T102911Z
UID:26933-1737532800-1737738000@www.salutementale.net
SUMMARY:Orizzonti della NeuroPsicoFarmacologia nell’era dell’intelligenza artificiale
DESCRIPTION:Il 22\,23 e 24 gennaio 2025 si terrà il congresso Orizzonti della NeuroPsicoFarmacologia nell’era dell’intelligenza artificiale: dal genoma alla clinica. Per maggiori info clicca qui.
URL:https://www.salutementale.net/event/orizzonti-della-neuropsicofarmacologia-nellera-dellintelligenza-artificiale/
LOCATION:Piazza Città di Lombardia 1\, Milano/ Piattaforma virtuale
CATEGORIES:congresso
ATTACH;FMTTYPE=image/jpeg:https://www.salutementale.net/wp-content/uploads/2024/12/Immaginexxx10.jpg
END:VEVENT
BEGIN:VEVENT
DTSTART;TZID=Europe/Rome:20250123T150000
DTEND;TZID=Europe/Rome:20250124T170000
DTSTAMP:20260421T033225
CREATED:20241125T102616Z
LAST-MODIFIED:20241125T102616Z
UID:26692-1737644400-1737738000@www.salutementale.net
SUMMARY:Il minore autore di crimini familiari
DESCRIPTION:Il corso è realizzato in collaborazione con PSICEF Accademia di Criminologia e Scienze Forensi e condotto da docenti di elevata competenza professionale e consolidata esperienza sul campo.
URL:https://www.salutementale.net/event/il-minore-autore-di-crimini-familiari/
LOCATION:online su zoom
CATEGORIES:Seminario,Corso di aggiornamento ECM,Corso
ATTACH;FMTTYPE=image/jpeg:https://www.salutementale.net/wp-content/uploads/2024/11/notebook-1850613_640.jpg
END:VEVENT
BEGIN:VEVENT
DTSTART;TZID=Europe/Rome:20250124T103000
DTEND;TZID=Europe/Rome:20250124T123000
DTSTAMP:20260421T033225
CREATED:20250122T095618Z
LAST-MODIFIED:20250122T095618Z
UID:27111-1737714600-1737721800@www.salutementale.net
SUMMARY:Volontariato e Salute\, un futuro di solidarietà: risultati e programmi per il 2025
DESCRIPTION:La conferenza sarà seguita dalla redazione di Pianeta Salute TV\, con la realizzazione di servizi televisivi e interviste che andranno in onda sul canale 221 del digitale terrestre. È stato richiesto il Patrocinio della Regione Lazio. \nLa partecipazione è gratuita\, necessaria la registrazione\, scrivere a: pianetasalutetv@libero.it.
URL:https://www.salutementale.net/event/volontariato-e-salute-un-futuro-di-solidarieta-risultati-e-programmi-per-il-2025/
LOCATION:Sala Tevere\, Regione Lazio/Via Cristoforo Colombo\,212-Roma
CATEGORIES:Convegno,congresso,Evento sportivo,Conferenza
ATTACH;FMTTYPE=image/png:https://www.salutementale.net/wp-content/uploads/2025/01/locandina-con-Patrocinio.png
END:VEVENT
BEGIN:VEVENT
DTSTART;TZID=Europe/Rome:20250128T110000
DTEND;TZID=Europe/Rome:20250221T180000
DTSTAMP:20260421T033225
CREATED:20250219T111254Z
LAST-MODIFIED:20250219T111254Z
UID:27517-1738062000-1740160800@www.salutementale.net
SUMMARY:L'isola degli arrusi
DESCRIPTION:La mostra fotografica l’isola degli arrusi si terrà dal 28/01 al 21/02 2025.
URL:https://www.salutementale.net/event/lisola-degli-arrusi/
LOCATION:Via di San Francesco di Sales\,5 /Roma
CATEGORIES:Evento culturale,Mostra
ATTACH;FMTTYPE=image/jpeg:https://www.salutementale.net/wp-content/uploads/2025/02/arrusi.jpg
END:VEVENT
END:VCALENDAR