BEGIN:VCALENDAR
VERSION:2.0
PRODID:-//Salutementale.net - ECPv6.15.17.1//NONSGML v1.0//EN
CALSCALE:GREGORIAN
METHOD:PUBLISH
X-ORIGINAL-URL:https://www.salutementale.net
X-WR-CALDESC:Eventi per Salutementale.net
REFRESH-INTERVAL;VALUE=DURATION:PT1H
X-Robots-Tag:noindex
X-PUBLISHED-TTL:PT1H
BEGIN:VTIMEZONE
TZID:Europe/Rome
BEGIN:DAYLIGHT
TZOFFSETFROM:+0100
TZOFFSETTO:+0200
TZNAME:CEST
DTSTART:20230326T010000
END:DAYLIGHT
BEGIN:STANDARD
TZOFFSETFROM:+0200
TZOFFSETTO:+0100
TZNAME:CET
DTSTART:20231029T010000
END:STANDARD
BEGIN:DAYLIGHT
TZOFFSETFROM:+0100
TZOFFSETTO:+0200
TZNAME:CEST
DTSTART:20240331T010000
END:DAYLIGHT
BEGIN:STANDARD
TZOFFSETFROM:+0200
TZOFFSETTO:+0100
TZNAME:CET
DTSTART:20241027T010000
END:STANDARD
BEGIN:DAYLIGHT
TZOFFSETFROM:+0100
TZOFFSETTO:+0200
TZNAME:CEST
DTSTART:20250330T010000
END:DAYLIGHT
BEGIN:STANDARD
TZOFFSETFROM:+0200
TZOFFSETTO:+0100
TZNAME:CET
DTSTART:20251026T010000
END:STANDARD
END:VTIMEZONE
BEGIN:VEVENT
DTSTART;TZID=Europe/Rome:20240305T080000
DTEND;TZID=Europe/Rome:20241027T170000
DTSTAMP:20260421T093105
CREATED:20240304T112855Z
LAST-MODIFIED:20240709T133512Z
UID:24600-1709625600-1730048400@www.salutementale.net
SUMMARY:Trieste: un anno di iniziative dedicate a Franco Basaglia
DESCRIPTION:Trieste: un anno di iniziative dedicate a Franco Basaglia coordinate da Copersamm-Conferenza per la Salute Mentale nel Mondo Franco Basaglia. \nPer le date degli eventi clicca qui.
URL:https://www.salutementale.net/event/triesteun-anno-di-iniziative-dedicate-a-franco-basaglia/
LOCATION:Trieste\, via Edoardo Weiss- teatrino Franco e Franca Basaglia\, Trieste\, Italia
CATEGORIES:Basaglia,Evento culturale
ATTACH;FMTTYPE=image/webp:https://www.salutementale.net/wp-content/uploads/2024/03/Trieste@news-centenario-Franco-Basaglia-Trieste.webp
END:VEVENT
BEGIN:VEVENT
DTSTART;TZID=Europe/Rome:20240911T093000
DTEND;TZID=Europe/Rome:20240911T143000
DTSTAMP:20260421T093105
CREATED:20240910T145522Z
LAST-MODIFIED:20240911T091836Z
UID:25824-1726047000-1726065000@www.salutementale.net
SUMMARY:Laboratorio di idee sulla Salute Mentale
DESCRIPTION:Come sottolineano i dati OMS una elevata percentuale di giovani (10-20%) oggi nel mondo soffre di disturbi mentali e la metà di questi inizia entro il 14° anno di età\, tanto che le condizioni neuropsichiatriche sono la principale causa di disabilità nei giovani. E questi dati sottolineano anche che i sistemi sanitari nel mondo non hanno ancora risposto adeguatamente a questi bisogni. Una condizione misurabile anche solamente dal gap tra necessità di trattamento e reale offerta/presa in carico assistenziale: tra il 76-85% (paesi a basso/medio reddito) o tra il 35-50% (paesi ad alto reddito) delle persone con disturbi mentali non riceve alcun trattamento.
URL:https://www.salutementale.net/event/laboratorio-di-idee-sulla-salute-mentale/
LOCATION:Hotel Nazionale – Piazza di Montecitorio 131 – Roma
CATEGORIES:congresso,Convegno
ATTACH;FMTTYPE=image/jpeg:https://www.salutementale.net/wp-content/uploads/2024/09/11settlaboratorio-1536x1536-1.jpg
END:VEVENT
BEGIN:VEVENT
DTSTART;TZID=Europe/Rome:20240914T080000
DTEND;TZID=Europe/Rome:20240916T170000
DTSTAMP:20260421T093105
CREATED:20240122T110427Z
LAST-MODIFIED:20240911T093239Z
UID:24066-1726300800-1726506000@www.salutementale.net
SUMMARY:VI meeting delle neuroscienze toscane
DESCRIPTION:Il VI meeting delle Neuroscienze Toscane vedrà riuniti i Neurologi\, Neurochirurghi e Neuroradiologi a Pisa dal 14 al 16 settembre 2024. Anche in questa occasione verrà data priorità all’integrazione tra realtà territoriale\, ospedaliera ed universitaria che consente di omogenizzare i percorsi di diagnosi\, assistenza e cura delle principali patologie neurologiche sia del sistema nervoso centrale che periferico. \n 
URL:https://www.salutementale.net/event/vi-meeting-delle-neuroscienze-toscane/
LOCATION:Pisa
CATEGORIES:congresso
ATTACH;FMTTYPE=image/jpeg:https://www.salutementale.net/wp-content/uploads/2024/01/meeting.jpg
END:VEVENT
BEGIN:VEVENT
DTSTART;TZID=Europe/Rome:20240917T153000
DTEND;TZID=Europe/Rome:20240917T190000
DTSTAMP:20260421T093105
CREATED:20240910T144038Z
LAST-MODIFIED:20240911T091429Z
UID:25820-1726587000-1726599600@www.salutementale.net
SUMMARY:Open day Fondazione Di Liegro 2024
DESCRIPTION:Vieni a scoprire le attività della Fondazione Di Liegro per il 2024. Un’opportunità per iscriversi ai corsi di Arteterapia e conoscere i progetti sostenuti dalla Fondazione. Perché il benessere psicosociale e la prevenzione del disagio psichico sono beni preziosi. \nPROGRAMMA DELL’EVENTO \n15.30 Presentazione del libro “I FIORI DEL BENE” di Isabella Colonnese. \n16.30-19.00 Presentazione e iscrizione ai corsi.
URL:https://www.salutementale.net/event/open-day-fondazione-di-liegro-2024/
LOCATION:Fondazione Di Liegro – Via Ostiense 106 – Roma
CATEGORIES:congresso,Incontro,Giornata,Convegno
ATTACH;FMTTYPE=image/png:https://www.salutementale.net/wp-content/uploads/2024/09/diliegro.png
END:VEVENT
BEGIN:VEVENT
DTSTART;TZID=Europe/Rome:20240918T090000
DTEND;TZID=Europe/Rome:20240919T180000
DTSTAMP:20260421T093105
CREATED:20240911T091502Z
LAST-MODIFIED:20240911T092554Z
UID:25839-1726650000-1726768800@www.salutementale.net
SUMMARY:Convegno internazionale di suicidologia e salute pubblica
DESCRIPTION:Il Servizio di Prevenzione del Suicidio\, attivato al Sant’Andrea presso l’Unità di Psichiatria\, nasce proprio per sostenere e supportare quanti necessitano di aiuto o per coloro che hanno perso un caro per suicidio. \nUn impegno importante che viene ricordato oggi\, in occasione della Giornata Mondiale per la Prevenzione del Suicidio\, e verrà ribadito dalla comunità scientifica internazionale il prossimo 18 e 19 settembre quando i maggiori esperti si ritroveranno presso l’Aula Magna di Sapienza Università di Roma per il Convegno Internazionale di #Suicidologia e Salute Pubblica.
URL:https://www.salutementale.net/event/convegno-internazionale-di-suicidologia-e-salute-pubblica-2/
LOCATION:piazzale Aldo Moro 5 (Aula magna del Rettorato)\, Roma
CATEGORIES:Convegno,congresso,Conferenza
ATTACH;FMTTYPE=image/jpeg:https://www.salutementale.net/wp-content/uploads/2024/09/sanita-suicidio.jpg
END:VEVENT
BEGIN:VEVENT
DTSTART;TZID=Europe/Rome:20240923T080000
DTEND;TZID=Europe/Rome:20240927T170000
DTSTAMP:20260421T093105
CREATED:20240919T090004Z
LAST-MODIFIED:20240924T141816Z
UID:25891-1727078400-1727456400@www.salutementale.net
SUMMARY:Siamo tutti matti... per il calcio!
DESCRIPTION:Evento calcistico con tema di sfondo la salute mentale si terrà a Roma al palazzetto dello sport dal 23 al 27 settembre 2024.
URL:https://www.salutementale.net/event/siamo-tutti-matti-per-il-calcio/
LOCATION:Palazzetto dello Sport/ Roma
CATEGORIES:Evento sportivo
ATTACH;FMTTYPE=image/jpeg:https://www.salutementale.net/wp-content/uploads/2024/09/matti-calcio.jpg
END:VEVENT
BEGIN:VEVENT
DTSTART;TZID=Europe/Rome:20240926T080000
DTEND;TZID=Europe/Rome:20240928T170000
DTSTAMP:20260421T093105
CREATED:20240911T094447Z
LAST-MODIFIED:20240911T094508Z
UID:25855-1727337600-1727542800@www.salutementale.net
SUMMARY:Matti per il calcio
DESCRIPTION:Dalle Paralimpiadi di Parigi\, appena concluse\, ci viene una grande lezione: quella dell’autoironia. I protagonisti sono loro\, migliaia di atleti ed atlete che vengono da tutto il mondo con il loro pieno di umanità e di allegria. Eh sì\, perché la prima sfida è la vita. Potremmo chiamarli sportivi per caso\, e pensiamo alle battute e al sorriso sornione di Rigivan Ganeshamoorthy\, ma anche “Matti per il calcio”\, dove l’autoironia l’hanno inventata loro\, persone con disagio mentale\, con medici e familiari.
URL:https://www.salutementale.net/event/matti-per-il-calcio/
LOCATION:Stadio comunale di Riccione
CATEGORIES:Evento sportivo
ATTACH;FMTTYPE=image/jpeg:https://www.salutementale.net/wp-content/uploads/2024/09/matti-per-il-calcio.jpg
END:VEVENT
END:VCALENDAR