BEGIN:VCALENDAR
VERSION:2.0
PRODID:-//Salutementale.net - ECPv6.15.17.1//NONSGML v1.0//EN
CALSCALE:GREGORIAN
METHOD:PUBLISH
X-ORIGINAL-URL:https://www.salutementale.net
X-WR-CALDESC:Eventi per Salutementale.net
REFRESH-INTERVAL;VALUE=DURATION:PT1H
X-Robots-Tag:noindex
X-PUBLISHED-TTL:PT1H
BEGIN:VTIMEZONE
TZID:Europe/Rome
BEGIN:DAYLIGHT
TZOFFSETFROM:+0100
TZOFFSETTO:+0200
TZNAME:CEST
DTSTART:20230326T010000
END:DAYLIGHT
BEGIN:STANDARD
TZOFFSETFROM:+0200
TZOFFSETTO:+0100
TZNAME:CET
DTSTART:20231029T010000
END:STANDARD
BEGIN:DAYLIGHT
TZOFFSETFROM:+0100
TZOFFSETTO:+0200
TZNAME:CEST
DTSTART:20240331T010000
END:DAYLIGHT
BEGIN:STANDARD
TZOFFSETFROM:+0200
TZOFFSETTO:+0100
TZNAME:CET
DTSTART:20241027T010000
END:STANDARD
BEGIN:DAYLIGHT
TZOFFSETFROM:+0100
TZOFFSETTO:+0200
TZNAME:CEST
DTSTART:20250330T010000
END:DAYLIGHT
BEGIN:STANDARD
TZOFFSETFROM:+0200
TZOFFSETTO:+0100
TZNAME:CET
DTSTART:20251026T010000
END:STANDARD
END:VTIMEZONE
BEGIN:VEVENT
DTSTART;TZID=Europe/Rome:20240305T080000
DTEND;TZID=Europe/Rome:20241027T170000
DTSTAMP:20260423T113151
CREATED:20240304T112855Z
LAST-MODIFIED:20240709T133512Z
UID:24600-1709625600-1730048400@www.salutementale.net
SUMMARY:Trieste: un anno di iniziative dedicate a Franco Basaglia
DESCRIPTION:Trieste: un anno di iniziative dedicate a Franco Basaglia coordinate da Copersamm-Conferenza per la Salute Mentale nel Mondo Franco Basaglia. \nPer le date degli eventi clicca qui.
URL:https://www.salutementale.net/event/triesteun-anno-di-iniziative-dedicate-a-franco-basaglia/
LOCATION:Trieste\, via Edoardo Weiss- teatrino Franco e Franca Basaglia\, Trieste\, Italia
CATEGORIES:Evento culturale,Basaglia
ATTACH;FMTTYPE=image/webp:https://www.salutementale.net/wp-content/uploads/2024/03/Trieste@news-centenario-Franco-Basaglia-Trieste.webp
END:VEVENT
BEGIN:VEVENT
DTSTART;TZID=Europe/Rome:20240703T203000
DTEND;TZID=Europe/Rome:20240703T233000
DTSTAMP:20260423T113151
CREATED:20240617T095548Z
LAST-MODIFIED:20240617T100237Z
UID:25444-1720038600-1720049400@www.salutementale.net
SUMMARY:Custodire l'esserci e il divenire
DESCRIPTION:Giorno 3 luglio alle 20\,30 i direttori dell’istituto di Gestalt Therapy Kairòs Scuola di Specializzazione in Psicoterapia\, Salonia Giovanni e Valeria Conte\, presso il consultorio Oasi Cana a Palermo\, tratteranno il tema della co-genitorialità\, con particolare attenzione alla comunicazione nella coppia. Evento gratuito ed aperto a tutti.
URL:https://www.salutementale.net/event/custodire-lesserci-e-il-divenire/
LOCATION:Corso Calatafimi 1057\, Palermo
CATEGORIES:Conferenza,Seminario
ATTACH;FMTTYPE=image/jpeg:https://www.salutementale.net/wp-content/uploads/2024/06/evento-oasi-cana.jpeg
END:VEVENT
BEGIN:VEVENT
DTSTART;TZID=Europe/Rome:20240706T093000
DTEND;TZID=Europe/Rome:20240706T120000
DTSTAMP:20260423T113151
CREATED:20240617T091815Z
LAST-MODIFIED:20240617T092057Z
UID:25429-1720258200-1720267200@www.salutementale.net
SUMMARY:Master specialistico in psicoterapia cognitivo comportamentale
DESCRIPTION:Il Master specialistico in psicoterapia cognitivo comportamentale è una proposta formativa destinata ai medici psichiatri che desiderano ampliare le proprie competenze in ambito psicoterapico – con un significativo valore aggiunto nella pratica psichiatrica in contesti ospedalieri e clinici – e agli psicoterapeuti di altri orientamenti che desiderano apprendere nuovi strumenti e nuove pratiche terapeutiche. \nRichiesta iscrizione fino al 06/07/2024 clicca qui. \nL’evento è gratuito ed è destinato a medici psichiatri.
URL:https://www.salutementale.net/event/master-specialistico-in-psicoterapia-cognitivo-comportamentale/
LOCATION:Online e in Presenza
CATEGORIES:Seminario
ATTACH;FMTTYPE=image/jpeg:https://www.salutementale.net/wp-content/uploads/2024/06/evento-studi-cognitivi.jpeg
END:VEVENT
END:VCALENDAR