BEGIN:VCALENDAR
VERSION:2.0
PRODID:-//Salutementale.net - ECPv6.15.17.1//NONSGML v1.0//EN
CALSCALE:GREGORIAN
METHOD:PUBLISH
X-ORIGINAL-URL:https://www.salutementale.net
X-WR-CALDESC:Eventi per Salutementale.net
REFRESH-INTERVAL;VALUE=DURATION:PT1H
X-Robots-Tag:noindex
X-PUBLISHED-TTL:PT1H
BEGIN:VTIMEZONE
TZID:Europe/Rome
BEGIN:DAYLIGHT
TZOFFSETFROM:+0100
TZOFFSETTO:+0200
TZNAME:CEST
DTSTART:20220327T010000
END:DAYLIGHT
BEGIN:STANDARD
TZOFFSETFROM:+0200
TZOFFSETTO:+0100
TZNAME:CET
DTSTART:20221030T010000
END:STANDARD
BEGIN:DAYLIGHT
TZOFFSETFROM:+0100
TZOFFSETTO:+0200
TZNAME:CEST
DTSTART:20230326T010000
END:DAYLIGHT
BEGIN:STANDARD
TZOFFSETFROM:+0200
TZOFFSETTO:+0100
TZNAME:CET
DTSTART:20231029T010000
END:STANDARD
BEGIN:DAYLIGHT
TZOFFSETFROM:+0100
TZOFFSETTO:+0200
TZNAME:CEST
DTSTART:20240331T010000
END:DAYLIGHT
BEGIN:STANDARD
TZOFFSETFROM:+0200
TZOFFSETTO:+0100
TZNAME:CET
DTSTART:20241027T010000
END:STANDARD
END:VTIMEZONE
BEGIN:VEVENT
DTSTART;TZID=Europe/Rome:20231204T170000
DTEND;TZID=Europe/Rome:20231204T190000
DTSTAMP:20260423T210738
CREATED:20231122T100633Z
LAST-MODIFIED:20231122T103625Z
UID:23774-1701709200-1701716400@www.salutementale.net
SUMMARY:Radio torri de Roma
DESCRIPTION:Il 4 dicembre alle ore 17 presso il teatro Tor Bella Monaca si terrà l’evento-spettacolo a via Bruno Cirino 5. \n \n  \n 
URL:https://www.salutementale.net/event/radio-torri-de-roma/
LOCATION:Via Bruno Cirino\, 5/Roma
CATEGORIES:Spettacolo,Evento culturale
END:VEVENT
BEGIN:VEVENT
DTSTART;TZID=Europe/Rome:20231205T110000
DTEND;TZID=Europe/Rome:20231205T170000
DTSTAMP:20260423T210738
CREATED:20231106T112502Z
LAST-MODIFIED:20231106T113829Z
UID:23717-1701774000-1701795600@www.salutementale.net
SUMMARY:Nadia Terranova: Trema la notte
DESCRIPTION:Il 5 dicembre si terrà la presentazione del libro Trema la notte di Nadia Rovatti presso via bellegra 46 in Roma. \n \n 
URL:https://www.salutementale.net/event/nadia-terranova-trema-la-notte/
LOCATION:via bellegra 46/Roma
CATEGORIES:Conferenza,Convegno,Evento culturale
END:VEVENT
BEGIN:VEVENT
DTSTART;TZID=Europe/Rome:20231210T080000
DTEND;TZID=Europe/Rome:20231210T170000
DTSTAMP:20260423T210738
CREATED:20231205T160242Z
LAST-MODIFIED:20231205T161622Z
UID:23897-1702195200-1702227600@www.salutementale.net
SUMMARY:Tu parli ed io ascolto
DESCRIPTION:Domenica 10 dicembre si terrà la presentazione del libro  “Del silenzio non si può tacere”. \nOCCORRE prenotazione obbligatorie presso mail: editore@scione.it \n \n 
URL:https://www.salutementale.net/event/tu-parli-ed-io-ascolto/
LOCATION:via degli apuli 36/Roma/libreria Scione editore
CATEGORIES:Conferenza,Convegno,Presentazione Libri,congresso,Evento culturale
END:VEVENT
END:VCALENDAR