BEGIN:VCALENDAR
VERSION:2.0
PRODID:-//Salutementale.net - ECPv6.15.17.1//NONSGML v1.0//EN
CALSCALE:GREGORIAN
METHOD:PUBLISH
X-ORIGINAL-URL:https://www.salutementale.net
X-WR-CALDESC:Eventi per Salutementale.net
REFRESH-INTERVAL;VALUE=DURATION:PT1H
X-Robots-Tag:noindex
X-PUBLISHED-TTL:PT1H
BEGIN:VTIMEZONE
TZID:Europe/Rome
BEGIN:DAYLIGHT
TZOFFSETFROM:+0100
TZOFFSETTO:+0200
TZNAME:CEST
DTSTART:20220327T010000
END:DAYLIGHT
BEGIN:STANDARD
TZOFFSETFROM:+0200
TZOFFSETTO:+0100
TZNAME:CET
DTSTART:20221030T010000
END:STANDARD
BEGIN:DAYLIGHT
TZOFFSETFROM:+0100
TZOFFSETTO:+0200
TZNAME:CEST
DTSTART:20230326T010000
END:DAYLIGHT
BEGIN:STANDARD
TZOFFSETFROM:+0200
TZOFFSETTO:+0100
TZNAME:CET
DTSTART:20231029T010000
END:STANDARD
BEGIN:DAYLIGHT
TZOFFSETFROM:+0100
TZOFFSETTO:+0200
TZNAME:CEST
DTSTART:20240331T010000
END:DAYLIGHT
BEGIN:STANDARD
TZOFFSETFROM:+0200
TZOFFSETTO:+0100
TZNAME:CET
DTSTART:20241027T010000
END:STANDARD
END:VTIMEZONE
BEGIN:VEVENT
DTSTART;TZID=Europe/Rome:20231104T100000
DTEND;TZID=Europe/Rome:20231104T130000
DTSTAMP:20260423T222257
CREATED:20230615T152215Z
LAST-MODIFIED:20230615T152215Z
UID:22524-1699092000-1699102800@www.salutementale.net
SUMMARY:L’attenzione. Tra paesaggio e destino
DESCRIPTION:L’attenzione. Tra paesaggio e destino \n \n 
URL:https://www.salutementale.net/event/lattenzione-tra-paesaggio-e-destino/
LOCATION:via savoia 23\, Roma/online
CATEGORIES:Conferenza,Convegno,congresso
END:VEVENT
BEGIN:VEVENT
DTSTART;TZID=Europe/Rome:20231115T180000
DTEND;TZID=Europe/Rome:20231115T180000
DTSTAMP:20260423T222257
CREATED:20231113T110916Z
LAST-MODIFIED:20231114T151929Z
UID:23730-1700071200-1700071200@www.salutementale.net
SUMMARY:A colloquio con Samah Jabr
DESCRIPTION:Incontro con la psicoterapeuta\, psichiatra e scrittrice Samah Jabr. “In Palestina c’è molto da imparare”. Partiremo da questa semplice affermazione di Samah Jabr per riflettere su cosa significa lavorare per la salute degli individui e della comunità in un contesto di occupazione coloniale. La pace come la libertà è terapeutica. \n  \n 
URL:https://www.salutementale.net/event/a-colloquio-con-samah-jabr/
LOCATION:via degli apuli 36/Roma/libreria Scione editore
CATEGORIES:Conferenza,Convegno,congresso
END:VEVENT
BEGIN:VEVENT
DTSTART;TZID=Europe/Rome:20231115T210000
DTEND;TZID=Europe/Rome:20231115T230000
DTSTAMP:20260423T222257
CREATED:20230615T152659Z
LAST-MODIFIED:20230615T152659Z
UID:22527-1700082000-1700089200@www.salutementale.net
SUMMARY:Il caso di Dora
DESCRIPTION:Il caso di Dora
URL:https://www.salutementale.net/event/il-caso-di-dora/
LOCATION:via savoia 23\, Roma/online
CATEGORIES:Conferenza,Convegno,congresso,Congresso online
END:VEVENT
BEGIN:VEVENT
DTSTART;TZID=Europe/Rome:20231123T080000
DTEND;TZID=Europe/Rome:20231125T170000
DTSTAMP:20260423T222257
CREATED:20230904T094447Z
LAST-MODIFIED:20230904T101219Z
UID:22766-1700726400-1700931600@www.salutementale.net
SUMMARY:Oltre il posto letto: Riabilitare la residenzialità
DESCRIPTION:Si terrà a Bologna\, dal 23 al 25 novembre 2023\, il XV Congresso SIEP che avrà per tema la residenzialità in salute mentale. Le strutture residenziali assorbono molte risorse dei Servizi e si prestano a una riflessione critica per numerosi aspetti. Più in generale saranno discussi i limiti di una residenzialità pensata secondo un modello “lineare” da strutture a maggiore intensità terapeutico-riabilitativa e assistenziale verso l’indipendenza abitativa. \nE’ estesa al 15 settembre la deadline per l’invio di abstract.
URL:https://www.salutementale.net/event/oltre-il-posto-letto-riabilitare-la-residenzialita/
LOCATION:Bologna
CATEGORIES:congresso,Corso di aggiornamento ECM
ATTACH;FMTTYPE=image/jpeg:https://www.salutementale.net/wp-content/uploads/2023/09/130623-02-5.jpg
END:VEVENT
BEGIN:VEVENT
DTSTART;TZID=Europe/Rome:20231125T080000
DTEND;TZID=Europe/Rome:20231125T170000
DTSTAMP:20260423T222257
CREATED:20231002T095449Z
LAST-MODIFIED:20231002T100518Z
UID:23199-1700899200-1700931600@www.salutementale.net
SUMMARY:Rischio suicidario e condotte autolesive
DESCRIPTION:Il suicidio è al secondo posto tra le cause di morte nella fascia d’età tra i 15 e i 29 anni\, secondo l’Organizzazione Mondiale della Sanità. Adolescenti e giovani adulti sono la popolazione più a rischio per la messa in atto di comportamenti autolesionistici. L’evento\, nato dalla collaborazione tra Erickson e Raffello Cortina Editore\, offre a psicologi\, psicoterapeuti e neuropsichiatri una panoramica aggiornata sulle attuali conoscenze relative ai comportamenti autolesionistici e presenta alcune modalità di valutazione e intervento utili a riconoscere e prevenire efficacemente questi comportamenti. \n \n 
URL:https://www.salutementale.net/event/rischio-suicidario-e-condotte-autolesive/
LOCATION:Roma\, viale Etiopia 20 /online
CATEGORIES:Conferenza,Corso,Corso di aggiornamento ECM
END:VEVENT
BEGIN:VEVENT
DTSTART;TZID=Europe/Rome:20231125T100000
DTEND;TZID=Europe/Rome:20231125T180000
DTSTAMP:20260423T222257
CREATED:20230615T153256Z
LAST-MODIFIED:20230615T153256Z
UID:22530-1700906400-1700935200@www.salutementale.net
SUMMARY:Il lavoro con i genitori nella consultazione con l’adolescente. Alleanza terapeutica analista-adolescente-genitore
DESCRIPTION:Il lavoro con i genitori nella consultazione con l’adolescente. Alleanza terapeutica analista-adolescente-genitore \n \n 
URL:https://www.salutementale.net/event/il-lavoro-con-i-genitori-nella-consultazione-con-ladolescente-alleanza-terapeutica-analista-adolescente-genitore/
LOCATION:via savoia 23\, Roma/online
CATEGORIES:Conferenza,Convegno,congresso,Congresso online
END:VEVENT
BEGIN:VEVENT
DTSTART;TZID=Europe/Rome:20231127T143000
DTEND;TZID=Europe/Rome:20231127T183000
DTSTAMP:20260423T222257
CREATED:20231122T104423Z
LAST-MODIFIED:20231122T111015Z
UID:23781-1701095400-1701109800@www.salutementale.net
SUMMARY:Convegno inclusione e lavoro
DESCRIPTION:Nel corso dell’evento saranno consegnati i premi “Aidp” Roma per il lavoro \n \n 
URL:https://www.salutementale.net/event/convegno-inclusione-e-lavoro/
LOCATION:villa altieri\,viale manzoni 47/Roma
CATEGORIES:Conferenza,congresso,Incontro,Giornata
END:VEVENT
BEGIN:VEVENT
DTSTART;TZID=Europe/Rome:20231128T180000
DTEND;TZID=Europe/Rome:20231128T180000
DTSTAMP:20260423T222257
CREATED:20231122T111424Z
LAST-MODIFIED:20231128T150113Z
UID:23790-1701194400-1701194400@www.salutementale.net
SUMMARY:Psichiatria Democratica 50 anni straordinari
DESCRIPTION:Martedì 28 novembre 2023 ore 18:00 si terrà la presentazione del libro “Psichiatria Democratica 50 anni straordinari” presso la Libreria di palazzo delle Esposizioni a Roma\, in via Milano 15/17. \nA seguire si darà inizio alla festa per i 50 anni di Psichiatria Democratica presso il Caffè delle Esposizioni in via Nazionale 194/A.
URL:https://www.salutementale.net/event/psichiatria-democratica-compie-50-anni/
LOCATION:Libreria di Palazzo Esposizioni Roma via Milano 15/17\, Roma
CATEGORIES:Conferenza,Convegno,congresso
END:VEVENT
END:VCALENDAR