BEGIN:VCALENDAR
VERSION:2.0
PRODID:-//Salutementale.net - ECPv6.15.17.1//NONSGML v1.0//EN
CALSCALE:GREGORIAN
METHOD:PUBLISH
X-ORIGINAL-URL:https://www.salutementale.net
X-WR-CALDESC:Eventi per Salutementale.net
REFRESH-INTERVAL;VALUE=DURATION:PT1H
X-Robots-Tag:noindex
X-PUBLISHED-TTL:PT1H
BEGIN:VTIMEZONE
TZID:Europe/Rome
BEGIN:DAYLIGHT
TZOFFSETFROM:+0100
TZOFFSETTO:+0200
TZNAME:CEST
DTSTART:20220327T010000
END:DAYLIGHT
BEGIN:STANDARD
TZOFFSETFROM:+0200
TZOFFSETTO:+0100
TZNAME:CET
DTSTART:20221030T010000
END:STANDARD
BEGIN:DAYLIGHT
TZOFFSETFROM:+0100
TZOFFSETTO:+0200
TZNAME:CEST
DTSTART:20230326T010000
END:DAYLIGHT
BEGIN:STANDARD
TZOFFSETFROM:+0200
TZOFFSETTO:+0100
TZNAME:CET
DTSTART:20231029T010000
END:STANDARD
BEGIN:DAYLIGHT
TZOFFSETFROM:+0100
TZOFFSETTO:+0200
TZNAME:CEST
DTSTART:20240331T010000
END:DAYLIGHT
BEGIN:STANDARD
TZOFFSETFROM:+0200
TZOFFSETTO:+0100
TZNAME:CET
DTSTART:20241027T010000
END:STANDARD
END:VTIMEZONE
BEGIN:VEVENT
DTSTART;TZID=Europe/Rome:20230906T080000
DTEND;TZID=Europe/Rome:20230908T170000
DTSTAMP:20260424T010335
CREATED:20230612T100906Z
LAST-MODIFIED:20230612T101605Z
UID:22453-1693987200-1694192400@www.salutementale.net
SUMMARY:XIX Congresso Nazionale della Sezione di Psicologia per le Organizzazioni
DESCRIPTION:Le profonde trasformazioni sociali\, economiche e culturali della nostra contemporaneità\, caratterizzata da complessità crescente\, ci pongono davanti a questioni etiche che impattano profondamente sulla vita personale e professionale delle persone. Il tema generale del Congresso AIP 2023 richiama a memoria l’opera di Dante\, la “Vita Nuova” cui ci siamo ispirati con l’intento di dischiudere nuove visioni del presente per accompagnare individui\, gruppi e organizzazioni dentro scenari inediti di cambiamento. \nPer partecipare è necessario iscriversi alla Sezione di Psicologia per le Organizzazioni al seguente link (l’iscrizione ha un costo): https://registration.ccicongress.com/cmsweb/Login.asp?IDcommessa=C070/23&Lang=IT
URL:https://www.salutementale.net/event/xix-congresso-nazionale-della-sezione-di-psicologia-per-le-organizzazioni/
LOCATION:Aula Magna del Rettorato dell’Università di Cagliari (Palazzo Belgrano\, via Università\, 40)/Facoltà di Ingegneria e Architettura (Ex complesso Mauriziano – Via Corte d’Appello\, 87)
CATEGORIES:congresso
END:VEVENT
BEGIN:VEVENT
DTSTART;TZID=Europe/Rome:20230912T080000
DTEND;TZID=Europe/Rome:20230913T170000
DTSTAMP:20260424T010335
CREATED:20230906T085353Z
LAST-MODIFIED:20230906T090634Z
UID:22796-1694505600-1694624400@www.salutementale.net
SUMMARY:Convegno internazionale di suicidologia e salute pubblica
DESCRIPTION:Il Convegno Internazionale di Suicidologia e Salute Pubblica si colloca all’interno della cornice della Giornata Mondiale per la Prevenzione del Suicidio che ricorre il 10 Settembre di ogni anno. L’evento gratuito\, accreditato ECM\, consolidato nel tempo come spazio di incontro e raccordo multidisciplinare\, si propone come cassa di risonanza per aumentare la consapevolezza sul fenomeno\, incentivare azioni di promozione e prevenzione. \n \n  \n 
URL:https://www.salutementale.net/event/convegno-internazionale-di-suicidologia-e-salute-pubblica/
LOCATION:piazzale Aldo Moro 5 (Aula magna del Rettorato)\, Roma
CATEGORIES:Convegno,Corso di aggiornamento ECM
END:VEVENT
BEGIN:VEVENT
DTSTART;TZID=Europe/Rome:20230914T080000
DTEND;TZID=Europe/Rome:20230917T170000
DTSTAMP:20260424T010335
CREATED:20230612T094809Z
LAST-MODIFIED:20230612T095640Z
UID:22445-1694678400-1694970000@www.salutementale.net
SUMMARY:XXIII Congresso della Sezione di Psicologia Clinica e Dinamica AIP
DESCRIPTION:Il XXIII Congresso Nazionale della Sezione di Psicologia Clinica e Dinamica è organizzato dalla Sezione di Psicologia Clinica e Dinamica AIP in collaborazione con l’Università di Firenze e si svolgerà dal 14 al 17 settembre 2023 presso il Campus delle Scienze Sociali dell’Università di Firenze\, Novoli\, Firenze.
URL:https://www.salutementale.net/event/xxiii-congresso-della-sezione-di-psicologia-clinica-e-dinamica-aip/
LOCATION:Campus delle Scienze Sociali dell’Università di Firenze\, Novoli\, Firenze
CATEGORIES:congresso
END:VEVENT
BEGIN:VEVENT
DTSTART;TZID=Europe/Rome:20230915T090000
DTEND;TZID=Europe/Rome:20230917T183000
DTSTAMP:20260424T010335
CREATED:20230704T092722Z
LAST-MODIFIED:20230704T093839Z
UID:22627-1694768400-1694975400@www.salutementale.net
SUMMARY:Attaccamento e Trauma 2023: Accogliere e riparare il Sé traumatizzato in psicoterapia
DESCRIPTION:Questa nuova edizione del congresso Attaccamento e Trauma esplorerà le origini e le possibili evoluzioni derivate dalle esperienze traumatiche nell’attaccamento. Le neuroscienze hanno contribuito ad evidenziare l’importanza imprescindibile del senso di sicurezza nello sviluppo del sé individuale. Altrettanto importante è il soddisfacimento del bisogno di autonomia\, il riconoscimento di sé come individuo. Le esperienze traumatiche nell’attaccamento sgretolano il senso di fiducia e di coesione del sé\, dando origine a diversi possibili quadri psicopatologici\, che rappresentano il tentativo dell’individuo di adattarsi al trauma\, modellando il proprio sistema di funzionamento sull’ambiente. \nISCRIZIONI VALIDE FINO AL 31/07/2023 \n 
URL:https://www.salutementale.net/event/attaccamento-e-trauma-2023-accogliere-e-riparare-il-se-traumatizzato-in-psicoterapia/
LOCATION:Roma\, presso Auditorium Antonianum (Viale Manzoni\, 1\, 00185 Roma)/ONLINE su zoom
CATEGORIES:Congresso online,Conferenza,Convegno,congresso,Corso,Corso online,Corso di aggiornamento ECM
END:VEVENT
BEGIN:VEVENT
DTSTART;TZID=Europe/Rome:20230918T150000
DTEND;TZID=Europe/Rome:20230918T190000
DTSTAMP:20260424T010335
CREATED:20230914T145652Z
LAST-MODIFIED:20230914T150943Z
UID:22848-1695049200-1695063600@www.salutementale.net
SUMMARY:Esprimi te stesso e combatti con noi il tuo malessere mentale
DESCRIPTION:Il 18 settembre presso la Fondazione Di Liegro avrà luogo l’ open day di molteplici attività. Vieni a scoprire come l’arte e la condivisione possono diventare strumenti di rinascita e crescita personale. Non lasciare che il disagio limiti la tua vita\, unisciti a noi e intraprendi un viaggio di trasformazione! \nTra i corsi vi sono: \n– Laboratorio di Teatro\n– Laboratorio di Musica\n– Laboratorio di Fotografia\n– Laboratorio di Narrazione Creativa\n– Laboratorio Artistico Creativo \nSenza dimenticare i gruppi di ascolto familiare come Gruppi di Aiuto-Aiuto per i Familiari\, i Gruppi Multifamiliari\, Servizio di supporto e assistenza SOSS\, \nPresentazione laboratori:\ndalle 15 alle 17. \nIscrizione ai laboratori:\ndalle 17 alle 19. \nnon mancate! \n \n  \n  \n  \n  \n 
URL:https://www.salutementale.net/event/esprimi-te-stesso-e-combatti-con-noi-il-tuo-malessere-mentale/
LOCATION:Fondazione Di Liegro – Via Ostiense 106 – Roma
CATEGORIES:Corso
END:VEVENT
BEGIN:VEVENT
DTSTART;TZID=Europe/Rome:20230921T080000
DTEND;TZID=Europe/Rome:20231019T170000
DTSTAMP:20260424T010335
CREATED:20230925T100721Z
LAST-MODIFIED:20230925T101812Z
UID:22942-1695283200-1697734800@www.salutementale.net
SUMMARY:Che cos'è la Recovery? Prima edizione
DESCRIPTION:Il partecipante facilitato dagli esperti potrà conoscere e approfondire le tematiche del modello della Recovery: un percorso di cambiamento e di ripresa personale dall’esperienza della malattia mentale verso una “guarigione personale”. \n \n 
URL:https://www.salutementale.net/event/che-cose-la-recovery-prima-edizione/
LOCATION:Centro di Salute Mentale San Donato/San Vitale\, via Zanolini 2\, Bologna
CATEGORIES:Conferenza,Convegno,congresso,Corso
END:VEVENT
BEGIN:VEVENT
DTSTART;TZID=Europe/Rome:20230922T080000
DTEND;TZID=Europe/Rome:20230922T170000
DTSTAMP:20260424T010335
CREATED:20230608T142657Z
LAST-MODIFIED:20230608T143823Z
UID:22429-1695369600-1695402000@www.salutementale.net
SUMMARY:Il sistema per i servizi della salute mentale è in crisi?
DESCRIPTION:Le trasformazioni cui\, nel corso degli ultimi anni\, è andato incontro il tessuto sociale del nostro Paese hanno determinato l’emergere di nuovi e più articolati bisogni a cui i servizi sanitari non sembrano essere più in grado di fornire risposte adeguate. Questa crisi investe anche il mondo dei servizi di salute mentale.
URL:https://www.salutementale.net/event/il-sistema-per-i-servizi-della-salute-mentale-e-in-crisi/
LOCATION:Rovigo
CATEGORIES:Conferenza,Convegno,congresso
END:VEVENT
BEGIN:VEVENT
DTSTART;TZID=Europe/Rome:20230927T080000
DTEND;TZID=Europe/Rome:20230929T170000
DTSTAMP:20260424T010335
CREATED:20230619T092129Z
LAST-MODIFIED:20230619T092916Z
UID:22533-1695801600-1696006800@www.salutementale.net
SUMMARY:Mind the gap: l'intervento precoce
DESCRIPTION:Mind the gap: l’intervento precoce \n \n 
URL:https://www.salutementale.net/event/mind-the-gap-lintervento-precoce/
LOCATION:Università degli Studi di Bari “Aldo Moro” Piazza Umberto I\, 1 – 70121 Bari
CATEGORIES:congresso
END:VEVENT
BEGIN:VEVENT
DTSTART;TZID=Europe/Rome:20230928T080000
DTEND;TZID=Europe/Rome:20230930T170000
DTSTAMP:20260424T010335
CREATED:20230607T102309Z
LAST-MODIFIED:20230607T103057Z
UID:22419-1695888000-1696093200@www.salutementale.net
SUMMARY:Sentieri di ben-essere
DESCRIPTION:Dal 28 al 30 settembre 2023\, Nicolosi ospiterà il IX Convegno Nazionale di Montagnaterapia. E’ il Convegno ufficiale della Società Italiana di Montagnaterapia. Quest’anno il Convegno conterrà una sessione congiunta con i paralleli convegni della Commissione Centrale Medica del Club Alpino Italiano e con la Società Italiana di Medicina di Montagna in programma al Parco dell’Etna.
URL:https://www.salutementale.net/event/sentieri-di-ben-essere/
LOCATION:Nicolosi (CT)
CATEGORIES:Conferenza,Convegno,congresso
END:VEVENT
BEGIN:VEVENT
DTSTART;TZID=Europe/Rome:20230930T100000
DTEND;TZID=Europe/Rome:20230930T130000
DTSTAMP:20260424T010335
CREATED:20230615T150644Z
LAST-MODIFIED:20230615T151225Z
UID:22513-1696068000-1696078800@www.salutementale.net
SUMMARY:Risorse della psicologia analitica per la salute e il benessere
DESCRIPTION:Risorse della psicologia analitica per la salute e il benessere \n \n  \n  \n 
URL:https://www.salutementale.net/event/risorse-della-psicologia-analitica-per-la-salute-e-il-benessere/
LOCATION:via savoia 23\, Roma/online
CATEGORIES:Conferenza,Convegno,congresso
END:VEVENT
END:VCALENDAR