BEGIN:VCALENDAR
VERSION:2.0
PRODID:-//Salutementale.net - ECPv6.15.17.1//NONSGML v1.0//EN
CALSCALE:GREGORIAN
METHOD:PUBLISH
X-ORIGINAL-URL:https://www.salutementale.net
X-WR-CALDESC:Eventi per Salutementale.net
REFRESH-INTERVAL;VALUE=DURATION:PT1H
X-Robots-Tag:noindex
X-PUBLISHED-TTL:PT1H
BEGIN:VTIMEZONE
TZID:Europe/Rome
BEGIN:DAYLIGHT
TZOFFSETFROM:+0100
TZOFFSETTO:+0200
TZNAME:CEST
DTSTART:20220327T010000
END:DAYLIGHT
BEGIN:STANDARD
TZOFFSETFROM:+0200
TZOFFSETTO:+0100
TZNAME:CET
DTSTART:20221030T010000
END:STANDARD
BEGIN:DAYLIGHT
TZOFFSETFROM:+0100
TZOFFSETTO:+0200
TZNAME:CEST
DTSTART:20230326T010000
END:DAYLIGHT
BEGIN:STANDARD
TZOFFSETFROM:+0200
TZOFFSETTO:+0100
TZNAME:CET
DTSTART:20231029T010000
END:STANDARD
BEGIN:DAYLIGHT
TZOFFSETFROM:+0100
TZOFFSETTO:+0200
TZNAME:CEST
DTSTART:20240331T010000
END:DAYLIGHT
BEGIN:STANDARD
TZOFFSETFROM:+0200
TZOFFSETTO:+0100
TZNAME:CET
DTSTART:20241027T010000
END:STANDARD
END:VTIMEZONE
BEGIN:VEVENT
DTSTART;TZID=Europe/Rome:20230705T080000
DTEND;TZID=Europe/Rome:20230705T170000
DTSTAMP:20260424T034458
CREATED:20230607T095733Z
LAST-MODIFIED:20230607T100221Z
UID:22409-1688544000-1688576400@www.salutementale.net
SUMMARY:Raccomandazioni di  buone pratiche  in riabilitazione psicosociale
DESCRIPTION:Promosso dalla Società Italiana di Riabilitazione Psicosociale (SIRP)\, il prossimo 5 luglio si svolgerà al CEFPAS il Convegno “Le raccomandazioni di buone pratiche in riabilitazione psicosociale”\, con l’obiettivo di diffondere le raccomandazioni realizzate in sede ministeriale dalla stessa SIRP in ambito psichiatrico e della salute mentale degli adulti.
URL:https://www.salutementale.net/event/raccomandazioni-di-buone-pratiche-in-riabilitazione-psicosociale/
LOCATION:CEFPAS
CATEGORIES:Conferenza,Convegno,congresso
END:VEVENT
BEGIN:VEVENT
DTSTART;TZID=Europe/Rome:20230710T080000
DTEND;TZID=Europe/Rome:20230714T170000
DTSTAMP:20260424T034458
CREATED:20230608T144010Z
LAST-MODIFIED:20230608T144156Z
UID:22436-1688976000-1689354000@www.salutementale.net
SUMMARY:Congresso Internazionale sugli interventi precoci nella salute mentale
DESCRIPTION:Informazioni sul programma o sugli eventi collegati saranno aggiunti prossimamente quando disponibili.
URL:https://www.salutementale.net/event/congresso-internazionale-sugli-interventi-precoci-nella-salute-mentale/
LOCATION:Losanna
CATEGORIES:congresso
END:VEVENT
END:VCALENDAR