BEGIN:VCALENDAR
VERSION:2.0
PRODID:-//Salutementale.net - ECPv6.15.17.1//NONSGML v1.0//EN
CALSCALE:GREGORIAN
METHOD:PUBLISH
X-ORIGINAL-URL:https://www.salutementale.net
X-WR-CALDESC:Eventi per Salutementale.net
REFRESH-INTERVAL;VALUE=DURATION:PT1H
X-Robots-Tag:noindex
X-PUBLISHED-TTL:PT1H
BEGIN:VTIMEZONE
TZID:Europe/Rome
BEGIN:DAYLIGHT
TZOFFSETFROM:+0100
TZOFFSETTO:+0200
TZNAME:CEST
DTSTART:20220327T010000
END:DAYLIGHT
BEGIN:STANDARD
TZOFFSETFROM:+0200
TZOFFSETTO:+0100
TZNAME:CET
DTSTART:20221030T010000
END:STANDARD
BEGIN:DAYLIGHT
TZOFFSETFROM:+0100
TZOFFSETTO:+0200
TZNAME:CEST
DTSTART:20230326T010000
END:DAYLIGHT
BEGIN:STANDARD
TZOFFSETFROM:+0200
TZOFFSETTO:+0100
TZNAME:CET
DTSTART:20231029T010000
END:STANDARD
BEGIN:DAYLIGHT
TZOFFSETFROM:+0100
TZOFFSETTO:+0200
TZNAME:CEST
DTSTART:20240331T010000
END:DAYLIGHT
BEGIN:STANDARD
TZOFFSETFROM:+0200
TZOFFSETTO:+0100
TZNAME:CET
DTSTART:20241027T010000
END:STANDARD
END:VTIMEZONE
BEGIN:VEVENT
DTSTART;TZID=Europe/Rome:20230413T190000
DTEND;TZID=Europe/Rome:20230608T210000
DTSTAMP:20260424T045500
CREATED:20230411T142609Z
LAST-MODIFIED:20230417T102655Z
UID:21980-1681412400-1686258000@www.salutementale.net
SUMMARY:Psicoanalisi e crimine. legami spezzati
DESCRIPTION:Note a margine di un’esperienza di ascolto di uomini condannati e detenuti dal silenzio della pulsione.\nIl discorso analitico\, forma inedita di legame sociale\, può umanizzare riannodando corpo e parola? \nPer iscriversi inviare una email a: segreteria@istitutofreudiano.it\ntel. 066786703 \n 
URL:https://www.salutementale.net/event/psicoanalisi-e-crimine-legami-spezzati/
LOCATION:via palestro\, 30- Roma/ONLINE su zoom
CATEGORIES:Convegno
END:VEVENT
BEGIN:VEVENT
DTSTART;TZID=Europe/Rome:20230601T090000
DTEND;TZID=Europe/Rome:20230601T170000
DTSTAMP:20260424T045500
CREATED:20230420T142013Z
LAST-MODIFIED:20230420T145703Z
UID:22057-1685610000-1685638800@www.salutementale.net
SUMMARY:REC: Giornata di studio su casi clinici
DESCRIPTION:La giornata inizierà con un’introduzione di teoria della tecnica clinica da parte di Massimo Recalcati della durata di 30-45 minuti.\nIl collega che desideri presentare un caso enigmatico si prenoterà a partire da un momento dato\, al termine della presentazione di Massimo Recalcati. Le presentazioni dei casi verranno presentate in ordine di richiesta dai proponenti fino al termine della giornata di studio.\nCiascun partecipante che presenti una vignetta clinica avrà a disposizione un tempo massimo di sette minuti\, senza deroghe. Consigliamo a chi voglia intervenire di preparare la presentazione del caso considerando il limite di tempo.\nDopo la presentazione di ciascun caso interviene il relatore. In questa fase sarà possibile porre questioni ed effettuare osservazioni. La giornata sarà moderata da Mauro Grimoldi. Ciascun partecipante potrà intervenire una sola volta per ogni caso presentato.\n\n\n\n\n\n\n\n\n 
URL:https://www.salutementale.net/event/rec-giornata-di-studio-su-casi-clinici/
LOCATION:Ristorante Vescovado- Piazzale Rosselli\, 13 Lungomare Marconi – 17026 Noli (Sv) /oppure online
CATEGORIES:Corso,Corso online,Seminario
END:VEVENT
BEGIN:VEVENT
DTSTART;TZID=Europe/Rome:20230602T080000
DTEND;TZID=Europe/Rome:20230604T170000
DTSTAMP:20260424T045500
CREATED:20230509T152648Z
LAST-MODIFIED:20230510T095335Z
UID:22172-1685692800-1685898000@www.salutementale.net
SUMMARY:Progetto terapia familiare sistemica efficace
DESCRIPTION:per iscriversi chiedere informazioni all’indirizzo mail: congressi@hotelcasale.it
URL:https://www.salutementale.net/event/progetto-terapia-familiare-sistemica-efficace/
LOCATION:Hotel Casale-Colli del Tronto/Ascoli Piceno
CATEGORIES:Convegno
END:VEVENT
BEGIN:VEVENT
DTSTART;TZID=Europe/Rome:20230607T090000
DTEND;TZID=Europe/Rome:20230609T143000
DTSTAMP:20260424T045500
CREATED:20230515T104151Z
LAST-MODIFIED:20230515T104955Z
UID:22224-1686128400-1686321000@www.salutementale.net
SUMMARY:Pathways of psychiatry
DESCRIPTION:Il congresso è organizzato dalla cattedra di Psichiatria dell’Università di Roma “Tor Vergata” in collaborazione con l’Accademia delle Scienze Psichiatriche ed è presieduto dal Prof. Alberto Siracusano\, Professore Ordinario di Psichiatria dell’Università di Roma “Tor Vergata”\, dal Prof. Emilio Sacchetti\, Professore Emerito di Psichiatria dell’Università degli Studi di Brescia\, dalla Prof.ssa Cinzia Niolu\, Professore Ordinario di Psichiatria dell’Università di Roma “Tor Vergata”. \n \n 
URL:https://www.salutementale.net/event/pathways-of-psychiatry/
LOCATION:hotel villa pamphili-via della nocetta 105/Roma
CATEGORIES:Conferenza,Convegno,congresso
END:VEVENT
BEGIN:VEVENT
DTSTART;TZID=Europe/Rome:20230609T180000
DTEND;TZID=Europe/Rome:20230609T200000
DTSTAMP:20260424T045500
CREATED:20230531T101506Z
LAST-MODIFIED:20230531T102443Z
UID:22373-1686333600-1686340800@www.salutementale.net
SUMMARY:I cancelli si aprono: niente sarà più come prima
DESCRIPTION:Evento culturale nel parco davanti il padiglione 7 per ricordare Alfredo Lacerenza e tutti coloro che hanno contribuito alla chiusura del manicomio Santa Maria della Pietà ed interrogarci sul disagio di oggi e le risposte della società attuale.
URL:https://www.salutementale.net/event/i-cancelli-si-aprono-niente-sara-piu-come-prima/
LOCATION:santa maria della pietà
CATEGORIES:Convegno
END:VEVENT
BEGIN:VEVENT
DTSTART;TZID=Europe/Rome:20230610T090000
DTEND;TZID=Europe/Rome:20230611T180000
DTSTAMP:20260424T045500
CREATED:20230405T092614Z
LAST-MODIFIED:20230417T082044Z
UID:21960-1686387600-1686506400@www.salutementale.net
SUMMARY:"Contengo moltitudini". La gruppalità nella cura psicoanalitica
DESCRIPTION:Convegno sulla funzione del gruppo nella cura e nell’attenzione psicoanalitica \nPER PARTECIPARE CONTATTARE: paola_lorusso30@yahoo.it
URL:https://www.salutementale.net/event/contegno-moltitudini-la-gruppalita-nella-cura-psicoanalitica/
LOCATION:Palazzo Broletto – Piazza della Vittoria – Pavia
CATEGORIES:Corso
END:VEVENT
BEGIN:VEVENT
DTSTART;TZID=Europe/Rome:20230610T143000
DTEND;TZID=Europe/Rome:20230610T180000
DTSTAMP:20260424T045500
CREATED:20230510T095757Z
LAST-MODIFIED:20230510T100813Z
UID:22190-1686407400-1686420000@www.salutementale.net
SUMMARY:Valorizzare e potenziare la salute mentale
DESCRIPTION:Convegno organizzato  dai promotori del Manifesto per la Salute Mentale in collaborazione con l’Istituto Superiore di Sanità. Interverrà il Ministro della Salute. Si tratta di un importante momento di confronto sui problemi\, le prospettive e le opportunità della Psicoterapia nel SSN. Consideriamo necessario innalzare la qualità dei servizi territoriali di assistenza troppo spesso carenti nel rispondere alle esigenze reali dei nostri concittadini. \nPer Informazioni\, Segreteria SPI: spi@spiweb.it \n \n 
URL:https://www.salutementale.net/event/valorizzare-e-potenziare-la-salute-mentale/
LOCATION:ROMA- Istituto Superiore di Sanità\,Viale Regina Elena 299\, sala Pocchiari
CATEGORIES:Convegno,congresso
END:VEVENT
BEGIN:VEVENT
DTSTART;TZID=Europe/Rome:20230613T210000
DTEND;TZID=Europe/Rome:20230613T230000
DTSTAMP:20260424T045500
CREATED:20230405T094040Z
LAST-MODIFIED:20230405T100914Z
UID:21966-1686690000-1686697200@www.salutementale.net
SUMMARY:SERATA PSICO-LETTERARIA: Tutto chiede salvezza
DESCRIPTION:Serata letteraria che ha come fulcro una speculazione sul libro tutto chiede salvezza
URL:https://www.salutementale.net/event/serata-psico-letteraria-tutto-chiede-salvezza/
LOCATION:Casa della Psicologia-piazza Castello 2\, Milano/Online su piattaforma GoToWebinar
CATEGORIES:Presentazione Libri,Congresso online,Incontro
END:VEVENT
BEGIN:VEVENT
DTSTART;TZID=Europe/Rome:20230616T080000
DTEND;TZID=Europe/Rome:20230616T170000
DTSTAMP:20260424T045500
CREATED:20230605T091138Z
LAST-MODIFIED:20230605T091729Z
UID:22388-1686902400-1686934800@www.salutementale.net
SUMMARY:7 anni di r.e.m.s. in Italia
DESCRIPTION:Convegno sulle r.e.m.s. che si terrà in Puglia a Trani venerdì 16 giugno 2023. \n 
URL:https://www.salutementale.net/event/7-anni-di-r-e-m-s-in-italia/
LOCATION:palazzo san giorgio-via san giorgio 26-trani/(Bari)
CATEGORIES:Corso di aggiornamento ECM,Conferenza,Convegno,congresso
END:VEVENT
BEGIN:VEVENT
DTSTART;TZID=Europe/Rome:20230616T090000
DTEND;TZID=Europe/Rome:20230616T123000
DTSTAMP:20260424T045500
CREATED:20230607T100809Z
LAST-MODIFIED:20230607T102042Z
UID:22413-1686906000-1686918600@www.salutementale.net
SUMMARY:Traiettorie evolutive e percorsi clinici della schizotipia e paranoia
DESCRIPTION:Convegno internazionale sulle “Traiettorie evolutive e percorsi clinici della schizotipia e paranoia”
URL:https://www.salutementale.net/event/traiettorie-evolutive-e-percorsi-clinici-della-schizotipia-e-paranoia/
LOCATION:aula magna istituto di neuropsichiatria infantile-via dei sabelli 108/Roma
CATEGORIES:Conferenza,Convegno,congresso
END:VEVENT
BEGIN:VEVENT
DTSTART;TZID=Europe/Rome:20230617T090000
DTEND;TZID=Europe/Rome:20230617T130000
DTSTAMP:20260424T045500
CREATED:20230614T093916Z
LAST-MODIFIED:20230614T094657Z
UID:22492-1686992400-1687006800@www.salutementale.net
SUMMARY:Le forme della distruttività nella psicopatologia adolescenziale
DESCRIPTION:Un modello di presa in carico integrata tra ospedale e territorio
URL:https://www.salutementale.net/event/le-forme-della-distruttivita-nella-psicopatologia-adolescenziale/
LOCATION:CRPG Ancona/online su zoom
CATEGORIES:Conferenza,Convegno,congresso
END:VEVENT
BEGIN:VEVENT
DTSTART;TZID=Europe/Rome:20230617T090000
DTEND;TZID=Europe/Rome:20230617T133000
DTSTAMP:20260424T045500
CREATED:20230614T092151Z
LAST-MODIFIED:20230614T093128Z
UID:22482-1686992400-1687008600@www.salutementale.net
SUMMARY:Sguardi sul femminile contemporaneo
DESCRIPTION:Riprendiamo le fila dell’approfondimento tematico proposto dal ciclo di seminari  “Sguardi sul femminile contemporaneo”\, nel secondo incontro dedicato a “Il femminile nella prima infanzia”\, dove l’approccio pedagogico e quello psicoanalitico si troveranno a dialogare sul ruolo di natura e cultura nella costruzione del genere nella fascia di età 0-6. Costo intero ciclo di seminari con ECM=€100/costo seminario unico senza ECM=€30 \n \n 
URL:https://www.salutementale.net/event/sguardi-sul-femminile-contemporaneo/
LOCATION:largo angelicum 1 \, Roma
CATEGORIES:Corso di aggiornamento ECM,Convegno,congresso,Seminario
END:VEVENT
BEGIN:VEVENT
DTSTART;TZID=Europe/Rome:20230617T100000
DTEND;TZID=Europe/Rome:20230617T130000
DTSTAMP:20260424T045500
CREATED:20230614T095053Z
LAST-MODIFIED:20230614T095559Z
UID:22499-1686996000-1687006800@www.salutementale.net
SUMMARY:E' cambiato lo psichismo mafioso?
DESCRIPTION:Il seminario scientifico è aperto al pubblico senza iscrizione. \n \n 
URL:https://www.salutementale.net/event/e-cambiato-lo-psichismo-mafioso/
LOCATION:via gorizia 23 \, Catania/online su zoom
CATEGORIES:Conferenza,Convegno,congresso
END:VEVENT
BEGIN:VEVENT
DTSTART;TZID=Europe/Rome:20230624T093000
DTEND;TZID=Europe/Rome:20230624T130000
DTSTAMP:20260424T045500
CREATED:20230614T100213Z
LAST-MODIFIED:20230614T100459Z
UID:22504-1687599000-1687611600@www.salutementale.net
SUMMARY:Lavorare con i gruppi nella scuola: uno sguardo psicoanalitico
DESCRIPTION:Tavola rotonda a cura del Gruppo Scuola
URL:https://www.salutementale.net/event/lavorare-con-i-gruppi-nella-scuola-uno-sguardo-psicoanalitico/
LOCATION:Sala Convegni Piazza Guerrazzi – Pisa/online su zoom
CATEGORIES:Conferenza,Convegno,congresso
END:VEVENT
END:VCALENDAR