BEGIN:VCALENDAR
VERSION:2.0
PRODID:-//Salutementale.net - ECPv6.15.17.1//NONSGML v1.0//EN
CALSCALE:GREGORIAN
METHOD:PUBLISH
X-ORIGINAL-URL:https://www.salutementale.net
X-WR-CALDESC:Eventi per Salutementale.net
REFRESH-INTERVAL;VALUE=DURATION:PT1H
X-Robots-Tag:noindex
X-PUBLISHED-TTL:PT1H
BEGIN:VTIMEZONE
TZID:Europe/Rome
BEGIN:DAYLIGHT
TZOFFSETFROM:+0100
TZOFFSETTO:+0200
TZNAME:CEST
DTSTART:20210328T010000
END:DAYLIGHT
BEGIN:STANDARD
TZOFFSETFROM:+0200
TZOFFSETTO:+0100
TZNAME:CET
DTSTART:20211031T010000
END:STANDARD
BEGIN:DAYLIGHT
TZOFFSETFROM:+0100
TZOFFSETTO:+0200
TZNAME:CEST
DTSTART:20220327T010000
END:DAYLIGHT
BEGIN:STANDARD
TZOFFSETFROM:+0200
TZOFFSETTO:+0100
TZNAME:CET
DTSTART:20221030T010000
END:STANDARD
BEGIN:DAYLIGHT
TZOFFSETFROM:+0100
TZOFFSETTO:+0200
TZNAME:CEST
DTSTART:20230326T010000
END:DAYLIGHT
BEGIN:STANDARD
TZOFFSETFROM:+0200
TZOFFSETTO:+0100
TZNAME:CET
DTSTART:20231029T010000
END:STANDARD
END:VTIMEZONE
BEGIN:VEVENT
DTSTART;TZID=Europe/Rome:20221110T140000
DTEND;TZID=Europe/Rome:20221112T210000
DTSTAMP:20260424T125904
CREATED:20221102T110107Z
LAST-MODIFIED:20221202T090044Z
UID:20731-1668088800-1668286800@www.salutementale.net
SUMMARY:Festival tracce
DESCRIPTION:In questo festival che si terrà a Roma dal 10 al 12 novembre si celebrerà un sincretismo culturale tra la Asl Roma 2 e il dipartimento parigino Centre Hospitalier Les Murets di Parigi (La Queue en Brie). Qui verranno esposte delle opere capaci di far viaggiare l’osservatore attraverso la dimensione antropologica del malato rispetto a quella dell’istituzione. \nPer visualizzare il programma completo clicca qui: Festival tracce#1
URL:https://www.salutementale.net/event/festival-tracce/
LOCATION:San Paolo\, Roma
CATEGORIES:Festival
END:VEVENT
BEGIN:VEVENT
DTSTART;TZID=Europe/Rome:20221118T080000
DTEND;TZID=Europe/Rome:20221119T170000
DTSTAMP:20260424T125904
CREATED:20221102T103256Z
LAST-MODIFIED:20221102T104928Z
UID:20722-1668758400-1668877200@www.salutementale.net
SUMMARY:Istinto di morte e conoscenza
DESCRIPTION:A Roma il 18 e 19 novembre si terrà un convegno di psichiatria\, psicoterapia\, psicologia dell’età evolutiva\, neonatologia e bioetica\, contesti e implicazioni socioculturali
URL:https://www.salutementale.net/event/istinto-di-morte-e-conoscenza/
LOCATION:Teatro Olimpico di Roma – Piazza Gentile da Fabriano\, 17
CATEGORIES:Convegno,Congresso online
END:VEVENT
BEGIN:VEVENT
DTSTART;TZID=Europe/Rome:20221118T103000
DTEND;TZID=Europe/Rome:20221118T150000
DTSTAMP:20260424T125904
CREATED:20221103T155417Z
LAST-MODIFIED:20221103T160310Z
UID:20755-1668767400-1668783600@www.salutementale.net
SUMMARY:Vite di giovani caregiver
DESCRIPTION:Vite di giovani caregiver è un film che parla di ragazzi che hanno dei genitori con disturbi psichici. Esso sarà proposto su my movies il 18/11. L’analisi di questo (chiamiamolo così per beneficio d’inventario) paradosso dove sono i figli a doversi prendere cura dei genitori offre molti spunti di riflessione e ci offre una lente d’ingrandimento che indaga su quest aspetto magari poco noto ma non meno importante del disagio psichico. \n \n 
URL:https://www.salutementale.net/event/vite-di-giovani-caregiver/
LOCATION:online
CATEGORIES:Spettacolo,Incontro
END:VEVENT
END:VCALENDAR