BEGIN:VCALENDAR
VERSION:2.0
PRODID:-//Salutementale.net - ECPv6.15.17.1//NONSGML v1.0//EN
CALSCALE:GREGORIAN
METHOD:PUBLISH
X-ORIGINAL-URL:https://www.salutementale.net
X-WR-CALDESC:Eventi per Salutementale.net
REFRESH-INTERVAL;VALUE=DURATION:PT1H
X-Robots-Tag:noindex
X-PUBLISHED-TTL:PT1H
BEGIN:VTIMEZONE
TZID:Europe/Rome
BEGIN:DAYLIGHT
TZOFFSETFROM:+0100
TZOFFSETTO:+0200
TZNAME:CEST
DTSTART:20210328T010000
END:DAYLIGHT
BEGIN:STANDARD
TZOFFSETFROM:+0200
TZOFFSETTO:+0100
TZNAME:CET
DTSTART:20211031T010000
END:STANDARD
BEGIN:DAYLIGHT
TZOFFSETFROM:+0100
TZOFFSETTO:+0200
TZNAME:CEST
DTSTART:20220327T010000
END:DAYLIGHT
BEGIN:STANDARD
TZOFFSETFROM:+0200
TZOFFSETTO:+0100
TZNAME:CET
DTSTART:20221030T010000
END:STANDARD
BEGIN:DAYLIGHT
TZOFFSETFROM:+0100
TZOFFSETTO:+0200
TZNAME:CEST
DTSTART:20230326T010000
END:DAYLIGHT
BEGIN:STANDARD
TZOFFSETFROM:+0200
TZOFFSETTO:+0100
TZNAME:CET
DTSTART:20231029T010000
END:STANDARD
END:VTIMEZONE
BEGIN:VEVENT
DTSTART;TZID=Europe/Rome:20220923T080000
DTEND;TZID=Europe/Rome:20221002T170000
DTSTAMP:20260424T140642
CREATED:20220908T145430Z
LAST-MODIFIED:20220908T151340Z
UID:19791-1663920000-1664730000@www.salutementale.net
SUMMARY:Settimana della salute mentale
DESCRIPTION:Dal 23 settembre al 2 ottobre 2022 si terrà a Reggio nell’Emilia. Tutti attualmente risentiamo grandemente delle incertezze relative all’evoluzione della pandemia COVID-19 e della guerra in Ucraina. Abbiamo pensato che avesse senso promuovere un possibile antidoto a questa spiccata precarietà esistenziale che stiamo vivendo\, dirigendo\nla riflessione sui valori e la personalissima concezione di sé in cui ogni individuo si riconosce. Non sarà una riflessione isolata o a distanza: questa edizione della Settimana vede la netta ripresa degli eventi in presenza\, proprio come occasione di definizione del proprio sé\, della propria identità\, attraverso l’incontro e il dialogo con l’altro. \n 
URL:https://www.salutementale.net/event/settimana-della-salute-mentale/
LOCATION:Reggio nell’Emilia
END:VEVENT
BEGIN:VEVENT
DTSTART;VALUE=DATE:20221002
DTEND;VALUE=DATE:20221003
DTSTAMP:20260424T140642
CREATED:20220829T075604Z
LAST-MODIFIED:20220905T095643Z
UID:19708-1664668800-1664755199@www.salutementale.net
SUMMARY:Matti per la corsa settima edizione
DESCRIPTION:L’idea progettuale è quella di stimolare attività sportive e culturali a sostegno delle persone con disagio psichico. \nLo sport e la cultura sono parte integrante della vita dell’uomo contemporaneo. Attorno ad essi sono nati e si sono sviluppati comportamenti\, linguaggi e idee in grado di caratterizzare comunità locali e nazionali e di costituire sistemi di relazioni. Comportamenti che si basano sul concetto di “uguaglianza delle differenze”. \nIl contesto urbano e sociale è di rilevante importanza per la lotta alla marginalità\, all’esclusione sociale. Con tale manifestazione si propone di ribaltare l’immagine della persona con disagio psichico\, non più confinata nei luoghi della cura\, ma presente e protagonista in quelli della promozione della cittadinanza attiva. \nLa manifestazione è organizzata con il supporto del CSV e in collaborazione con DSM ASL Roma 2\, CSM D6 via di Torrespaccata\, UISP\, Marathon Club\, Polisportiva Borghesiana\, Ente Parco della Caffarella e il Laboratorio di Drammaturgia Antica dell’Università degli Studi di Roma Tor Vergata. \nL’evento si inserisce nell’ambito del Festival per la salute mentale “Romens – per l’inclusione sociale contro il pregiudizio”\, organizzato dal Dipartimento di Salute dell’ASL RM 2. Il Festival si pone gli obiettivi di promozione e prevenzione diffusa della salute mentale\, per abbattere i muri del pregiudizio e per favorire atteggiamenti di inclusione. \nLa manifestazione si terrà presso il Parco della Caffarella e si articolerà su varie attività
URL:https://www.salutementale.net/event/matti-per-la-corsa-settima-edizione/
LOCATION:Parco della Caffarella (RM)\, Largo Pietro Tacchi Venturi\, Roma\, Italia
CATEGORIES:Festival,Evento culturale
ATTACH;FMTTYPE=image/png:https://www.salutementale.net/wp-content/uploads/2022/08/cropped-Logo-Matti-Per-La-Corsa-new.png
END:VEVENT
BEGIN:VEVENT
DTSTART;VALUE=DATE:20221010
DTEND;VALUE=DATE:20221011
DTSTAMP:20260424T140642
CREATED:20220905T091001Z
LAST-MODIFIED:20220905T091852Z
UID:19752-1665360000-1665446399@www.salutementale.net
SUMMARY:Migranti\, rifugiati e salute mentale
DESCRIPTION:Il 10 ottobre si terrà presso il parlamento europeo a Bruxelles una giornata all’insegna dei migranti e salute mentale.
URL:https://www.salutementale.net/event/migranti-rifugiati-e-salute-mentale/
LOCATION:Bruxelles
CATEGORIES:Conferenza
END:VEVENT
BEGIN:VEVENT
DTSTART;TZID=Europe/Rome:20221010T080000
DTEND;TZID=Europe/Rome:20221016T170000
DTSTAMP:20260424T140642
CREATED:20220224T154616Z
LAST-MODIFIED:20220428T135216Z
UID:18143-1665388800-1665939600@www.salutementale.net
SUMMARY:Settimana della Salute Mentale di Torino: al via la IX edizione 2022 ‘Oltre il Limite’
DESCRIPTION:Settimana della Salute Mentale di Torino\, IX edizione 2022 \n“Robe da Matt*” ha aperto la call per le proposte di partecipazione all’edizione 2022 entro maggio. La IX edizione della Settimana della Salute Mentale di Torino si intitolerà “Oltre il limite” e si svolgerà online e in presenza dal 10 al 16 ottobre 2022. \nDopo le “Contaminazioni Bio-Psico-Sociali” della ottava edizione\, quest’anno Robe da Matt* esplorerà e si addentrerà nei vari aspetti\, sociali\, psicologici\, emotivi e culturali di cosa significhi l’espressione “oltre il limite”. Di se stessi\, del contesto\, dell’ambiente\, della società. Di quali siano le spinte\, le motivazioni\, le implicazioni nell’andare oltre il limite. Delle tante modalità attraverso le quali si sperimenta e si vive l’andare oltre il limite.
URL:https://www.salutementale.net/event/settimana-della-salute-mentale-di-torino-al-via-la-ix-edizione-2022-oltre-il-limite/
LOCATION:in presenza e in remoto
END:VEVENT
BEGIN:VEVENT
DTSTART;TZID=Europe/Rome:20221010T080000
DTEND;TZID=Europe/Rome:20221016T170000
DTSTAMP:20260424T140642
CREATED:20221010T085109Z
LAST-MODIFIED:20221010T094520Z
UID:20446-1665388800-1665939600@www.salutementale.net
SUMMARY:Oltre il limite
DESCRIPTION:Robe de Matt è l’edizione “Oltre il limite” di Torino ove si combatte lo stigma sia con il movimento fisico sia con quello mentale.
URL:https://www.salutementale.net/event/oltre-il-limite/
LOCATION:Torino
CATEGORIES:Incontro,Giornata
END:VEVENT
BEGIN:VEVENT
DTSTART;TZID=Europe/Rome:20221010T090000
DTEND;TZID=Europe/Rome:20221010T180000
DTSTAMP:20260424T140642
CREATED:20220927T142431Z
LAST-MODIFIED:20220927T143737Z
UID:20154-1665392400-1665424800@www.salutementale.net
SUMMARY:Giornata mondiale della salute mentale
DESCRIPTION:Il 10 ottobre a Trieste si terrà l’evento della Giornata mondiale della salute mentale che ha l’obiettivo di fare del benessere e della salute una priorità globale.
URL:https://www.salutementale.net/event/giornata-mondiale-della-salute-mentale-2/
LOCATION:Hotel Palace Suite\, via San Nicolò 34-Trieste Ts\, Italia
CATEGORIES:Giornata
END:VEVENT
BEGIN:VEVENT
DTSTART;TZID=Europe/Rome:20221010T093000
DTEND;TZID=Europe/Rome:20221010T163000
DTSTAMP:20260424T140642
CREATED:20220914T084346Z
LAST-MODIFIED:20220914T091119Z
UID:19816-1665394200-1665419400@www.salutementale.net
SUMMARY:Mental Health Marathon
DESCRIPTION:Il 10 ottobre a Firenze si terrà sia in presenza sia online un incontro sulla salute mentale.
URL:https://www.salutementale.net/event/mental-health-marathon/
LOCATION:via Fiume 12\,Hotel Albani\, Firenze
CATEGORIES:Conferenza,Convegno,Giornata
END:VEVENT
BEGIN:VEVENT
DTSTART;TZID=Europe/Rome:20221010T140000
DTEND;TZID=Europe/Rome:20221010T210000
DTSTAMP:20260424T140642
CREATED:20221005T101039Z
LAST-MODIFIED:20221005T104553Z
UID:20389-1665410400-1665435600@www.salutementale.net
SUMMARY:Non c'è salute senza salute mentale
DESCRIPTION:Giornata che si svolgerà a Milano cove si parlerà di psiche e adolescenti
URL:https://www.salutementale.net/event/non-ce-salute-senza-salute-mentale/
LOCATION:via gaetano de castillia 28-Milano
CATEGORIES:Convegno
END:VEVENT
BEGIN:VEVENT
DTSTART;TZID=Europe/Rome:20221016T203000
DTEND;TZID=Europe/Rome:20221023T223000
DTSTAMP:20260424T140642
CREATED:20221017T101905Z
LAST-MODIFIED:20221017T103156Z
UID:20550-1665952200-1666564200@www.salutementale.net
SUMMARY:Molo Film Festival
DESCRIPTION:Dal 16 al 23 ottobre presso via ostiense 95 in Roma verranno riprodotti dei cortometraggi \n 
URL:https://www.salutementale.net/event/molo-film-festival/
LOCATION:via ostiense 95\,Roma
CATEGORIES:Festival,Evento culturale
END:VEVENT
BEGIN:VEVENT
DTSTART;TZID=Europe/Rome:20221022T150000
DTEND;TZID=Europe/Rome:20221029T233000
DTSTAMP:20260424T140642
CREATED:20221005T094144Z
LAST-MODIFIED:20221005T104103Z
UID:20382-1666450800-1667086200@www.salutementale.net
SUMMARY:Settimana della salute mentale Modena
DESCRIPTION:Da sabato 22 a sabato 29 ottobre si terranno in provincia di Modena degli eventi che avranno come sfondo la salute mentale. Per tutte le informazioni più dettagliate confrontare il sito:http://www.matmodena.it/
URL:https://www.salutementale.net/event/settimana-della-salute-mentale-2/
CATEGORIES:Evento culturale
END:VEVENT
END:VCALENDAR