BEGIN:VCALENDAR
VERSION:2.0
PRODID:-//Salutementale.net - ECPv6.15.17.1//NONSGML v1.0//EN
CALSCALE:GREGORIAN
METHOD:PUBLISH
X-ORIGINAL-URL:https://www.salutementale.net
X-WR-CALDESC:Eventi per Salutementale.net
REFRESH-INTERVAL;VALUE=DURATION:PT1H
X-Robots-Tag:noindex
X-PUBLISHED-TTL:PT1H
BEGIN:VTIMEZONE
TZID:Europe/Rome
BEGIN:DAYLIGHT
TZOFFSETFROM:+0100
TZOFFSETTO:+0200
TZNAME:CEST
DTSTART:20210328T010000
END:DAYLIGHT
BEGIN:STANDARD
TZOFFSETFROM:+0200
TZOFFSETTO:+0100
TZNAME:CET
DTSTART:20211031T010000
END:STANDARD
BEGIN:DAYLIGHT
TZOFFSETFROM:+0100
TZOFFSETTO:+0200
TZNAME:CEST
DTSTART:20220327T010000
END:DAYLIGHT
BEGIN:STANDARD
TZOFFSETFROM:+0200
TZOFFSETTO:+0100
TZNAME:CET
DTSTART:20221030T010000
END:STANDARD
BEGIN:DAYLIGHT
TZOFFSETFROM:+0100
TZOFFSETTO:+0200
TZNAME:CEST
DTSTART:20230326T010000
END:DAYLIGHT
BEGIN:STANDARD
TZOFFSETFROM:+0200
TZOFFSETTO:+0100
TZNAME:CET
DTSTART:20231029T010000
END:STANDARD
END:VTIMEZONE
BEGIN:VEVENT
DTSTART;TZID=Europe/Rome:20220923T080000
DTEND;TZID=Europe/Rome:20221002T170000
DTSTAMP:20260424T151851
CREATED:20220908T145430Z
LAST-MODIFIED:20220908T151340Z
UID:19791-1663920000-1664730000@www.salutementale.net
SUMMARY:Settimana della salute mentale
DESCRIPTION:Dal 23 settembre al 2 ottobre 2022 si terrà a Reggio nell’Emilia. Tutti attualmente risentiamo grandemente delle incertezze relative all’evoluzione della pandemia COVID-19 e della guerra in Ucraina. Abbiamo pensato che avesse senso promuovere un possibile antidoto a questa spiccata precarietà esistenziale che stiamo vivendo\, dirigendo\nla riflessione sui valori e la personalissima concezione di sé in cui ogni individuo si riconosce. Non sarà una riflessione isolata o a distanza: questa edizione della Settimana vede la netta ripresa degli eventi in presenza\, proprio come occasione di definizione del proprio sé\, della propria identità\, attraverso l’incontro e il dialogo con l’altro. \n 
URL:https://www.salutementale.net/event/settimana-della-salute-mentale/
LOCATION:Reggio nell’Emilia
END:VEVENT
END:VCALENDAR