BEGIN:VCALENDAR
VERSION:2.0
PRODID:-//Salutementale.net - ECPv6.15.17.1//NONSGML v1.0//EN
CALSCALE:GREGORIAN
METHOD:PUBLISH
X-ORIGINAL-URL:https://www.salutementale.net
X-WR-CALDESC:Eventi per Salutementale.net
REFRESH-INTERVAL;VALUE=DURATION:PT1H
X-Robots-Tag:noindex
X-PUBLISHED-TTL:PT1H
BEGIN:VTIMEZONE
TZID:Europe/Rome
BEGIN:DAYLIGHT
TZOFFSETFROM:+0100
TZOFFSETTO:+0200
TZNAME:CEST
DTSTART:20210328T010000
END:DAYLIGHT
BEGIN:STANDARD
TZOFFSETFROM:+0200
TZOFFSETTO:+0100
TZNAME:CET
DTSTART:20211031T010000
END:STANDARD
BEGIN:DAYLIGHT
TZOFFSETFROM:+0100
TZOFFSETTO:+0200
TZNAME:CEST
DTSTART:20220327T010000
END:DAYLIGHT
BEGIN:STANDARD
TZOFFSETFROM:+0200
TZOFFSETTO:+0100
TZNAME:CET
DTSTART:20221030T010000
END:STANDARD
BEGIN:DAYLIGHT
TZOFFSETFROM:+0100
TZOFFSETTO:+0200
TZNAME:CEST
DTSTART:20230326T010000
END:DAYLIGHT
BEGIN:STANDARD
TZOFFSETFROM:+0200
TZOFFSETTO:+0100
TZNAME:CET
DTSTART:20231029T010000
END:STANDARD
END:VTIMEZONE
BEGIN:VEVENT
DTSTART;TZID=Europe/Rome:20220610T143000
DTEND;TZID=Europe/Rome:20220610T180000
DTSTAMP:20260424T184916
CREATED:20220609T143701Z
LAST-MODIFIED:20220609T144635Z
UID:19099-1654871400-1654884000@www.salutementale.net
SUMMARY:Convegno Nazionale Salute Mentale
DESCRIPTION:Il 10 giugno si terrà il Convegno Nazionale sulla Salute Mentale. Convegno organizzato  dai promotori del Manifesto per la Salute Mentale in collaborazione con l’Istituto Superiore di Sanità. Interverrà il Ministro della Salute.\nA questo link : https://www.dropbox.com/s/3hpvk4ioo1jiaaf/Locandina10Giugno2022.pdf?dl=0 potete visualizzare la locandina\, all’interno della quale è inserito il link per iscriversi. \nSi tratta di un importante momento di confronto sui problemi\, le prospettive e le opportunità della Psicoterapia nel SSN. Si considera necessario innalzare la qualità dei servizi territoriali di assistenza troppo spesso carenti nel rispondere alle esigenze reali dei nostri concittadini. \n \n 
URL:https://www.salutementale.net/event/convegno-nazionale-salute-mentale/
LOCATION:viale Regina Elena 299\, Roma
CATEGORIES:Convegno
END:VEVENT
BEGIN:VEVENT
DTSTART;TZID=Europe/Rome:20220615T150000
DTEND;TZID=Europe/Rome:20220619T100000
DTSTAMP:20260424T184916
CREATED:20220606T091520Z
LAST-MODIFIED:20220606T100849Z
UID:19061-1655305200-1655632800@www.salutementale.net
SUMMARY:Festival Gondola dei Folli
DESCRIPTION:Dal 15 al 19 giugno si terrà a Venezia il festival della gondola. Saranno cinque giorni di studio e di confronto sul tema della cura dell’uomo e del modo in cui essa è interdipendente alla cura e alla bellezza dell’ambiente in cui vive. Ambiente inteso sia come contesto fisico entro cui si snoda la cura\, sia come atmosfera terapeutica necessaria al benessere psicologico\, ma anche come metafora della vita che necessita nel suo svolgersi di bellezza e attenzione del luogo che abita. \n 
URL:https://www.salutementale.net/event/festival-gondola-dei-folli/
LOCATION:Isola di Sant’Elena (quartiere Venezia)
CATEGORIES:Festival
END:VEVENT
BEGIN:VEVENT
DTSTART;TZID=Europe/Rome:20220617T090000
DTEND;TZID=Europe/Rome:20220617T170000
DTSTAMP:20260424T184916
CREATED:20220613T091721Z
LAST-MODIFIED:20220613T094021Z
UID:19121-1655456400-1655485200@www.salutementale.net
SUMMARY:Memorie dal Sottosuolo
DESCRIPTION:Il giorno venerdì 17 si terrà il convegno sulla salute mentale. Giornata d’incontro e di studio per riportare alla luce la battaglia invisibile della salute mentale. Le nuove emergenze\, i nuovi bisogni\, il pubblico\, il privato\, il territorio. \n \n 
URL:https://www.salutementale.net/event/memorie-dal-sottosuolo/
LOCATION:Via Cavour 50\, Roma
CATEGORIES:Convegno
END:VEVENT
BEGIN:VEVENT
DTSTART;TZID=Europe/Rome:20220621T180000
DTEND;TZID=Europe/Rome:20220621T233000
DTSTAMP:20260424T184916
CREATED:20220609T141427Z
LAST-MODIFIED:20220621T145517Z
UID:19091-1655834400-1655854200@www.salutementale.net
SUMMARY:Festa della Musica\, Recovery Sound
DESCRIPTION:Il 21 giugno 2022 si terrà a Roma la festa della musica. \n  \nDal 2020\, col Mental State of the World\, si evidenzia chiaramente che le condizioni psichiche della popolazione adolescente e giovane adulta risultano drammaticamente peggiorate in relazione alla pandemia. \nArgolab\, all’interno del dipartimento di salute mentale della ASL RM2\, svolge la sua funzione nel territorio socialmente più critico di Roma (VI municipio)\, centrando le proprie attività a partire dal presupposto che il benessere biopsicosociale sia imprescindibile dalla cura delle relazioni e dall’investimento culturale. Le implicazioni della pandemia hanno evidenziato\, anche in quanti non avevano mai conosciuto la sofferenza psicologica\, quanto già conosciuto da chi per diverse forme di disagio mentale ha attraversato: ansia\, ritiro sociale\, interruzione dei percorsi di studio e lavoro. \nLa Festa della Musica è un’occasione sociale di condivisione intorno all’esperienza dell’ascolto musicale che unisce ed emoziona\, il tema di quest’anno riguarda la cura per l’ambiente e il patrimonio culturale; queste caratteristiche incontrano i contenuti fondanti le attività di Argolab2\, che vuole contribuire con un pensiero esteso oltre il mandato di cura. \nInfatti\, il titolo dell’evento: “Le radici devono avere fiducia nei fiori”\, parole della filosofa Marìa Zambrano\, vuole essere un appello per il futuro\, non più come assente angoscioso\, ma come spazio del progetto. \nAffinché questo sia possibile\, “le radici”\, cioè gli adulti\, le istituzioni dell’istruzione e di cura\, gli artisti\, devono nutrire e condividere la fiducia di uno sviluppo individuale e collettivo possibile\, mettendo a disposizione ogni competenza necessaria. \n 
URL:https://www.salutementale.net/event/festa-della-musica/
LOCATION:Piazza Damiano Sauli (Roma)
CATEGORIES:Festival
END:VEVENT
BEGIN:VEVENT
DTSTART;TZID=Europe/Rome:20220624T080000
DTEND;TZID=Europe/Rome:20220625T170000
DTSTAMP:20260424T184916
CREATED:20220516T093107Z
LAST-MODIFIED:20220531T150809Z
UID:18873-1656057600-1656176400@www.salutementale.net
SUMMARY:Psicoterapia tra scienze mediche e scienze umane
DESCRIPTION:Il 24 e il 25 Giugno si terrà il Convegno Accademia \n\nPsicoterapia tra scienze mediche e scienze umane dalla malattia mentale alla salute mentale. \n\nLo scopo di questo convegno sarà quello di favorire una riflessione multidisciplinare e un\nprofondo ripensamento della salute mentale in Italia\, anche alla luce della recente\npandemia e dei suoi inevitabili effetti a distanza sul benessere psicologico di tante\npersone e famiglie. Per non parlare delle angosce esistenziali e del senso di smarrimento\ntotale che riguardano tutti noi di fronte all’attuale assurda guerra in Ucraina.\n 
URL:https://www.salutementale.net/event/convegno-accademia-24-e-25-giugno-2022/
LOCATION:Auditorium del Serafico via del serafico 1 Roma
CATEGORIES:Convegno
END:VEVENT
END:VCALENDAR