BEGIN:VCALENDAR
VERSION:2.0
PRODID:-//Salutementale.net - ECPv6.15.17.1//NONSGML v1.0//EN
CALSCALE:GREGORIAN
METHOD:PUBLISH
X-ORIGINAL-URL:https://www.salutementale.net
X-WR-CALDESC:Eventi per Salutementale.net
REFRESH-INTERVAL;VALUE=DURATION:PT1H
X-Robots-Tag:noindex
X-PUBLISHED-TTL:PT1H
BEGIN:VTIMEZONE
TZID:Europe/Rome
BEGIN:DAYLIGHT
TZOFFSETFROM:+0100
TZOFFSETTO:+0200
TZNAME:CEST
DTSTART:20210328T010000
END:DAYLIGHT
BEGIN:STANDARD
TZOFFSETFROM:+0200
TZOFFSETTO:+0100
TZNAME:CET
DTSTART:20211031T010000
END:STANDARD
BEGIN:DAYLIGHT
TZOFFSETFROM:+0100
TZOFFSETTO:+0200
TZNAME:CEST
DTSTART:20220327T010000
END:DAYLIGHT
BEGIN:STANDARD
TZOFFSETFROM:+0200
TZOFFSETTO:+0100
TZNAME:CET
DTSTART:20221030T010000
END:STANDARD
BEGIN:DAYLIGHT
TZOFFSETFROM:+0100
TZOFFSETTO:+0200
TZNAME:CEST
DTSTART:20230326T010000
END:DAYLIGHT
BEGIN:STANDARD
TZOFFSETFROM:+0200
TZOFFSETTO:+0100
TZNAME:CET
DTSTART:20231029T010000
END:STANDARD
END:VTIMEZONE
BEGIN:VEVENT
DTSTART;TZID=Europe/Rome:20220504T080000
DTEND;TZID=Europe/Rome:20220505T170000
DTSTAMP:20260424T200423
CREATED:20220420T100648Z
LAST-MODIFIED:20220420T104552Z
UID:18620-1651651200-1651770000@www.salutementale.net
SUMMARY:Lo Spiraglio FilmFestival
DESCRIPTION:Lo Spiraglio Film Festival è un evento internazionale di Corti e Lungometraggi\, che si svolge a Roma presso Scena e il MAXXI – Museo delle Arti del XXI secolo
URL:https://www.salutementale.net/event/lo-spiraglio-3/
CATEGORIES:Festival
END:VEVENT
BEGIN:VEVENT
DTSTART;TZID=Europe/Rome:20220508T080000
DTEND;TZID=Europe/Rome:20220508T170000
DTSTAMP:20260424T200423
CREATED:20220420T101258Z
LAST-MODIFIED:20220420T104522Z
UID:18624-1651996800-1652029200@www.salutementale.net
SUMMARY:Lo Spiraglio FilmFestival
DESCRIPTION:Lo Spiraglio Film Festival è un evento internazionale di Corti e Lungometraggi\, che si svolge a Roma presso Scena e il MAXXI – Museo delle Arti del XXI secolo
URL:https://www.salutementale.net/event/lo-spiraglio-4/
LOCATION:MAXXI – Museo Nazionale delle Arti del XXI secolo\, Via Guido Reni\, 4 A\, Roma\, Italia
CATEGORIES:Festival
END:VEVENT
END:VCALENDAR