BEGIN:VCALENDAR
VERSION:2.0
PRODID:-//Salutementale.net - ECPv6.15.17.1//NONSGML v1.0//EN
CALSCALE:GREGORIAN
METHOD:PUBLISH
X-ORIGINAL-URL:https://www.salutementale.net
X-WR-CALDESC:Eventi per Salutementale.net
REFRESH-INTERVAL;VALUE=DURATION:PT1H
X-Robots-Tag:noindex
X-PUBLISHED-TTL:PT1H
BEGIN:VTIMEZONE
TZID:Europe/Rome
BEGIN:DAYLIGHT
TZOFFSETFROM:+0100
TZOFFSETTO:+0200
TZNAME:CEST
DTSTART:20200329T010000
END:DAYLIGHT
BEGIN:STANDARD
TZOFFSETFROM:+0200
TZOFFSETTO:+0100
TZNAME:CET
DTSTART:20201025T010000
END:STANDARD
BEGIN:DAYLIGHT
TZOFFSETFROM:+0100
TZOFFSETTO:+0200
TZNAME:CEST
DTSTART:20210328T010000
END:DAYLIGHT
BEGIN:STANDARD
TZOFFSETFROM:+0200
TZOFFSETTO:+0100
TZNAME:CET
DTSTART:20211031T010000
END:STANDARD
BEGIN:DAYLIGHT
TZOFFSETFROM:+0100
TZOFFSETTO:+0200
TZNAME:CEST
DTSTART:20220327T010000
END:DAYLIGHT
BEGIN:STANDARD
TZOFFSETFROM:+0200
TZOFFSETTO:+0100
TZNAME:CET
DTSTART:20221030T010000
END:STANDARD
END:VTIMEZONE
BEGIN:VEVENT
DTSTART;TZID=Europe/Rome:20211104T133000
DTEND;TZID=Europe/Rome:20211104T190000
DTSTAMP:20260425T034858
CREATED:20211103T110854Z
LAST-MODIFIED:20220307T101018Z
UID:17221-1636032600-1636052400@www.salutementale.net
SUMMARY:Salute mentale in Regione Lazio - Team multidisciplinare e prospettive future
DESCRIPTION:“Non c’è salute senza salute mentale” ha affermato l’Organizzazione Mondiale della Sanità (OMS). Il disagio mentale\, infatti\, rappresenta una questione centrale per i sistemi socio-sanitari mondiali in quanto una persona su quattro è affetta da disturbi mentali. \nA partire dalla legge Basaglia [1978] si sono susseguiti molti provvedimenti normativi e strumenti programmatici concernenti la\npresa in carico del paziente; tuttavia la salute mentale è stata considerata spesso marginalmente rispetto ad altre aree ed alcuni interventi di “razionalizzazione” delle risorse sanitarie hanno reso insufficiente la dotazione di personale qualificato e hanno comportato restrizioni circa l’orario di apertura dei Centri per la salute mentale (CSM). \nDa queste considerazioni il dialogo parlamentare ha portato all’approvazione all’unanimità\, il 16 giugno 2021\, della Mozione sulla\nsalute mentale a prima firma di Beatrice Lorenzin.\nData la rilevanza di queste patologie e degli scenari terapeutici\nnell’ambito della salute mentale\, anche la Regione Lazio ha istituito un Ufficio preposto e le malattie correlate sono state inserite\nall’interno di un modello partecipativo attivo\, di cui le associazioni\ndei pazienti sono parte integrante. Il presente incontro si propone\npertanto di creare un momento di dialogo\, confronto e condivisione tra i diversi stakeholders del nostro sistema nazionale e regionale con l’obiettivo di fare il punto sulle attività implementate\nnella Regione Lazio sulle terapie farmacologiche innovative ed i\nprogressi della medicina personalizzata in ambito psichiatrico. \n 
URL:https://www.salutementale.net/event/salute-mentale-in-regione-lazio-team-multidisciplinare-e-prospettive-future/
LOCATION:SALA ALESSANDRINA Borgo Santo Spirito\, 3- Roma
CATEGORIES:Corso di aggiornamento ECM
END:VEVENT
END:VCALENDAR