BEGIN:VCALENDAR
VERSION:2.0
PRODID:-//Salutementale.net - ECPv6.15.17.1//NONSGML v1.0//EN
CALSCALE:GREGORIAN
METHOD:PUBLISH
X-ORIGINAL-URL:https://www.salutementale.net
X-WR-CALDESC:Eventi per Salutementale.net
REFRESH-INTERVAL;VALUE=DURATION:PT1H
X-Robots-Tag:noindex
X-PUBLISHED-TTL:PT1H
BEGIN:VTIMEZONE
TZID:Europe/Rome
BEGIN:DAYLIGHT
TZOFFSETFROM:+0100
TZOFFSETTO:+0200
TZNAME:CEST
DTSTART:20190331T010000
END:DAYLIGHT
BEGIN:STANDARD
TZOFFSETFROM:+0200
TZOFFSETTO:+0100
TZNAME:CET
DTSTART:20191027T010000
END:STANDARD
BEGIN:DAYLIGHT
TZOFFSETFROM:+0100
TZOFFSETTO:+0200
TZNAME:CEST
DTSTART:20200329T010000
END:DAYLIGHT
BEGIN:STANDARD
TZOFFSETFROM:+0200
TZOFFSETTO:+0100
TZNAME:CET
DTSTART:20201025T010000
END:STANDARD
BEGIN:DAYLIGHT
TZOFFSETFROM:+0100
TZOFFSETTO:+0200
TZNAME:CEST
DTSTART:20210328T010000
END:DAYLIGHT
BEGIN:STANDARD
TZOFFSETFROM:+0200
TZOFFSETTO:+0100
TZNAME:CET
DTSTART:20211031T010000
END:STANDARD
END:VTIMEZONE
BEGIN:VEVENT
DTSTART;TZID=Europe/Rome:20200612T000000
DTEND;TZID=Europe/Rome:20200612T000000
DTSTAMP:20260426T021423
CREATED:20200622T094929Z
LAST-MODIFIED:20200622T100217Z
UID:15315-1591920000-1591920000@www.salutementale.net
SUMMARY:Assemblea Rompiamo il Silenzio Puglia - Movimento per la salute mentale Puglia
DESCRIPTION:Mercoledì 10 giugno si è svolta l’assemblea online intitolata “Proviamo a Ricominciare”. \nCi si è riagganciati alla videoassemblea del 30 maggio della Conferenza che anche aveva un titolo simbolico “Ricominciamo”.
URL:https://www.salutementale.net/event/assemblea-rompiamo-il-silenzio-puglia-movimento-per-la-salute-mentale-puglia/
END:VEVENT
BEGIN:VEVENT
DTSTART;VALUE=DATE:20200622
DTEND;VALUE=DATE:20200623
DTSTAMP:20260426T021423
CREATED:20200914T075340Z
LAST-MODIFIED:20200914T080207Z
UID:15593-1592784000-1592870399@www.salutementale.net
SUMMARY:WEB CONFERENCE “LOCKDOWN VS. SALUTE MENTALE: la tutela del paziente nell’era Covid-19”
DESCRIPTION:In questi mesi di emergenza sanitaria\, ci si è concentrati soprattutto sui danni fisici e su quelli economici del Covid-19\, senza soffermarsi abbastanza sulle ripercussioni psicologiche dell’epidemia. \nUno studio pubblicato da “The Lancet”\, ha recentemente preso in analisi le ripercussioni psicologiche in Cina\, evidenziando come superati i dieci giorni di isolamento la mente inizi a cedere\, e\, a partire dall’undicesimo giorno emergano stress\, nervosismo ed  ansia\, i cui effetti diventano più gravi al traguardo del 15esimo giorno di lockdown.
URL:https://www.salutementale.net/event/web-conference-lockdown-vs-salute-mentale-la-tutela-del-paziente-nellera-covid-19/
LOCATION:Webinar
END:VEVENT
END:VCALENDAR