BEGIN:VCALENDAR
VERSION:2.0
PRODID:-//Salutementale.net - ECPv6.15.17.1//NONSGML v1.0//EN
CALSCALE:GREGORIAN
METHOD:PUBLISH
X-ORIGINAL-URL:https://www.salutementale.net
X-WR-CALDESC:Eventi per Salutementale.net
REFRESH-INTERVAL;VALUE=DURATION:PT1H
X-Robots-Tag:noindex
X-PUBLISHED-TTL:PT1H
BEGIN:VTIMEZONE
TZID:Europe/Rome
BEGIN:DAYLIGHT
TZOFFSETFROM:+0100
TZOFFSETTO:+0200
TZNAME:CEST
DTSTART:20250330T010000
END:DAYLIGHT
BEGIN:STANDARD
TZOFFSETFROM:+0200
TZOFFSETTO:+0100
TZNAME:CET
DTSTART:20251026T010000
END:STANDARD
BEGIN:DAYLIGHT
TZOFFSETFROM:+0100
TZOFFSETTO:+0200
TZNAME:CEST
DTSTART:20260329T010000
END:DAYLIGHT
BEGIN:STANDARD
TZOFFSETFROM:+0200
TZOFFSETTO:+0100
TZNAME:CET
DTSTART:20261025T010000
END:STANDARD
BEGIN:DAYLIGHT
TZOFFSETFROM:+0100
TZOFFSETTO:+0200
TZNAME:CEST
DTSTART:20270328T010000
END:DAYLIGHT
BEGIN:STANDARD
TZOFFSETFROM:+0200
TZOFFSETTO:+0100
TZNAME:CET
DTSTART:20271031T010000
END:STANDARD
END:VTIMEZONE
BEGIN:VEVENT
DTSTART;TZID=Europe/Rome:20260331T160000
DTEND;TZID=Europe/Rome:20260331T170000
DTSTAMP:20260424T075338
CREATED:20260323T103611Z
LAST-MODIFIED:20260325T100224Z
UID:31739-1774972800-1774976400@www.salutementale.net
SUMMARY:Trame di Primavera - Sfilata/Evento di sartoria e catering
DESCRIPTION:Un evento per sconfiggere il “mal di primavera”\, per restituire alla speranza e allo sbocciare dei fiori sotto la neve la forza che devono avere per sconfiggere il buio e il freddo dell’inverno. Così possiamo attrezzarci con il giusto stato d’animo per accogliere questa forza e decidere di farne parte\, tutti insieme. \nPer la locandina clicca qui.
URL:https://www.salutementale.net/event/trame-di-primavera-sfilata-evento-di-sartoria-e-catering/
LOCATION:Municipio VII\, Piazza di Cinecittà 11\, Sala Rossa 4° piano – Roma
CATEGORIES:Evento culturale
ATTACH;FMTTYPE=image/png:https://www.salutementale.net/wp-content/uploads/2026/03/trame-di-primavera.png
END:VEVENT
BEGIN:VEVENT
DTSTART;TZID=Europe/Rome:20260413T080000
DTEND;TZID=Europe/Rome:20260418T200000
DTSTAMP:20260424T075338
CREATED:20260414T132634Z
LAST-MODIFIED:20260414T132704Z
UID:31907-1776067200-1776542400@www.salutementale.net
SUMMARY:FILI SOTTILI – Festival di Arte\, Salute e Inclusione
DESCRIPTION:Il Festival “Fili Sottili\, Festival di Arte\, Salute e Inclusione” che avrà luogo dal 13 al 18 aprile 2026 nei comuni di Ciriè e Lanzo Torinese in provincia di Torino\, in sei giorni offrirà spettacoli\, convegni e dibattiti\, workshop teatrali e laboratori creativi\, tutti a ingresso libero. Il cartellone si suddivide in due macro aree: una rivolta al pubblico e agli operatori con attività concentrate in Area Remmert a Cirié e una dedicata alle scuole (coinvolgendo studenti di varie fasce d’età\, dalla scuola dell’Infanzia alle scuole superiori) con appuntamenti distribuiti tra il LanzoIncontra a Lanzo\, Area Remmert e l’Istituto di Istruzione Statale “Tommaso D’Oria” a Ciriè. \nPer maggiori informazioni clicca qui.
URL:https://www.salutementale.net/event/fili-sottili-festival-di-arte-salute-e-inclusione/
LOCATION:Cirié e Lanzo Torinese
CATEGORIES:Festival
ATTACH;FMTTYPE=image/jpeg:https://www.salutementale.net/wp-content/uploads/2026/04/FFS-2026-1.jpg
END:VEVENT
BEGIN:VEVENT
DTSTART;TZID=Europe/Rome:20260415T100000
DTEND;TZID=Europe/Rome:20260415T170000
DTSTAMP:20260424T075338
CREATED:20260323T101740Z
LAST-MODIFIED:20260414T131206Z
UID:31722-1776247200-1776272400@www.salutementale.net
SUMMARY:Lo Spiraglio - 16° Film Festival della Salute Mentale
DESCRIPTION:Da molti anni si sono diffuse in Italia buone pratiche che coinvolgono persone che hanno avuto problemi psichici. La\nloro esperienza\, messa al servizio di altri\, in supporto ai percorsi terapeutici e soprattutto riabilitativi\, alla formazione\, all’organizzazione dei servizi è pratica ampiamente studiata e riconosciuta a livello internazionale.\nParallelamente è sempre più frequente\, e Lo Spiraglio ne è testimone con i suoi 16 anni di attività\, la rivelazione\, da\nparte di autori\, attori\, scrittori\, personaggi famosi\, di esperienze vissute di sofferenza psichica. Uscire allo scoperto\nnon solo aiuta gli altri\, abbatte lo stigma\, ma aiuta anche chi ha vissuto queste esperienze a rafforzarsi attraverso la\ncondivisione e il confronto. \nPer maggiori informazioni clicca qui. \nPer il programma dell’evento clicca qui.
URL:https://www.salutementale.net/event/lo-spiraglio-16-film-festival-della-salute-mentale/
LOCATION:MAXXI – Museo Nazionale delle Arti del XXI secolo\, Via Guido Reni\, 4 A\, Roma\, Italia
CATEGORIES:Festival
ATTACH;FMTTYPE=image/png:https://www.salutementale.net/wp-content/uploads/2026/03/Lo-spiraglio.png
END:VEVENT
BEGIN:VEVENT
DTSTART;TZID=Europe/Rome:20260415T203000
DTEND;TZID=Europe/Rome:20260419T170000
DTSTAMP:20260424T075338
CREATED:20260420T082911Z
LAST-MODIFIED:20260420T082911Z
UID:31978-1776285000-1776618000@www.salutementale.net
SUMMARY:“Dino e La Perla” – il debutto romano dal 15 al 19 aprile a Teatro La Comunità
DESCRIPTION:La relazione più difficile è quella con sé stessi. Dino e la Perla parte da qui. \nDal 15 al 19 aprile 2026\, al Teatro La Comunità di Roma\, approda per la prima volta nella capitale lo spettacolo di Margherita Caravello\, una drammaturgia originale che esplora le dinamiche emotive alla base di dipendenze affettive\, isolamento sociale e disturbi alimentari. \nNato dall’incontro tra teatro\, neuroscienze e psicoterapia e costruito a partire da testimonianze reali\, lo spettacolo restituisce uno sguardo interno e non giudicante sulle relazioni contemporanee. Un lavoro che affronta la complessità senza rinunciare all’ironia\, rendendo accessibili temi profondi a un pubblico ampio e trasversale. \nPer biglietti e informazioni: \nChiamare il numero 391 452 22 43 (anche su whatsapp) \nCliccare qui.
URL:https://www.salutementale.net/event/dino-e-la-perla-il-debutto-romano-dal-15-al-19-aprile-a-teatro-la-comunita/
LOCATION:Teatro La Comunità – Via Zanazzo Giggi\, 1\, 00153 Roma RM
CATEGORIES:Spettacolo
ATTACH;FMTTYPE=image/jpeg:https://www.salutementale.net/wp-content/uploads/2026/04/Dino-Perla.jpg
END:VEVENT
BEGIN:VEVENT
DTSTART;TZID=Europe/Rome:20260517T190000
DTEND;TZID=Europe/Rome:20260517T220000
DTSTAMP:20260424T075338
CREATED:20251210T103043Z
LAST-MODIFIED:20260107T112436Z
UID:30808-1779044400-1779055200@www.salutementale.net
SUMMARY:La Mente in Scena\, da Febbraio a teatro l'opera di Stefania Andreoli
DESCRIPTION:Lo spettacolo della psicologa\, scritto e diretto da Luca Stano\, debutta a febbraio e le prime date sono già sold out. \nLe date disponibili si possono trovare a questo link \n  \n 
URL:https://www.salutementale.net/event/la-mente-in-scena-da-febbraio-a-teatro-lopera-di-stefania-andreoli/
LOCATION:Teatro Olimpico di Roma – Piazza Gentile da Fabriano\, 17
CATEGORIES:Music Concert,Spettacolo,Evento culturale
ATTACH;FMTTYPE=image/jpeg:https://www.salutementale.net/wp-content/uploads/2025/12/mente-in-scena-biglietti-21.jpg
END:VEVENT
BEGIN:VEVENT
DTSTART;TZID=Europe/Rome:20260522T160000
DTEND;TZID=Europe/Rome:20260522T200000
DTSTAMP:20260424T075338
CREATED:20260414T135551Z
LAST-MODIFIED:20260414T135551Z
UID:31913-1779465600-1779480000@www.salutementale.net
SUMMARY:La Strategia della Lumaca - Presentazione del libro con l'autore Agostino Vietri
DESCRIPTION:Nel 1993 il film colombiano “La strategia della lumaca” raccontava la resistenza collettiva\, creativa e solidale di un gruppo di inquilini minacciati di sfratto. Come il film\, il modello riabilitativo qui presentato coinvolge tutti: pazienti\, famiglie\, operatori\, servizi ed istituzioni in un’azione lenta\, ostinata e rivoluzionaria per riorganizzare la vita\, l’identità e la partecipazione sociale.\nIl volume si articola in tre aree integrate: una cornice teorico-epistemologica; una parte metodologica e normativa; e una sezione clinico-narrativa con il racconto di casi e una ricerca sull’efficacia dell’approccio. \nLa presentazione del libro si terrà venerdì 22 Maggio alle ore 16\,00.\nIngresso libero su prenotazione al numero 068555131. \nPer maggiori informazioni clicca qui.
URL:https://www.salutementale.net/event/la-strategia-della-lumaca-presentazione-del-libro-con-lautore-agostino-vietri/
LOCATION:Via Lovanio 11 – Roma
CATEGORIES:Presentazione Libri
ATTACH;FMTTYPE=image/jpeg:https://www.salutementale.net/wp-content/uploads/2026/04/lumaca-1.jpg
END:VEVENT
BEGIN:VEVENT
DTSTART;TZID=Europe/Rome:20260909T080000
DTEND;TZID=Europe/Rome:20260911T170000
DTSTAMP:20260424T075338
CREATED:20260223T101251Z
LAST-MODIFIED:20260223T101251Z
UID:31425-1788940800-1789146000@www.salutementale.net
SUMMARY:14esima Conferenza Europea sulla Salute mentale - ECMH
DESCRIPTION:ECMH\, European Conference on Mental Health\, è un evento annuale per professionisti del settore della salute mentale per imparare\, fare ricerca e scambiare idee. \nLa conferenza di quest’anno si terrà a Praga dal 9 all’11 settembre. \nPer maggiori informazioni clicca qui.
URL:https://www.salutementale.net/event/14esima-conferenza-europea-sulla-salute-mentale-ecmh/
LOCATION:Praga\, Repubblica Ceca
CATEGORIES:Conferenza
ATTACH;FMTTYPE=image/png:https://www.salutementale.net/wp-content/uploads/2026/02/ECMH.png
END:VEVENT
BEGIN:VEVENT
DTSTART;TZID=Europe/Rome:20261006T080000
DTEND;TZID=Europe/Rome:20261010T170000
DTSTAMP:20260424T075338
CREATED:20260414T130416Z
LAST-MODIFIED:20260414T130416Z
UID:31893-1791273600-1791651600@www.salutementale.net
SUMMARY:Premio “Franco Basaglia” a Valdarno Cinema Fedic
DESCRIPTION:Per la nuova edizione di Valdarno Cinema Fedic\, che si svolgerà a San Giovanni Valdarno (AR)\, ci sarà anche quest’anno il riconoscimento “Premio Franco Basaglia”\, grazie alla collaborazione tra il Centro di promozione della salute Franco Basaglia di Arezzo e il Festival. Il premio\, del valore di 500 euro\, verrà assegnato “all’Opera che meglio rappresenti le tematiche della salute mentale nel nostro presente in Italia e nel mondo“. \nRicordiamo che il bando per la partecipazione al Concorso scade l’11 maggio 2026. Il bando stesso\, con tutte le indicazioni per iscrivere le opere e con la scheda di iscrizione\, può essere reperito cliccando qui.
URL:https://www.salutementale.net/event/premio-franco-basaglia-a-valdarno-cinema-fedic/
LOCATION:San Giovanni Valdarno (AR)
CATEGORIES:Festival
ATTACH;FMTTYPE=image/jpeg:https://www.salutementale.net/wp-content/uploads/2026/04/Valdarno-1.jpg
END:VEVENT
END:VCALENDAR