BEGIN:VCALENDAR
VERSION:2.0
PRODID:-//Salutementale.net - ECPv6.15.17.1//NONSGML v1.0//EN
CALSCALE:GREGORIAN
METHOD:PUBLISH
X-ORIGINAL-URL:https://www.salutementale.net
X-WR-CALDESC:Eventi per Salutementale.net
REFRESH-INTERVAL;VALUE=DURATION:PT1H
X-Robots-Tag:noindex
X-PUBLISHED-TTL:PT1H
BEGIN:VTIMEZONE
TZID:Europe/Rome
BEGIN:DAYLIGHT
TZOFFSETFROM:+0100
TZOFFSETTO:+0200
TZNAME:CEST
DTSTART:20240331T010000
END:DAYLIGHT
BEGIN:STANDARD
TZOFFSETFROM:+0200
TZOFFSETTO:+0100
TZNAME:CET
DTSTART:20241027T010000
END:STANDARD
BEGIN:DAYLIGHT
TZOFFSETFROM:+0100
TZOFFSETTO:+0200
TZNAME:CEST
DTSTART:20250330T010000
END:DAYLIGHT
BEGIN:STANDARD
TZOFFSETFROM:+0200
TZOFFSETTO:+0100
TZNAME:CET
DTSTART:20251026T010000
END:STANDARD
BEGIN:DAYLIGHT
TZOFFSETFROM:+0100
TZOFFSETTO:+0200
TZNAME:CEST
DTSTART:20260329T010000
END:DAYLIGHT
BEGIN:STANDARD
TZOFFSETFROM:+0200
TZOFFSETTO:+0100
TZNAME:CET
DTSTART:20261025T010000
END:STANDARD
END:VTIMEZONE
BEGIN:VEVENT
DTSTART;TZID=Europe/Rome:20250506T210000
DTEND;TZID=Europe/Rome:20250506T230000
DTSTAMP:20260423T183843
CREATED:20250505T090347Z
LAST-MODIFIED:20250505T090536Z
UID:28142-1746565200-1746572400@www.salutementale.net
SUMMARY:TRA PARENTESI – La vera storia di un’impensabile liberazione
DESCRIPTION:Nel quarantesimo anniversario della legge 180\, Peppe Dell’Acqua\, allievo e collaboratore di Basaglia\, racconta gli anni memorabili in cui la malattia mentale fu messa progressivamente “tra parentesi” e i malati\, da internati senza più nome\, tornarono a essere cittadini\, persone\, individui da curare con dignità. Lo fa con delicatezza e non senza emozione\, dipanando il filo dei ricordi e inanellando curiosi aneddoti\, incalzato da uno sparring partner d’eccezione\, il conduttore radiofonico Massimo Cirri.
URL:https://www.salutementale.net/event/tra-parentesi-la-vera-storia-di-unimpensabile-liberazione/
LOCATION:Teatro Tor Bella Monaca\, via Bruno Cirino\, Roma\, Italia
CATEGORIES:Evento culturale
ATTACH;FMTTYPE=image/jpeg:https://www.salutementale.net/wp-content/uploads/2025/05/Immagine-teatro-tor-bella-monaca.jpg
END:VEVENT
BEGIN:VEVENT
DTSTART;TZID=Europe/Rome:20250507T080000
DTEND;TZID=Europe/Rome:20250510T170000
DTSTAMP:20260423T183843
CREATED:20241209T101312Z
LAST-MODIFIED:20241209T101312Z
UID:26887-1746604800-1746896400@www.salutementale.net
SUMMARY:64 Congresso Nazionale SNO
DESCRIPTION:Quello del 2025 sarà un Congresso SNO in cui i protagonisti saranno i giovani che si occupano di Neuroscienze Cliniche e il “leitmotiv” sarà quello delle nuove tecnologie che stanno cambiando la nostra attività clinica\, diagnostica\, interventistica e chirurgica quotidiana.
URL:https://www.salutementale.net/event/64-congresso-nazionale-sno/
LOCATION:Piazza della Pilotta 4\, Roma
CATEGORIES:congresso
ATTACH;FMTTYPE=image/jpeg:https://www.salutementale.net/wp-content/uploads/2024/12/Immagine-ROMAX.jpg
END:VEVENT
BEGIN:VEVENT
DTSTART;TZID=Europe/Rome:20250508T080000
DTEND;TZID=Europe/Rome:20250510T170000
DTSTAMP:20260423T183843
CREATED:20250415T143839Z
LAST-MODIFIED:20250415T143839Z
UID:27962-1746691200-1746896400@www.salutementale.net
SUMMARY:Fili Sottili
DESCRIPTION:Nasce a Cirié la prima edizione di “Fili Sottili” un festival che unisce arte\, salute e inclusione. \nSaranno tre giorni intensi quelli che animeranno i comuni di Cirié e Lanzo Torinese dall’8 al 10 maggio. \nIl progetto organizzato da Lunathica\, che organizza già il festival internazionale di Teatro di Strada\, e coordinato da Cristiano Falcomer\, ha visto la partecipazione di importanti realtà locali attive nei campi della salute mentale\, della disabilità e del teatro sociale.
URL:https://www.salutementale.net/event/fili-sottili/
LOCATION:Cirié e Lanzo Torinese
CATEGORIES:Festival
ATTACH;FMTTYPE=image/jpeg:https://www.salutementale.net/wp-content/uploads/2025/04/Immagine-fili-sottili.jpg
END:VEVENT
BEGIN:VEVENT
DTSTART;TZID=Europe/Rome:20250509T093000
DTEND;TZID=Europe/Rome:20250509T170000
DTSTAMP:20260423T183843
CREATED:20241216T100127Z
LAST-MODIFIED:20241216T102723Z
UID:26963-1746783000-1746810000@www.salutementale.net
SUMMARY:I disturbi di personalità in età evolutiva
DESCRIPTION:I sistemi di classificazione diagnostica non consentono di porre diagnosi di disturbo di personalità in età evolutiva. Alcuni clinici ritengono che sia pericoloso e stigmatizzante farlo\, dato che essa si riferisce a modalità rigide e disadattive di percepire\, pensare e mettersi in relazione\, che causano un significativo disagio o una compromissione funzionale; ciò andrebbe in contrasto con il concetto secondo cui\, in età evolutiva\, la personalità è in continua evoluzione. Una parte della comunità scientifica\, tuttavia\, non solo ha dimostrato la possibilità di inquadrare dal punto di vista diagnostico i disturbi di personalità in età evolutiva\, ma ha sottolineato anche i rischi significativi di una mancata diagnosi e del relativo trattamento precoce sul futuro adattamento della persona.
URL:https://www.salutementale.net/event/i-disturbi-di-personalita-in-eta-evolutiva/
LOCATION:online
CATEGORIES:Convegno,Corso,Evento sportivo
ATTACH;FMTTYPE=image/jpeg:https://www.salutementale.net/wp-content/uploads/2024/12/9-maggio-2025.jpg
END:VEVENT
BEGIN:VEVENT
DTSTART;TZID=Europe/Rome:20250515T080000
DTEND;TZID=Europe/Rome:20250516T170000
DTSTAMP:20260423T183843
CREATED:20241209T095232Z
LAST-MODIFIED:20241209T095232Z
UID:26878-1747296000-1747414800@www.salutementale.net
SUMMARY:Psicofarmacologia clinica nell'età di transizione
DESCRIPTION:Tra il 15 e il 16 maggio si terrà l’evento a Cagliari sulla psicofarmacologia clinica nell’età di transizione.
URL:https://www.salutementale.net/event/psicofarmacologia-clinica-nelleta-di-transizione/
LOCATION:Cittadella universitaria del Monserrato/Cagliari
CATEGORIES:Convegno
ATTACH;FMTTYPE=image/jpeg:https://www.salutementale.net/wp-content/uploads/2024/12/Cagliari.jpg
END:VEVENT
BEGIN:VEVENT
DTSTART;TZID=Europe/Rome:20250515T200000
DTEND;TZID=Europe/Rome:20250626T230000
DTSTAMP:20260423T183843
CREATED:20250616T094424Z
LAST-MODIFIED:20250617T141305Z
UID:28763-1747339200-1750978800@www.salutementale.net
SUMMARY:XI Edizione Cinemente Forme della distruttività
DESCRIPTION:Rassegna di psicoanalisi e cinema.
URL:https://www.salutementale.net/event/xi-edizione-cinemente-forme-della-distruttivita/
LOCATION:Palazzo delle Esposizioni\, via Milano 9a\, Roma
CATEGORIES:Evento culturale
ATTACH;FMTTYPE=image/jpeg:https://www.salutementale.net/wp-content/uploads/2025/06/Immagine-cinemente.jpg
END:VEVENT
BEGIN:VEVENT
DTSTART;TZID=Europe/Rome:20250522T080000
DTEND;TZID=Europe/Rome:20250525T170000
DTSTAMP:20260423T183843
CREATED:20250109T145748Z
LAST-MODIFIED:20250617T140631Z
UID:27067-1747900800-1748192400@www.salutementale.net
SUMMARY:Festival dei Matti XV Edizione
DESCRIPTION:Da dove nascono i conflitti? Nascono davvero? Cosa ne facciamo? Quale senso racchiudono e come ne siamo implicati? Conflitto\, solo per una riduzione semantica sommaria\, sta per urto\, scontro\, guerra\, distruzione e la sua abolizione per armonia\, pace\, vita. C’è un senso più remoto e radicale della parola\, qualcosa che ha a che fare con le contraddizioni che ci costituiscono\, con le diversità\, con i corpi\, con la complessità dell’esistenza. Con l’altra faccia della luna. Distrarre i conflitti\, non attraversarli\, spingerli nelle periferie delle nostre narrazioni collettive come vorrebbero l’azione politica\, terapeutica e pedagogica\, ci condanna ad esserne sempre e comunque sequestrati\, in un gorgo di violenza senza fine.  Ci chiederemo allora come sottrarci a tali spinte\, quali resistenze e diserzioni occorrano per smontare questa normalità asfittica e feroce\, per rianimare le inquietudini sedate\, per tornare ad abitare i conflitti distratti.
URL:https://www.salutementale.net/event/festival-dei-matti-xv-edizione/
LOCATION:Venezia
CATEGORIES:Festival
ATTACH;FMTTYPE=image/jpeg:https://www.salutementale.net/wp-content/uploads/2025/01/matti-1.jpg
END:VEVENT
BEGIN:VEVENT
DTSTART;TZID=Europe/Rome:20250523T190000
DTEND;TZID=Europe/Rome:20250704T203000
DTSTAMP:20260423T183843
CREATED:20250506T133301Z
LAST-MODIFIED:20250609T101242Z
UID:28148-1748026800-1751661000@www.salutementale.net
SUMMARY:Fuori Sede
DESCRIPTION:Il sentirsi fuori sede non riguarda solo il rapporto tra il luogo in cui si vive e quello dal quale si proviene\, ma anche altri ambiti come quello interiore. In una cornice di 4 incontri rispettivamente 23 maggio\, 6 giugno\, 20 giugno e 4 luglio si affronteranno diversi temi. \nper quanto riguarda le modalità di iscrizione bisogna scrivere ENTRO IL 16 MAGGIO  a appartenenze.psicologiroma@gmail.com indicando nell’oggetto “Iscrizione  Laboratorio Fuori Sede”. \nIl costo è di €180 da saldare ENTRO IL 21 MAGGIO 2025.
URL:https://www.salutementale.net/event/fuori-sede/
LOCATION:Via Amba Aradam\, 11 / Roma
CATEGORIES:Seminario
ATTACH;FMTTYPE=image/jpeg:https://www.salutementale.net/wp-content/uploads/2025/05/imagine-evento-appartenenze.jpeg
END:VEVENT
BEGIN:VEVENT
DTSTART;TZID=Europe/Rome:20250524T093000
DTEND;TZID=Europe/Rome:20250524T140000
DTSTAMP:20260423T183843
CREATED:20250520T134925Z
LAST-MODIFIED:20250520T134925Z
UID:28293-1748079000-1748095200@www.salutementale.net
SUMMARY:Dove va la psichiatria oggi?
DESCRIPTION:Simposio aperto al pubblico sulle patologie emergenti ed altri disagi.
URL:https://www.salutementale.net/event/dove-va-la-psichiatria-oggi/
LOCATION:Sala Rossa/Comune di Savona
CATEGORIES:Convegno,congresso
ATTACH;FMTTYPE=image/jpeg:https://www.salutementale.net/wp-content/uploads/2025/05/IMG-dove-va-la-psichiatria-oggi.jpg
END:VEVENT
BEGIN:VEVENT
DTSTART;TZID=Europe/Rome:20250524T150000
DTEND;TZID=Europe/Rome:20250524T190000
DTSTAMP:20260423T183843
CREATED:20250519T081758Z
LAST-MODIFIED:20250519T081901Z
UID:28281-1748098800-1748113200@www.salutementale.net
SUMMARY:Festival mi-fa-sol
DESCRIPTION:Evento dalle molte sfaccettature artistiche che tocca vari ambiti\, dal ballo\, alla musica sino alla fotografia. \n \n 
URL:https://www.salutementale.net/event/festival-mi-fa-sol-2/
LOCATION:Villa Lazzaroni\, Roma
CATEGORIES:Festival,Evento culturale
ATTACH;FMTTYPE=image/jpeg:https://www.salutementale.net/wp-content/uploads/2025/05/FESTIVAL-MI-FA-SOL.jpg
END:VEVENT
BEGIN:VEVENT
DTSTART;TZID=Europe/Rome:20250524T170000
DTEND;TZID=Europe/Rome:20250524T230000
DTSTAMP:20260423T183843
CREATED:20250522T130420Z
LAST-MODIFIED:20250617T140603Z
UID:28357-1748106000-1748127600@www.salutementale.net
SUMMARY:La Rivoluzione del Comodino
DESCRIPTION:PROGRAMMA DELLA GIORNATA \nh.17.00 apertura mostra del Collettivo degli Artisti di Montemario\, arte partecipativa con Mela Wayfinder e laboratorio di cartapesta con Ilaria Sartini \nh.18.00 opening speech e visita guidata alla mostra con Dafne Crocella \nh.18.30 presentazione del libro “Franco Basaglia\, passato e presente di una rivoluzione” con le autrici Ludovica Jona e Elisa Storace e le letture di Elisa Bongiovanni \nA seguire tavola rotonda con open mic su la legge Basaglia ieri e oggi \nh.20.00 cena sociale \nh.21.00 video proiezione di “Ogni pensiero vola” di Alice Ambrogi con la presentazione di Nicoló Crespi \n*La Rivoluzione nel Comodino* \n_i gesti basagliani nelle opere del Collettivo degli Artisti di Monte Mario_ \n*Giornate Basagliane 2025*\nCasa del Popolo Quartaccio “Lorenzo Orsetti” – via del Podere Fiume 61\, Roma \nSabato 24 maggio\ndalle 17.00 alle 23.00 \nMostra d’arte\nTavola rotonda sui temi della psichiatria ieri e oggi\nPerformances\nPresentazioni di libri\nArte partecipativa\nLaboratori per bambini\ncena sociale\nVideo proiezione \nIn occasione della VII edizione delle Giornate Basagliane\, le artiste e gli artisti del Collettivo degli Artisti di MonteMario hanno scelto di lavorare sull’immagine del comodino\, ispirandosi a un gesto emblematico di Franco Basaglia. Appena nominato direttore del Manicomio di Gorizia\, Basaglia volle che accanto a ogni letto ci fosse un comodino: un segno semplice ma rivoluzionario\, pensato per restituire dignità e umanità alle persone internate\, superando la logica della deumanizzazione. \nNasce così una mostra fatta di comodini\, interpretati come simboli di rispetto\, cura e dignità.
URL:https://www.salutementale.net/event/la-rivoluzione-del-comodino/
LOCATION:Via del podere fiume\, 61/ Casa del Popolo “Lorenzo Orsetti”
CATEGORIES:Mostra,Evento culturale
ATTACH;FMTTYPE=image/jpeg:https://www.salutementale.net/wp-content/uploads/2025/05/la-rivoluzione-del-comodino.jpg
END:VEVENT
BEGIN:VEVENT
DTSTART;TZID=Europe/Rome:20250524T190000
DTEND;TZID=Europe/Rome:20250524T230000
DTSTAMP:20260423T183843
CREATED:20250515T145946Z
LAST-MODIFIED:20250617T140518Z
UID:28265-1748113200-1748127600@www.salutementale.net
SUMMARY:Insieme In...Canto. Concerto corale
DESCRIPTION:Il 24 maggio alle ore 19 presso la Basilica di San Vitale al Quirinale si terrà un concerto canoro.
URL:https://www.salutementale.net/event/insieme-in-canto-concerto-corale/
LOCATION:Via Nazionale\, 194/Roma
CATEGORIES:Music Concert,Evento culturale
ATTACH;FMTTYPE=image/jpeg:https://www.salutementale.net/wp-content/uploads/2025/05/0.-Locandina-Evento-Coro_page-0001.jpg
END:VEVENT
BEGIN:VEVENT
DTSTART;TZID=Europe/Rome:20250527T080000
DTEND;TZID=Europe/Rome:20250527T190000
DTSTAMP:20260423T183843
CREATED:20250414T092111Z
LAST-MODIFIED:20250415T140005Z
UID:27938-1748332800-1748372400@www.salutementale.net
SUMMARY:Convegno Nazionale ECM: Linee Guida del Disturbo da Uso di Alcol DUA
DESCRIPTION:Convegno dove verranno esposte le linee guida del Disturbo da Uso di Alcol DUA. Il Congresso GRATUITO è rivolto a 80 partecipanti tra Medici\, Psicologi\, Infermieri e Assistenti Sociali e si svolgerà nella giornata di Martedì 27/05/2025 presso il Salone del Commendatore – ASL Roma 1\, B.go S. Spirito\, 3 – Roma. Al fine della iscrizione si dovrà presentare domanda redatta sull’apposito modello (allegato alla presente o disponibile presso la Segreteria o scaricabile dalla pagina “modulistica” del sito web) ove figurano ulteriori informazioni.
URL:https://www.salutementale.net/event/linee-guida-del-disturbo-da-uso-di-alcol-dua/
LOCATION:OSPEDALE S. SPIRITO IN SAXIA – ASL ROMA 1 SALONE DEL COMMENDATORE Borgo Santo Spirito\, 3 – Roma
CATEGORIES:Convegno,Corso di aggiornamento ECM
ATTACH;FMTTYPE=image/jpeg:https://www.salutementale.net/wp-content/uploads/2025/04/Immagine-evento-trattamento-abuso-alcol.jpg
END:VEVENT
BEGIN:VEVENT
DTSTART;TZID=Europe/Rome:20250528T090000
DTEND;TZID=Europe/Rome:20250528T153000
DTSTAMP:20260423T183843
CREATED:20250522T131505Z
LAST-MODIFIED:20250522T131505Z
UID:28366-1748422800-1748446200@www.salutementale.net
SUMMARY:Uniti si cresce\, insieme si festeggia
DESCRIPTION:Open party dei centri diurni Casilina e Manfredonia.
URL:https://www.salutementale.net/event/uniti-si-cresce-insieme-si-festeggia/
LOCATION:Via delle ciliegie\, 42/ Roma
CATEGORIES:Evento culturale
ATTACH;FMTTYPE=image/jpeg:https://www.salutementale.net/wp-content/uploads/2025/05/locandina-uniti-si-cresce.jpg
END:VEVENT
BEGIN:VEVENT
DTSTART;TZID=Europe/Rome:20250530T160000
DTEND;TZID=Europe/Rome:20250530T190000
DTSTAMP:20260423T183843
CREATED:20250527T143009Z
LAST-MODIFIED:20250527T143009Z
UID:28442-1748620800-1748631600@www.salutementale.net
SUMMARY:Giornalismo e Salute mentale: evento a Trapani in collaborazione con l’Asp
DESCRIPTION:Tra precariato e tabù: la salute mentale nel lavoro giornalistico. Il soccorso degli strumenti del welfare. E’ il tema dell’evento formativo valido per formazione professionale continua dell’Ordine dei giornalisti\, che si terrà venerdì 30 maggio alle ore 16\,00 nella sede di Assostampa\, in via Duca d’Aosta 59 a Casa Santa. \nIl corso è organizzato in collaborazione con l’Azienda sanitaria provinciale di Trapani.
URL:https://www.salutementale.net/event/giornalismo-e-salute-mentale-evento-a-trapani-in-collaborazione-con-lasp/
LOCATION:Sede di Assostampa\, in via Duca d’Aosta\, 59 / Casa Santa/ Trapani
CATEGORIES:Convegno,Evento culturale
ATTACH;FMTTYPE=image/jpeg:https://www.salutementale.net/wp-content/uploads/2025/05/Immagine-Casa-Santa.jpg
END:VEVENT
BEGIN:VEVENT
DTSTART;TZID=Europe/Rome:20250530T210000
DTEND;TZID=Europe/Rome:20250530T230000
DTSTAMP:20260423T183843
CREATED:20250513T142318Z
LAST-MODIFIED:20250513T142318Z
UID:28218-1748638800-1748646000@www.salutementale.net
SUMMARY:Dialogo tra vento ed erba
DESCRIPTION:Spettacolo che andrà in scena il 30 maggio.
URL:https://www.salutementale.net/event/dialogo-tra-vento-ed-erba/
LOCATION:Via di Torpignattara\, 142/Roma
CATEGORIES:Spettacolo,Evento culturale
ATTACH;FMTTYPE=image/jpeg:https://www.salutementale.net/wp-content/uploads/2025/05/Immagine-30-maggio-evento.jpg
END:VEVENT
BEGIN:VEVENT
DTSTART;TZID=Europe/Rome:20250604T110000
DTEND;TZID=Europe/Rome:20250604T130000
DTSTAMP:20260423T183843
CREATED:20250603T151337Z
LAST-MODIFIED:20250604T083548Z
UID:28547-1749034800-1749042000@www.salutementale.net
SUMMARY:Erbario in mostra
DESCRIPTION:Al centro diurno San Paolo si terrà una mostra riguardante le piante. \n“L’Erbario in Mostra”\, un progetto dove la fragilità diventa risorsa per la comunità \n \n 
URL:https://www.salutementale.net/event/erbari-in-mostra/
LOCATION:Viale Giustiniano Imperatore\,45 /Roma
CATEGORIES:Evento culturale
ATTACH;FMTTYPE=image/jpeg:https://www.salutementale.net/wp-content/uploads/2025/06/erbari.jpg
END:VEVENT
BEGIN:VEVENT
DTSTART;TZID=Europe/Rome:20250604T173000
DTEND;TZID=Europe/Rome:20250604T190000
DTSTAMP:20260423T183843
CREATED:20250603T125455Z
LAST-MODIFIED:20250603T125455Z
UID:28531-1749058200-1749063600@www.salutementale.net
SUMMARY:I disturbi della nutrizione e dell'alimentazione: nuove prospettive
DESCRIPTION:Incontro coadiuvato da psichiatra riguardo l’alimentazione.
URL:https://www.salutementale.net/event/i-disturbi-della-nutrizione-e-dellalimentazione-nuove-prospettive/
LOCATION:Fondazione Di Liegro – Via Ostiense 106 – Roma
CATEGORIES:Conferenza,Convegno,congresso
ATTACH;FMTTYPE=image/jpeg:https://www.salutementale.net/wp-content/uploads/2025/06/i-disturbi-della-nutrizione.jpg
ORGANIZER;CN="Fondazione Internazionale Don Luigi Di Liegro":MAILTO:segreteria@fondazionediliegro.it
END:VEVENT
BEGIN:VEVENT
DTSTART;TZID=Europe/Rome:20250605T080000
DTEND;TZID=Europe/Rome:20250607T170000
DTSTAMP:20260423T183843
CREATED:20250225T145849Z
LAST-MODIFIED:20250225T145849Z
UID:27526-1749110400-1749315600@www.salutementale.net
SUMMARY:XV Congresso Nazionale Psicologia
DESCRIPTION:Date importanti: \n5 Marzo 2025: scadenza invio contributi \n10 Aprile 2025: comunicazione dell’accettazione dei contributi al proponente \n15 Aprile 2025: scadenza quota iscrizione ridotta \nL’accettazione definitiva dei contributi (simposi\, comunicazioni orali\, poster) e il loro inserimento nel programma richiedono l’iscrizione di almeno un autore entro il 15 Aprile 2025.
URL:https://www.salutementale.net/event/xv-congresso-nazionale-psicologia/
LOCATION:Università degli studi di Torino (Campus Luigi Einaudi)
CATEGORIES:Conferenza,Convegno,congresso,Evento sportivo
ATTACH;FMTTYPE=image/jpeg:https://www.salutementale.net/wp-content/uploads/2025/02/1_fotocongresso_persito.jpg
END:VEVENT
BEGIN:VEVENT
DTSTART;TZID=Europe/Rome:20250605T160000
DTEND;TZID=Europe/Rome:20250605T190000
DTSTAMP:20260423T183843
CREATED:20250604T092446Z
LAST-MODIFIED:20250617T140923Z
UID:28563-1749139200-1749150000@www.salutementale.net
SUMMARY:Non Ci Rigioco
DESCRIPTION:Player è frutto del percorso del laboratorio teatrale nell’ambito del progetto “Non Ci Rigioco” del CeIS Don Mario Picchi di Roma con la partecipazione del laboratorio musicale. \ntel. 3403380325
URL:https://www.salutementale.net/event/non-ci-rigioco/
LOCATION:Via Ambrosini\, 129/ Roma
CATEGORIES:Spettacolo,Evento culturale
ATTACH;FMTTYPE=image/jpeg:https://www.salutementale.net/wp-content/uploads/2025/06/ceis.jpg
END:VEVENT
BEGIN:VEVENT
DTSTART;TZID=Europe/Rome:20250606T180000
DTEND;TZID=Europe/Rome:20250607T200000
DTSTAMP:20260423T183843
CREATED:20250522T132728Z
LAST-MODIFIED:20250522T132728Z
UID:28375-1749232800-1749326400@www.salutementale.net
SUMMARY:Argofest 2.5
DESCRIPTION:Evento culturale e festival delle più svariate arti comunicative.
URL:https://www.salutementale.net/event/argofest-2-5/
LOCATION:Parco delle Canapiglie/Roma
CATEGORIES:Festival,Evento culturale
ATTACH;FMTTYPE=image/jpeg:https://www.salutementale.net/wp-content/uploads/2025/05/ARGOFEST_25_page-0001-scaled.jpg
END:VEVENT
BEGIN:VEVENT
DTSTART;TZID=Europe/Rome:20250607T080000
DTEND;TZID=Europe/Rome:20250615T220000
DTSTAMP:20260423T183843
CREATED:20250609T093755Z
LAST-MODIFIED:20250609T093816Z
UID:28659-1749283200-1750024800@www.salutementale.net
SUMMARY:Quando cantavo dov'eri tu?
DESCRIPTION:Rassegna canora a sostegno della salute mentale.
URL:https://www.salutementale.net/event/quando-cantavo-doveri-tu/
LOCATION:Parco della Certosa\, Collegno/Torino
CATEGORIES:Festival,Evento culturale
ATTACH;FMTTYPE=image/jpeg:https://www.salutementale.net/wp-content/uploads/2025/06/Immagine-Certosa.jpg
END:VEVENT
BEGIN:VEVENT
DTSTART;TZID=Europe/Rome:20250608T090000
DTEND;TZID=Europe/Rome:20250608T143000
DTSTAMP:20260423T183843
CREATED:20250319T104743Z
LAST-MODIFIED:20250319T105437Z
UID:27726-1749373200-1749393000@www.salutementale.net
SUMMARY:Embodiment Summit: abitare il Corpo\, coltivare la Mente
DESCRIPTION:L’idea di embodiment si manifesta in diverse discipline come la Mindfulness\, le Neuroscienze e la Psiconeuroendocrinoimmunologia (PNEI)\, acquisendo un significato specifico all’interno di ognuna di esse.\nNonostante le sfumature differenti\, queste discipline condividono una prospettiva comune: il riconoscimento dell’importanza del corpo nella nostra esperienza e nella comprensione del mondo.\nNella Mindfulness\, il concetto di embodiment è inteso come consapevolezza e attenzione nei confronti del corpo nel momento presente. La Mindfulness ci invita a connetterci con le nostre sensazioni fisiche ed esperienze corporee\, promuovendo così una maggiore consapevolezza sia del nostro stato interiore che dell’ambiente circostante.\nNelle Neuroscienze\, l’embodiment si riferisce all’idea secondo cui cervello e corpo sono strettamente interconnessi e che la nostra esperienza viene modulata sia dalle attività cerebrali che dai processi corporei. Le teorie dell’embodiment nelle Neuroscienze enfatizzano il ruolo del corpo e dell’azione fisica nella formazione delle nostre esperienze cognitive\, emotive e sensoriali.
URL:https://www.salutementale.net/event/embodiment-summit-abitare-il-corpo-coltivare-la-mente/
LOCATION:Via Alibert\, 5A/Piazza di Spagna / Roma
CATEGORIES:Conferenza,Convegno,congresso
ATTACH;FMTTYPE=image/jpeg:https://www.salutementale.net/wp-content/uploads/2025/03/Benessere-Neuroscienze-e-cinque-sensi.jpg
END:VEVENT
BEGIN:VEVENT
DTSTART;TZID=Europe/Rome:20250611T080000
DTEND;TZID=Europe/Rome:20250614T170000
DTSTAMP:20260423T183843
CREATED:20241209T092601Z
LAST-MODIFIED:20250617T135810Z
UID:26871-1749628800-1749920400@www.salutementale.net
SUMMARY:XXX Congresso Nazionale AINR (Associazione Italiana di Neuroradiologia Diagnostica e Interventistica)
DESCRIPTION:Tra l’11 e il 14 giugno 2025 si terrà a Reggio Calabria il XXX Congresso dell’AINR (Associazione Italiana di Neuroradiologia Diagnostica e Interventistica) con accreditamento ecm per info iscrizione clicca qui.
URL:https://www.salutementale.net/event/xxx-congresso-nazionale-ainr/
LOCATION:Via dell’ Università 25 / Università Mediterranea / Reggio Calabria
CATEGORIES:congresso,Corso di aggiornamento ECM
ATTACH;FMTTYPE=image/png:https://www.salutementale.net/wp-content/uploads/2024/12/reggio-calabria.png
END:VEVENT
BEGIN:VEVENT
DTSTART;TZID=Europe/Rome:20250612T093000
DTEND;TZID=Europe/Rome:20250614T173000
DTSTAMP:20260423T183843
CREATED:20250609T091925Z
LAST-MODIFIED:20250617T132141Z
UID:28654-1749720600-1749922200@www.salutementale.net
SUMMARY:Festival Corto Ma Non Troppo
DESCRIPTION:Rassegna di corti che si terrà a Paliano.
URL:https://www.salutementale.net/event/festival-corto-ma-non-troppo-3/
LOCATION:Piazza XVII Martiri\, 1 / Paliano
CATEGORIES:Spettacolo,Festival
ATTACH;FMTTYPE=image/png:https://www.salutementale.net/wp-content/uploads/2025/06/Festival-2025_PALIANO-2.png
END:VEVENT
BEGIN:VEVENT
DTSTART;TZID=Europe/Rome:20250613T110000
DTEND;TZID=Europe/Rome:20250613T123000
DTSTAMP:20260423T183843
CREATED:20250609T090832Z
LAST-MODIFIED:20250609T090832Z
UID:28646-1749812400-1749817800@www.salutementale.net
SUMMARY:Evento tematico: costruire il futuro lavoro ed economia per l'inclusione
DESCRIPTION:Questo è un incontro per capire quanto l’apporto economico influisca nella vita di chi ha un disagio psichico.
URL:https://www.salutementale.net/event/evento-tematico-costruire-il-futuro-lavoro-ed-economia-per-linclusione/
LOCATION:Viale Umberto I\, 53 / Paliano
CATEGORIES:Conferenza,Convegno,congresso
ATTACH;FMTTYPE=image/png:https://www.salutementale.net/wp-content/uploads/2025/06/Evento-Costruire-futuro-PALIANO.png
END:VEVENT
BEGIN:VEVENT
DTSTART;TZID=Europe/Rome:20250614T180000
DTEND;TZID=Europe/Rome:20250614T233000
DTSTAMP:20260423T183843
CREATED:20250603T130127Z
LAST-MODIFIED:20250603T130127Z
UID:28534-1749924000-1749943800@www.salutementale.net
SUMMARY:Social tour Guidonia Montecelio 2025
DESCRIPTION:Incontro corale con ospite Federico Zampaglione.
URL:https://www.salutementale.net/event/social-tour-guidonia-montecelio-2025/
LOCATION:Guidonia Montecelio
CATEGORIES:Incontro
ATTACH;FMTTYPE=image/jpeg:https://www.salutementale.net/wp-content/uploads/2025/06/social-tour-guidonia.jpg
END:VEVENT
BEGIN:VEVENT
DTSTART;TZID=Europe/Rome:20250618T080000
DTEND;TZID=Europe/Rome:20250618T170000
DTSTAMP:20260423T183843
CREATED:20250317T101337Z
LAST-MODIFIED:20250609T101733Z
UID:27689-1750233600-1750266000@www.salutementale.net
SUMMARY:Congresso SIPLo (Società Italiana di Psicologia del Lavoro e delle Organizzazioni)
DESCRIPTION:Dalle nuove sfide cliniche alla riorganizzazione dei servizi di Salute Mentale: favorire il dibattito\, accrescere le competenze.
URL:https://www.salutementale.net/event/congresso-siplo/
LOCATION:Crema
CATEGORIES:Conferenza,Convegno,congresso
ATTACH;FMTTYPE=image/jpeg:https://www.salutementale.net/wp-content/uploads/2025/03/Congresso-SIPLo-2025-1536x806-1.jpg
END:VEVENT
BEGIN:VEVENT
DTSTART;TZID=Europe/Rome:20250625T083000
DTEND;TZID=Europe/Rome:20250625T170000
DTSTAMP:20260423T183843
CREATED:20250617T134532Z
LAST-MODIFIED:20250617T134532Z
UID:28792-1750840200-1750870800@www.salutementale.net
SUMMARY:La Giornata Studio sugli adolescenti organizzata da NPIA\, IPEE del DSM-DP ASL Roma2
DESCRIPTION:Il 25 giugno 2025 presso l’Aula Montalcini c/o l’Ospedale Sant’Eugenio di Roma si terrà la Giornata Studio “La sofferenza degli adolescenti: diagnosi\, trattamento\, prevenzione\, continuità territorio/ospedale – Fare la differenza” un’occasione di confronto e dibattito per gli operatori sanitari e i professionisti del settore. \nLa giornata è organizzata dalle UOC NPIA e UOSD IPEE del DSM-DP ASL Roma 2. \nNon c’è salute senza salute mentale\, ci ricorda l’OMS (Organizzazione della Salute Mentale) e per prevenire la sofferenza degli adulti bisognerebbe puntare alla salute dei giovani. Da qui nasce il costante impegno ad approfondire un tema così complesso e delicato\, con l’obiettivo di migliorare la prassi e l’intervento attraverso la reale esperienza nel campo clinico. \nPer poter partecipare vi invitiamo a iscrivervi tramite questo link. I posti sono limitati. \nPer scaricare il programma completo clicca qui.
URL:https://www.salutementale.net/event/la-giornata-studio-sugli-adolescenti-organizzata-da-npia-ipee-del-dsm-dp-asl-roma2/
LOCATION:Piazzale dell’umanesimo\,10 / Aula Montalcini-Ospedale Sant’Eugenio / Roma
CATEGORIES:Convegno
ATTACH;FMTTYPE=image/jpeg:https://www.salutementale.net/wp-content/uploads/2025/06/Immagine-giornata-25.jpg
END:VEVENT
BEGIN:VEVENT
DTSTART;TZID=Europe/Rome:20250626T083000
DTEND;TZID=Europe/Rome:20250627T190000
DTSTAMP:20260423T183843
CREATED:20250616T091458Z
LAST-MODIFIED:20250617T141348Z
UID:28740-1750926600-1751050800@www.salutementale.net
SUMMARY:Trattamenti Complessi in Salute Mentale ri-abilitazione e terapia del quotidiano
DESCRIPTION:Sono diversi anni che Psichiatria Democratica organizza occasioni di formazione che cercano di ridare voce all’esperienza concreta degli operatori\, proponendo uno sforzo di sintesi di pratiche e teorie. Questo Corso di Aggiornamento rispecchia tale impostazione sia dal punto di vista delle metodologie di insegnamento (pluralità disciplinare dei docenti\, spazio al lavoro di gruppo ed alla condivisione delle azioni quotidiane) che da quello dei contenuti affrontati. Con questo Corso\, Psichiatria Democratica mette al centro della riflessione la questione della presa in carico della grave sofferenza mentale\, a partire dalle pratiche che implicano approcci complessi di cura\, che prevedono condivisione duratura degli spazi e del tempo con i pazienti. \nPer saperne di più su info clicca qui. \nPer iscrivervi clicca qui.
URL:https://www.salutementale.net/event/trattamenti-complessi-in-salute-mentale-ri-abilitazione-e-terapia-del-quotidiano-2/
LOCATION:Città dell’altra economia/ex-mattatoio di Testaccio
CATEGORIES:Corso di aggiornamento ECM
ATTACH;FMTTYPE=image/jpeg:https://www.salutementale.net/wp-content/uploads/2025/06/Immagine-psichiatria-democratica-ev-1.jpg
END:VEVENT
END:VCALENDAR