BEGIN:VCALENDAR
VERSION:2.0
PRODID:-//Salutementale.net - ECPv6.15.17.1//NONSGML v1.0//EN
CALSCALE:GREGORIAN
METHOD:PUBLISH
X-ORIGINAL-URL:https://www.salutementale.net
X-WR-CALDESC:Eventi per Salutementale.net
REFRESH-INTERVAL;VALUE=DURATION:PT1H
X-Robots-Tag:noindex
X-PUBLISHED-TTL:PT1H
BEGIN:VTIMEZONE
TZID:Europe/Rome
BEGIN:DAYLIGHT
TZOFFSETFROM:+0100
TZOFFSETTO:+0200
TZNAME:CEST
DTSTART:20230326T010000
END:DAYLIGHT
BEGIN:STANDARD
TZOFFSETFROM:+0200
TZOFFSETTO:+0100
TZNAME:CET
DTSTART:20231029T010000
END:STANDARD
BEGIN:DAYLIGHT
TZOFFSETFROM:+0100
TZOFFSETTO:+0200
TZNAME:CEST
DTSTART:20240331T010000
END:DAYLIGHT
BEGIN:STANDARD
TZOFFSETFROM:+0200
TZOFFSETTO:+0100
TZNAME:CET
DTSTART:20241027T010000
END:STANDARD
BEGIN:DAYLIGHT
TZOFFSETFROM:+0100
TZOFFSETTO:+0200
TZNAME:CEST
DTSTART:20250330T010000
END:DAYLIGHT
BEGIN:STANDARD
TZOFFSETFROM:+0200
TZOFFSETTO:+0100
TZNAME:CET
DTSTART:20251026T010000
END:STANDARD
END:VTIMEZONE
BEGIN:VEVENT
DTSTART;TZID=Europe/Rome:20241007T200000
DTEND;TZID=Europe/Rome:20241007T233000
DTSTAMP:20260423T163759
CREATED:20241003T143101Z
LAST-MODIFIED:20241003T143101Z
UID:26188-1728331200-1728343800@www.salutementale.net
SUMMARY:Music@mens 2024: LA FINALE
DESCRIPTION:Validissima espressione artistica che come tema di fondo avrà la salute mentale la quale si terrà nella cornice del Teatro Tor Bella Monaca.
URL:https://www.salutementale.net/event/musicmens-2024-la-finale/
LOCATION:Via Bruno Cirino 5\, Roma
CATEGORIES:Festival,Evento culturale
ATTACH;FMTTYPE=image/jpeg:https://www.salutementale.net/wp-content/uploads/2024/09/LOCANDINA-ROMENS-7-OTTOBRE-FINALE-teatro-tor-bella-monaca.jpg
END:VEVENT
BEGIN:VEVENT
DTSTART;TZID=Europe/Rome:20241006T090000
DTEND;TZID=Europe/Rome:20241006T133000
DTSTAMP:20260423T163759
CREATED:20241003T141957Z
LAST-MODIFIED:20241003T142249Z
UID:26185-1728205200-1728221400@www.salutementale.net
SUMMARY:IX edizione "Matti per la Corsa"
DESCRIPTION:Evento sportivo all’insegna della coniugazione movimento\, natura e benessere psico-fisico. \nLo sport e la cultura sono parte integrante della vita dell’uomo contemporaneo. Attorno ad essi sono nati e si sono sviluppati comportamenti\, linguaggi e idee in grado di caratterizzare comunità locali e nazionali e di costituire sistemi di relazioni. Comportamenti che si basano sul concetto di “uguaglianza delle differenze”. \nPer Informazioni: cell. 335.1307875  \nemail: associazionesipuofaredipiu@gmail.com
URL:https://www.salutementale.net/event/ix-edizione-matti-per-la-corsa/
LOCATION:Largo Tacchi Venturi\, parco Caffarella/ Roma
CATEGORIES:Festival,Evento culturale
ATTACH;FMTTYPE=image/jpeg:https://www.salutementale.net/wp-content/uploads/2024/09/Matti-per-la-Corsa-2024-corretta.jpg
END:VEVENT
BEGIN:VEVENT
DTSTART;TZID=Europe/Rome:20241005T170000
DTEND;TZID=Europe/Rome:20241005T200000
DTSTAMP:20260423T163759
CREATED:20241003T141225Z
LAST-MODIFIED:20241003T141225Z
UID:26180-1728147600-1728158400@www.salutementale.net
SUMMARY:Storie culturali della Salute Mentale in Italia
DESCRIPTION:Racconto della giornalista RAI Michela Mancini del Podcast Rai Play Sound “Il Paese dei Pazzi” sul Manicomio di Girifalco.
URL:https://www.salutementale.net/event/storie-culturali-della-salute-mentale-in-italia/
LOCATION:Via Appia Nuova 522 – Roma
CATEGORIES:Festival,Evento culturale
ATTACH;FMTTYPE=image/jpeg:https://www.salutementale.net/wp-content/uploads/2024/10/LOCANDINA-ROMENS-lazzaroni.jpg
END:VEVENT
BEGIN:VEVENT
DTSTART;TZID=Europe/Rome:20241005T080000
DTEND;TZID=Europe/Rome:20241006T170000
DTSTAMP:20260423T163759
CREATED:20240925T091804Z
LAST-MODIFIED:20240925T091804Z
UID:25900-1728115200-1728234000@www.salutementale.net
SUMMARY:Utopie della realtà
DESCRIPTION:Il primo di una serie di incontri a cadenza annuale dedicati alle utopie della realtà è dedicato a Franco Basaglia. Molti hanno prodotto teorie riguardanti la follia\, altri hanno operato nella pratica\, ma nessuno\, come Franco Basaglia\, è riuscito a connettere i due livelli in un modo così radicale. Franco Basaglia ha agito dinamicamente nella scienza\, nella politica\, nel diritto\, nella cultura\, nella nostra società e nelle sue istituzioni. Ha aperto la possibilità di un cambiamento epistemologico radicale nelle scienze e di nuovi esercizi di cittadinanza\, come ha evidenziato il seminario su “L’eredità di Basaglia”\, svoltosi a Oxford nel 2018 e che ha riunito i rappresentanti di 15 paesi dell’Europa e dell’America Latina\, oltre i leader della Organizzazione Mondiale della Sanità.
URL:https://www.salutementale.net/event/utopie-della-realta/
LOCATION:Cineteca comunale / Rimini
CATEGORIES:Conferenza,Convegno,congresso,Incontro,Evento culturale,Basaglia
ATTACH;FMTTYPE=image/jpeg:https://www.salutementale.net/wp-content/uploads/2024/09/utopie-realta_1920x1080-1024x576-1.jpg
END:VEVENT
BEGIN:VEVENT
DTSTART;TZID=Europe/Rome:20241004T160000
DTEND;TZID=Europe/Rome:20241004T200000
DTSTAMP:20260423T163759
CREATED:20241003T134433Z
LAST-MODIFIED:20241003T134433Z
UID:26170-1728057600-1728072000@www.salutementale.net
SUMMARY:INSIEME....PER ANDARE LONTANO Il Centro Diurno Villa Lais incontra la cittadinanza
DESCRIPTION:Spettacolo teatrale itinerante dal titolo “Cocktail di benvenuto”.
URL:https://www.salutementale.net/event/insieme-per-andare-lontano-il-centro-diurno-villa-lais-incontra-la-cittadinanza/
LOCATION:Via Paolo Albera\, 50
CATEGORIES:Festival,Evento culturale
ATTACH;FMTTYPE=image/jpeg:https://www.salutementale.net/wp-content/uploads/2024/09/LOCANDINA-VILLA-LAIS.jpg
END:VEVENT
BEGIN:VEVENT
DTSTART;TZID=Europe/Rome:20241004T140000
DTEND;TZID=Europe/Rome:20241004T170000
DTSTAMP:20260423T163759
CREATED:20241003T135201Z
LAST-MODIFIED:20241003T135201Z
UID:26173-1728050400-1728061200@www.salutementale.net
SUMMARY:Il disagio giovanile: un’emergenza che richiede nuovi modi di pensare e nuovi modelli organizzativi
DESCRIPTION:Incontro rivolto a utenti\, familiari e popolazione Municipio VIII. \nPremessa\nIl disagio giovanile\, nelle sue molteplici forme di espressione\, ha subito un considerevole aumento in questi ultimi anni e non si intravvedono segni in direzione contraria. E’ diventata una vera e\npropria emergenza.\nMolto spesso i giovani accedono ai servizi dopo molto tempo dall’inizio del disagio\, quando questo\nha già preso la forma di disturbi di varia natura: disturbi ansiosi e depressivi\, disturbi alimentari\,\ndipendenze\, tentati suicidi\, gesti autolesivi\, disturbi vari del comportamento ed altre forme psicopatologiche.\nE’ in questa ottica che si sta muovendo il progetto rivolto ai giovani che prenderà avvio presso il\nConsultorio Familiare di via Settechiese\, dove verrà attivata un’équipe integrata multidipartimentale per i giovani\, con il concorso degli assessorato municipali\, e delle associazioni rivolte ai giovani\npresenti sul territorio che aderiscono al progetto.\nIl 4 ottobre si terrà\, dalle 14 alle 17.00\, un incontro sul tema del disagio giovanile in cui verrà presentato il nuovo progetto.
URL:https://www.salutementale.net/event/il-disagio-giovanile-unemergenza-che-richiede-nuovi-modi-di-pensare-e-nuovi-modelli-organizzativi/
LOCATION:Fondazione Di Liegro – Via Ostiense 106 – Roma
CATEGORIES:Festival,Evento culturale
ATTACH;FMTTYPE=image/jpeg:https://www.salutementale.net/wp-content/uploads/2024/09/LOCANDINA-ROMENS-4-OTTOBRE-ostiense.jpg
END:VEVENT
BEGIN:VEVENT
DTSTART;TZID=Europe/Rome:20241004T093000
DTEND;TZID=Europe/Rome:20241004T120000
DTSTAMP:20260423T163759
CREATED:20241003T140010Z
LAST-MODIFIED:20241003T140010Z
UID:26175-1728034200-1728043200@www.salutementale.net
SUMMARY:RI-PAR-LARSI “Dal carcere verso l’inclusione”
DESCRIPTION:Evento con letture di elaborati composti da pazienti della UOC Salute Mentale Penitenziaria e Psichiatria Forense reclusi presso il polo penitenziario di Rebibbia.
URL:https://www.salutementale.net/event/ri-par-larsi-dal-carcere-verso-linclusione/
LOCATION:Via Bartolo Longo\, 72 – Roma
CATEGORIES:Festival,Evento culturale
ATTACH;FMTTYPE=image/jpeg:https://www.salutementale.net/wp-content/uploads/2024/09/LOCANDINA-rebibbia.jpg
END:VEVENT
BEGIN:VEVENT
DTSTART;TZID=Europe/Rome:20241004T080000
DTEND;TZID=Europe/Rome:20241010T170000
DTSTAMP:20260423T163759
CREATED:20241003T144855Z
LAST-MODIFIED:20241003T144855Z
UID:26196-1728028800-1728579600@www.salutementale.net
SUMMARY:Basaglia\, 100 fotografie a 100 anni dalla sua nascita. Dal manicomio alla cura
DESCRIPTION:Fotografie di Gian Butturini\, Carla Cerati e Patrizia Riviera\, a cura di Gigliola Foschi e dell’Associazione Gian Butturini. Sarà presentato per la prima volta il mosaico dedicato a Franco Basaglia realizzato dagli utenti del Centro Diurno “La fabbrica dei sogni” del DSM ASL Roma 2. Partecipazione su invito\, aperta per i giornalisti\, previo accreditamento. \nL’esposizione fotografica\, realizzata con il Patrocinio del Ministero della Cultura\, rimarrà aperta nei giorni 4\, 7\, 8\, 9 e 10 ottobre 2024\, giornata mondiale della salute mentale. \nLa visita è gratuita previa prenotazione\, con una mail da inviare a romensfestival@gmail.com con oggetto ESPOSIZIONE BASAGLIA\, indicazione giorno e fascia oraria (10:00 – 12:00 oppure 15:00 – 17:00) alla quale seguirà conferma\, con possibilità di visita guidata a cura degli utenti del DSM\, fino ad esaurimento posti.
URL:https://www.salutementale.net/event/basaglia-100-fotografie-a-100-anni-dalla-sua-nascita-dal-manicomio-alla-cura/
LOCATION:Via del Collegio Romano\, 27
CATEGORIES:Festival,Evento culturale
ATTACH;FMTTYPE=image/jpeg:https://www.salutementale.net/wp-content/uploads/2024/10/esposizione.fotografica.basaglia.romens.jpg
END:VEVENT
BEGIN:VEVENT
DTSTART;TZID=Europe/Rome:20241003T150000
DTEND;TZID=Europe/Rome:20241003T180000
DTSTAMP:20260423T163759
CREATED:20241003T132649Z
LAST-MODIFIED:20241003T133009Z
UID:26159-1727967600-1727978400@www.salutementale.net
SUMMARY:La strada verso casa: deistituzionalizzazione e promozione di percorsi abitativi nella salute mentale
DESCRIPTION:In questo evento si celebrano la strada e il percorso che hanno portato alla deistituzionalizzazione con particolare riferimento ai temi dell’abitare e del decentramento nel territorio.
URL:https://www.salutementale.net/event/la-strada-verso-casa-deistituzionalizzazione-e-promozione-di-percorsi-abitativi-nella-salute-mentale/
LOCATION:Largo Ferruccio Mengaroni\, 29/ Roma
CATEGORIES:Festival,Evento culturale
ATTACH;FMTTYPE=image/jpeg:https://www.salutementale.net/wp-content/uploads/2024/09/LOCANDINA-TSPACCATA.jpg
END:VEVENT
BEGIN:VEVENT
DTSTART;TZID=Europe/Rome:20241003T093000
DTEND;TZID=Europe/Rome:20241003T130000
DTSTAMP:20260423T163759
CREATED:20241003T125651Z
LAST-MODIFIED:20241003T130719Z
UID:26128-1727947800-1727960400@www.salutementale.net
SUMMARY:Casa della cultura e dello sport
DESCRIPTION:In questo evento RO.MENS si potrà incontrare lo Sportello per la famiglia. Questo è uno strumento di raccordo molto utile tra la sanità e i parenti dell’utente.
URL:https://www.salutementale.net/event/casa-della-cultura-e-dello-sport/
LOCATION:Via Casilina 665 – Roma
CATEGORIES:Festival,Evento culturale
ATTACH;FMTTYPE=image/jpeg:https://www.salutementale.net/wp-content/uploads/2024/09/LOCANDINA-distretto5.jpg
END:VEVENT
BEGIN:VEVENT
DTSTART;TZID=Europe/Rome:20241003T090000
DTEND;TZID=Europe/Rome:20241003T180000
DTSTAMP:20260423T163759
CREATED:20241003T133933Z
LAST-MODIFIED:20241003T133933Z
UID:26164-1727946000-1727978400@www.salutementale.net
SUMMARY:XXIII Estemporanea di pittura a premi "Parco degli Acquedotti"
DESCRIPTION:I colori sono spesso espressione del nostro stato interiore. Questa manifestazione ha l’obiettivo di cercare quale sia l’equilibrio tra il nostro stato interiore e la composizione su tela.
URL:https://www.salutementale.net/event/xxiii-estemporanea-di-pittura-a-premi-parco-degli-acquedotti/
LOCATION:Via Lemonia 214 – Roma
CATEGORIES:Festival,Evento culturale
ATTACH;FMTTYPE=image/jpeg:https://www.salutementale.net/wp-content/uploads/2024/09/LOCANDINA-ESTEMPORANEA.jpg
END:VEVENT
BEGIN:VEVENT
DTSTART;TZID=Europe/Rome:20241003T090000
DTEND;TZID=Europe/Rome:20241003T133000
DTSTAMP:20260423T163759
CREATED:20241003T131509Z
LAST-MODIFIED:20241003T131509Z
UID:26152-1727946000-1727962200@www.salutementale.net
SUMMARY:Biblioteca Laurentina Centro Culturale Elsa Morante
DESCRIPTION:Camminata nel parco Laurentino Fonte Ostiense.
URL:https://www.salutementale.net/event/biblioteca-laurentina-centro-culturale-elsa-morante/
LOCATION:Piazzale Elsa Morante – Roma
CATEGORIES:Festival,Evento culturale
ATTACH;FMTTYPE=image/jpeg:https://www.salutementale.net/wp-content/uploads/2024/09/LOCANDINA-TSPACCATA.jpg
END:VEVENT
BEGIN:VEVENT
DTSTART;TZID=Europe/Rome:20241003T080000
DTEND;TZID=Europe/Rome:20241003T233000
DTSTAMP:20260423T163759
CREATED:20241003T130635Z
LAST-MODIFIED:20241003T130635Z
UID:26146-1727942400-1727998200@www.salutementale.net
SUMMARY:Incontro sul tema “Abitare il territorio: dal sostegno all’abitare a vivere il territorio per l’inclusione sociale”
DESCRIPTION:Ci sarà un incontro sul tema “Abitare il Territorio”.
URL:https://www.salutementale.net/event/incontro-sul-tema-abitare-il-territorio-dal-sostegno-allabitare-a-vivere-il-territorio-per-linclusione-sociale/
LOCATION:Via Casalbianco / Via Berforte del Chienti\, 24 – Roma
CATEGORIES:Festival,Evento culturale
ATTACH;FMTTYPE=image/jpeg:https://www.salutementale.net/wp-content/uploads/2024/09/LOCANDINA-BARDANZELLU.jpg
END:VEVENT
BEGIN:VEVENT
DTSTART;TZID=Europe/Rome:20240620T180000
DTEND;TZID=Europe/Rome:20240620T203000
DTSTAMP:20260423T163759
CREATED:20240617T100721Z
LAST-MODIFIED:20240617T101203Z
UID:25457-1718906400-1718915400@www.salutementale.net
SUMMARY:Franco Basaglia. L'utopia della realtà
DESCRIPTION:Presso la Biblioteca Casa della Memoria e della Storia\, giovedì 20 giugno alle ore 18 si terrà un incontro dedicato ai 100 anni di Franco Basaglia a cura del Municipio Roma I: Franco Basaglia. L’utopia della realtà.
URL:https://www.salutementale.net/event/franco-basaglia-lutopia-della-realta/
LOCATION:Piazza dell’Orologio 3 / Roma
CATEGORIES:Conferenza,Evento culturale
ATTACH;FMTTYPE=image/jpeg:https://www.salutementale.net/wp-content/uploads/2024/06/resource.jpg
END:VEVENT
BEGIN:VEVENT
DTSTART;TZID=Europe/Rome:20240613T160000
DTEND;TZID=Europe/Rome:20240615T233000
DTSTAMP:20260423T163759
CREATED:20240606T150630Z
LAST-MODIFIED:20240606T150630Z
UID:25405-1718294400-1718494200@www.salutementale.net
SUMMARY:Festival Corto... Ma non troppo!
DESCRIPTION:Il Festival è organizzato dalle strutture socio riabilitative Casa Johnny e Casa Mary di Paliano in collaborazione con l’associazione di promozione sociale L’ONDA\, con l’obiettivo di dare voce ai protagonisti del disagio mentale per trasmettere valori quali l’unicità della persona\, l’inclusione sociale e la condivisone.\nPrincipalmente rivolto a strutture terapeutiche\, riabilitative e psichiatriche e agli enti che si occupano di disabilità in generale\, il concorso è stato aperto negli anni anche a registi\, filmakers\, scuole e associazioni.
URL:https://www.salutementale.net/event/festival-corto-ma-non-troppo-2/
LOCATION:Ex Cinema Esperia\, Piazza XVII Martiri 1\, Paliano/Frosinone
CATEGORIES:Festival
ATTACH;FMTTYPE=image/png:https://www.salutementale.net/wp-content/uploads/2024/06/Programma-1.png
END:VEVENT
BEGIN:VEVENT
DTSTART;TZID=Europe/Rome:20240613T093000
DTEND;TZID=Europe/Rome:20240613T130000
DTSTAMP:20260423T163759
CREATED:20240520T081215Z
LAST-MODIFIED:20240520T082107Z
UID:25252-1718271000-1718283600@www.salutementale.net
SUMMARY:Il gesto di Basaglia
DESCRIPTION:In occasione del centenario della nascita di Franco Basaglia\, il Dipartimento di Psicologia Dinamica\, Clinica e Salute in collaborazione con il Museo Laboratorio della Mente ricorda il movimento di riforma della salute mentale che vide la nuova psichiatria e la psicologia collaborare e confrontarsi allo scopo di modernizzare il servizio sanitario italiano.
URL:https://www.salutementale.net/event/il-gesto-di-basaglia/
LOCATION:Via dei Marsi 78\, Roma
CATEGORIES:Convegno,congresso,Evento culturale,Basaglia
ATTACH;FMTTYPE=image/jpeg:https://www.salutementale.net/wp-content/uploads/2024/05/locandina-evento-13.06.2024R_page-0001.jpg
END:VEVENT
BEGIN:VEVENT
DTSTART;TZID=Europe/Rome:20240606T080000
DTEND;TZID=Europe/Rome:20240608T170000
DTSTAMP:20260423T163759
CREATED:20240603T085443Z
LAST-MODIFIED:20240603T092044Z
UID:25378-1717660800-1717866000@www.salutementale.net
SUMMARY:Argofest
DESCRIPTION:Carrellata di eventi culturali che si terranno dal 6 all’8 giugno presso via delle canapiglie 100\,116 in Roma.
URL:https://www.salutementale.net/event/argofest/
LOCATION:Via delle canapiglie 100\,116/Roma
CATEGORIES:Evento culturale
ATTACH;FMTTYPE=image/jpeg:https://www.salutementale.net/wp-content/uploads/2024/06/Programma-Argofest-2.4_page-0001.jpg
END:VEVENT
BEGIN:VEVENT
DTSTART;TZID=Europe/Rome:20240601T080000
DTEND;TZID=Europe/Rome:20240601T170000
DTSTAMP:20260423T163759
CREATED:20240220T144419Z
LAST-MODIFIED:20240220T155806Z
UID:24312-1717228800-1717261200@www.salutementale.net
SUMMARY:Festival Corto...Ma non Troppo
DESCRIPTION:Il Festival è organizzato dalle strutture socio riabilitative Casa Johnny e Casa Mary di Paliano in collaborazione con l’associazione di promozione sociale L’ONDA\, con l’obiettivo di dare voce ai protagonisti del disagio mentale per trasmettere valori quali l’unicità della persona\, l’inclusione sociale e la condivisone.\nPrincipalmente rivolto a strutture terapeutiche\, riabilitative e psichiatriche e agli enti che si occupano di disabilità in generale\, il concorso è stato aperto negli anni anche a registi\, filmakers\, scuole e associazioni. \nPER ISCRIVERSI BISOGNA FARLO ENTRO IL 28/4/2024 al link: \nhttps://www.festivalcortomanontroppo.it/iscrizioni/iscrizioni-festival-cortometraggi/ \n \n  \n 
URL:https://www.salutementale.net/event/festival-corto-ma-non-troppo/
LOCATION:Ex Cinema Esperia\, Piazza XVII Martiri 1\, Paliano/Frosinone
CATEGORIES:Spettacolo,Festival,Evento culturale
END:VEVENT
BEGIN:VEVENT
DTSTART;TZID=Europe/Rome:20240528T170000
DTEND;TZID=Europe/Rome:20240528T213000
DTSTAMP:20260423T163759
CREATED:20240304T111624Z
LAST-MODIFIED:20240304T111624Z
UID:24595-1716915600-1716931800@www.salutementale.net
SUMMARY:Teatro e salute mentale: presentazione del volume “La malattia che cura il teatro”
DESCRIPTION:Teatro e salute mentale: presentazione del volume “La malattia che cura il teatro”
URL:https://www.salutementale.net/event/teatro-e-salute-mentale-presentazione-del-volume-la-malattia-che-cura-il-teatro/
LOCATION:via Sant’Isaia\, 90 – Bologna
CATEGORIES:Evento culturale,Basaglia
ATTACH;FMTTYPE=image/jpeg:https://www.salutementale.net/wp-content/uploads/2024/03/Basaglia-Minguzzi-Sartre-Dedijer_800600.jpg
END:VEVENT
BEGIN:VEVENT
DTSTART;TZID=Europe/Rome:20240522T080000
DTEND;TZID=Europe/Rome:20240602T170000
DTSTAMP:20260423T163759
CREATED:20240520T082535Z
LAST-MODIFIED:20240520T083321Z
UID:25258-1716364800-1717347600@www.salutementale.net
SUMMARY:Oltre il manicomio
DESCRIPTION:Ritorna a Roma la mostra che ha fatto il giro del mondo: “Psichiatria e Diritti Umani: passato\, presente e possibile futuro” presso il prestigioso Palazzo Velli Expo in Piazza di Sant’Egidio 10\, Roma. \nNonostante la riforma\, più formale che sostanziale\, gli orrori psichiatrici del passato persistono nel presente perché\, come previsto dallo stesso Franco Basaglia\, il trasferimento delle competenze agli ospedali non ha cambiato l’approccio manicomiale fatto di trattamenti coatti\, minacce\, contenzione\, sbarre\, sedazione profonda e privazione dei più fondamentali diritti.
URL:https://www.salutementale.net/event/oltre-il-manicomio/
LOCATION:Piazza di Sant’Egidio 10\, Roma
CATEGORIES:Conferenza,Convegno,congresso,Mostra,Evento culturale
ATTACH;FMTTYPE=image/png:https://www.salutementale.net/wp-content/uploads/2024/05/locandina-Romaxxx.png
END:VEVENT
BEGIN:VEVENT
DTSTART;TZID=Europe/Rome:20240520T180000
DTEND;TZID=Europe/Rome:20240520T213000
DTSTAMP:20260423T163759
CREATED:20240514T133832Z
LAST-MODIFIED:20240514T134906Z
UID:25239-1716228000-1716240600@www.salutementale.net
SUMMARY:Su la maschera: musica in piazza!
DESCRIPTION:Lo spettacolo racconta le dinamiche\, le relazioni e ciò che accade all’interno di un Laboratorio artistico come il nostro.
URL:https://www.salutementale.net/event/su-la-maschera-musica-in-piazza/
LOCATION:teatro De’ Servi in via del Mortaro 22\, Roma.
CATEGORIES:Evento culturale
ATTACH;FMTTYPE=image/jpeg:https://www.salutementale.net/wp-content/uploads/2024/05/20-maggio-2024-no-info.jpg
END:VEVENT
BEGIN:VEVENT
DTSTART;TZID=Europe/Rome:20240511T170000
DTEND;TZID=Europe/Rome:20240511T200000
DTSTAMP:20260423T163759
CREATED:20240429T093905Z
LAST-MODIFIED:20240429T103814Z
UID:25109-1715446800-1715457600@www.salutementale.net
SUMMARY:Un libro in comune
DESCRIPTION:Serina Puglielli presenta il libro di Terry Falcone “Manuale di training autogeno in 12 passi”
URL:https://www.salutementale.net/event/un-libro-in-comune/
LOCATION:palazzo san Francesco/Sulmona
CATEGORIES:Evento culturale
ATTACH;FMTTYPE=image/jpeg:https://www.salutementale.net/wp-content/uploads/2024/04/foto-libro-L1.jpeg
END:VEVENT
BEGIN:VEVENT
DTSTART;TZID=Europe/Rome:20240511T090000
DTEND;TZID=Europe/Rome:20240511T133000
DTSTAMP:20260423T163759
CREATED:20240424T094846Z
LAST-MODIFIED:20240424T095902Z
UID:25038-1715418000-1715434200@www.salutementale.net
SUMMARY:Fix You
DESCRIPTION:Evento questo che evidenzia l’importanza della salute mentale e l’importanza di non essere soli.
URL:https://www.salutementale.net/event/fix-you/
LOCATION:viale gallipoli 31 /Lecce
CATEGORIES:Evento culturale
ATTACH;FMTTYPE=image/jpeg:https://www.salutementale.net/wp-content/uploads/2024/04/evento-fix-you.jpeg
END:VEVENT
BEGIN:VEVENT
DTSTART;TZID=Europe/Rome:20240429T173000
DTEND;TZID=Europe/Rome:20240505T170000
DTSTAMP:20260423T163759
CREATED:20240424T100537Z
LAST-MODIFIED:20240424T102226Z
UID:25047-1714411800-1714928400@www.salutementale.net
SUMMARY:Settimana della salute mentale materna
DESCRIPTION:Questo evento si sostanzia in una settimana per la salute mentale materna
URL:https://www.salutementale.net/event/settimana-della-salute-mentale-materna/
LOCATION:piazzale bacone 10/Milano
CATEGORIES:Evento culturale
ATTACH;FMTTYPE=image/jpeg:https://www.salutementale.net/wp-content/uploads/2024/04/materna-1.jpeg
END:VEVENT
BEGIN:VEVENT
DTSTART;TZID=Europe/Rome:20240418T083000
DTEND;TZID=Europe/Rome:20240418T130000
DTSTAMP:20260423T163759
CREATED:20240411T144502Z
LAST-MODIFIED:20240415T100212Z
UID:24988-1713429000-1713445200@www.salutementale.net
SUMMARY:La salute mentale è un diritto
DESCRIPTION:Evento culturale che si terrà a Bolzano sui giovani e i loro diritti \nIl 18 aprile si terrà la prima edizione del convegno La salute mentale è un diritto a Bolzano.\nUn giorno di incontri per parlare di salute mentale\, giovani\, i loro bisogni e contributi (spesso trascurati)\, di come raccontare l’attualità ai bambini e molto altro. \nIl convegno è per un pubblico di studenti (la mattina)\, di insegnanti\, operatori sociali e giovanili (il pomeriggio) e per tutta la cittadinanza (la sera).\nQuest’anno si svolge in al Liceo Pascoli di Bolzano (la mattina e il pomeriggio) e nella Sala di Rappresentanza del Comune di Bolzano (la sera). \nTutti gli incontri sono gratuiti.
URL:https://www.salutementale.net/event/la-salute-mentale-e-un-diritto/
LOCATION:liceo Pascoli/Bolzano
CATEGORIES:Evento culturale
ATTACH;FMTTYPE=image/jpeg:https://www.salutementale.net/wp-content/uploads/2024/04/IMG-7954.jpg
END:VEVENT
BEGIN:VEVENT
DTSTART;TZID=Europe/Rome:20240414T160000
DTEND;TZID=Europe/Rome:20240414T183000
DTSTAMP:20260423T163759
CREATED:20240411T142936Z
LAST-MODIFIED:20240411T143837Z
UID:24981-1713110400-1713119400@www.salutementale.net
SUMMARY:Matti da slegare
DESCRIPTION:DOCUMENTARIO GIRATO ALL’INTERNO DELL’ISTITUTO PSICHIATRICO DI COLORNO PER SOTTOLINEARE L’INTENTO DELLO PSICHIATRA FRANCO BASAGLIA DI NON EMARGINARE I MALATI MENTALI IN GHETTI COSTRITTIVI.
URL:https://www.salutementale.net/event/matti-da-slegare/
LOCATION:Via Girolamo Induno\, 1\, 00153/cinema Troisi/ Roma RM
CATEGORIES:Evento culturale
ATTACH;FMTTYPE=image/jpeg:https://www.salutementale.net/wp-content/uploads/2024/04/matti-da-slegare.jpg
END:VEVENT
BEGIN:VEVENT
DTSTART;TZID=Europe/Rome:20240412T180000
DTEND;TZID=Europe/Rome:20240412T200000
DTSTAMP:20260423T163759
CREATED:20240408T093541Z
LAST-MODIFIED:20240408T101153Z
UID:24951-1712944800-1712952000@www.salutementale.net
SUMMARY:La teoria del campo analitico: nuovi sviluppi in psicoanalisi
DESCRIPTION:Presentazione del libro “Introduzione alla teoria del campo analitico” da parte del relatore Giuseppe Civitarese.
URL:https://www.salutementale.net/event/la-teoria-del-campo-analitico-nuovi-sviluppi-in-psicoanalisi/
LOCATION:viale Coni Zugna\,5A/Milano
CATEGORIES:Evento culturale
END:VEVENT
BEGIN:VEVENT
DTSTART;TZID=Europe/Rome:20240409T093000
DTEND;TZID=Europe/Rome:20240409T133000
DTSTAMP:20260423T163759
CREATED:20240215T154036Z
LAST-MODIFIED:20240215T154209Z
UID:24296-1712655000-1712669400@www.salutementale.net
SUMMARY:Relazioni tossiche
DESCRIPTION:Due anni fa abbiamo proposto una riflessione sul lavoro clinico nella nuova realtà sociale ed esistenziale in cui l’esperienza della pandemia ci aveva precipitati\, lo scorso anno ci siamo interrogati sulla necessità\ndi ripensare i legami sociali ed affettivi spostandoci dalla posizione di una individualità troppo centralizzata per ricostruire un senso di comunità che lasci spazio all’incontro con l’irriducibile diversità\ndell’altro (di genere\, etnia\, storia\, cultura)\, diversità che ancora più fortemente ci impegna nel lavoro terapeutico.
URL:https://www.salutementale.net/event/relazioni-tossiche/
LOCATION:via cesare battisti\, 24/Bologna
CATEGORIES:Convegno,Corso,Corso di aggiornamento ECM,Evento culturale
END:VEVENT
BEGIN:VEVENT
DTSTART;TZID=Europe/Rome:20240322T173000
DTEND;TZID=Europe/Rome:20240418T190000
DTSTAMP:20260423T163800
CREATED:20240325T100737Z
LAST-MODIFIED:20240325T101341Z
UID:24858-1711128600-1713466800@www.salutementale.net
SUMMARY:"Tu interni...io libero"
DESCRIPTION:Mostra fotografica di Gian Butturini \n 
URL:https://www.salutementale.net/event/tu-interni-io-libero-2/
LOCATION:palazzo comunale di Cremona/sala Alabardieri
CATEGORIES:Mostra,Evento culturale
ATTACH;FMTTYPE=image/jpeg:https://www.salutementale.net/wp-content/uploads/2024/03/FB_evento.jpg
END:VEVENT
BEGIN:VEVENT
DTSTART;TZID=Europe/Rome:20240321T113000
DTEND;TZID=Europe/Rome:20240321T170000
DTSTAMP:20260423T163800
CREATED:20240228T092501Z
LAST-MODIFIED:20240228T092926Z
UID:24478-1711020600-1711040400@www.salutementale.net
SUMMARY:Porta con te una poesia
DESCRIPTION:Rassegna di poesie in occasione della giornata mondiale del 21 marzo.
URL:https://www.salutementale.net/event/porta-con-te-una-poesia/
LOCATION:via del Pigneto\, 22/Roma
CATEGORIES:Evento culturale
END:VEVENT
END:VCALENDAR