BEGIN:VCALENDAR
VERSION:2.0
PRODID:-//Salutementale.net - ECPv6.15.17.1//NONSGML v1.0//EN
CALSCALE:GREGORIAN
METHOD:PUBLISH
X-ORIGINAL-URL:https://www.salutementale.net
X-WR-CALDESC:Eventi per Salutementale.net
REFRESH-INTERVAL;VALUE=DURATION:PT1H
X-Robots-Tag:noindex
X-PUBLISHED-TTL:PT1H
BEGIN:VTIMEZONE
TZID:Europe/Rome
BEGIN:DAYLIGHT
TZOFFSETFROM:+0100
TZOFFSETTO:+0200
TZNAME:CEST
DTSTART:20180325T010000
END:DAYLIGHT
BEGIN:STANDARD
TZOFFSETFROM:+0200
TZOFFSETTO:+0100
TZNAME:CET
DTSTART:20181028T010000
END:STANDARD
BEGIN:DAYLIGHT
TZOFFSETFROM:+0100
TZOFFSETTO:+0200
TZNAME:CEST
DTSTART:20190331T010000
END:DAYLIGHT
BEGIN:STANDARD
TZOFFSETFROM:+0200
TZOFFSETTO:+0100
TZNAME:CET
DTSTART:20191027T010000
END:STANDARD
BEGIN:DAYLIGHT
TZOFFSETFROM:+0100
TZOFFSETTO:+0200
TZNAME:CEST
DTSTART:20200329T010000
END:DAYLIGHT
BEGIN:STANDARD
TZOFFSETFROM:+0200
TZOFFSETTO:+0100
TZNAME:CET
DTSTART:20201025T010000
END:STANDARD
BEGIN:DAYLIGHT
TZOFFSETFROM:+0100
TZOFFSETTO:+0200
TZNAME:CEST
DTSTART:20210328T010000
END:DAYLIGHT
BEGIN:STANDARD
TZOFFSETFROM:+0200
TZOFFSETTO:+0100
TZNAME:CET
DTSTART:20211031T010000
END:STANDARD
BEGIN:DAYLIGHT
TZOFFSETFROM:+0100
TZOFFSETTO:+0200
TZNAME:CEST
DTSTART:20220327T010000
END:DAYLIGHT
BEGIN:STANDARD
TZOFFSETFROM:+0200
TZOFFSETTO:+0100
TZNAME:CET
DTSTART:20221030T010000
END:STANDARD
BEGIN:DAYLIGHT
TZOFFSETFROM:+0100
TZOFFSETTO:+0200
TZNAME:CEST
DTSTART:20230326T010000
END:DAYLIGHT
BEGIN:STANDARD
TZOFFSETFROM:+0200
TZOFFSETTO:+0100
TZNAME:CET
DTSTART:20231029T010000
END:STANDARD
END:VTIMEZONE
BEGIN:VEVENT
DTSTART;TZID=Europe/Rome:20220427T080000
DTEND;TZID=Europe/Rome:20220428T170000
DTSTAMP:20260425T190834
CREATED:20220419T142202Z
LAST-MODIFIED:20220420T104631Z
UID:18605-1651046400-1651165200@www.salutementale.net
SUMMARY:Lo Spiraglio FilmFestival
DESCRIPTION:Lo Spiraglio Film Festival è un evento internazionale di Corti e Lungometraggi\, che si svolge a Roma presso Scena e il MAXXI – Museo delle Arti del XXI secolo
URL:https://www.salutementale.net/event/lo-spiraglio-2/
CATEGORIES:Festival
END:VEVENT
BEGIN:VEVENT
DTSTART;TZID=Europe/Rome:20220420T080000
DTEND;TZID=Europe/Rome:20220421T170000
DTSTAMP:20260425T190834
CREATED:20220419T141841Z
LAST-MODIFIED:20220420T104717Z
UID:18603-1650441600-1650560400@www.salutementale.net
SUMMARY:Lo Spiraglio FilmFestival
DESCRIPTION:Lo Spiraglio Film Festival è un evento internazionale di Corti e Lungometraggi\, che si svolge a Roma presso Scena e il MAXXI – Museo delle Arti del XXI secolo.
URL:https://www.salutementale.net/event/lo-spiraglio/
CATEGORIES:Festival
END:VEVENT
BEGIN:VEVENT
DTSTART;TZID=Europe/Rome:20211016T080000
DTEND;TZID=Europe/Rome:20211023T170000
DTSTAMP:20260425T190834
CREATED:20211028T142728Z
LAST-MODIFIED:20211028T154605Z
UID:17211-1634371200-1635008400@www.salutementale.net
SUMMARY:Mat Settimana della Salute Mentale
DESCRIPTION:E’ la manifestazione promossa dal Dipartimento di salute mentale e dipendenze patologiche dell’AUSL di Modena che\, dal 2010\, si colloca con cadenza annuale nella seconda metà di ottobre. \nSi tratta di una settimana di dibattiti\, conferenze\, eventi artistici e culturali aperti a tutta la cittadinanza\, dislocati in diverse aree di Modena e provincia atti a sensibilizzare il territorio sui temi della salute mentale e ad implementare la lotta al pregiudizio e allo stigma che gravano su chi soffre di disagio psichico. \nL’evento si svolge sulla base di un percorso di progettazione partecipata\, in collaborazione con le associazioni locali\, e vede il coinvolgimento di partner istituzionali e di un’ampia rete di utenti\, familiari\, operatori dei servizi di salute mentale\, di volontariato e privato sociale ed imprenditoriale\, della scuola\, delle università e delle fondazioni.
URL:https://www.salutementale.net/event/mat-settimana-della-salute-mentale/
LOCATION:Modena
CATEGORIES:Evento culturale
END:VEVENT
BEGIN:VEVENT
DTSTART;TZID=Europe/Rome:20210514T080000
DTEND;TZID=Europe/Rome:20210611T170000
DTSTAMP:20260425T190834
CREATED:20210506T141831Z
LAST-MODIFIED:20210510T095417Z
UID:15974-1620979200-1623430800@www.salutementale.net
SUMMARY:Festival della Complessità XI edizione tra certezze e incertezze
DESCRIPTION:Il punto di svolta\, dalla certezza assoluta alla relazione tra certezza e incertezza\, nella conoscenza scientifica. \nBalle spaziali e grilli parlanti; \nNavigare o affogare nell’eccesso di informazioni; \nDa Boccaccio alla complessità: roba da matti; \nLa Sanità che ti aspetti: Fulvio Forino intervista Pippo Noto; \nCertezze ed incertezze tra mente e corpo. Dialogo tra neuroscienze\, psicoterapia e diritto.; \nDesign e complessità. Uno sguardo sul progetto post-industriale contemporaneo alla luce degli scenari complessi in cui viviamo; \nLo specchio cangiante: percorsi ed esperienze per educare alla complessità; \nTra certezze ed incertezze in questa nostra era complessa; \nAccanto a un familiare malato: l’incertezza nella certezza della fine; \nLa Sanità che non aspetta; \nEnergia: il passato e il futuro a Civitavecchia; \n 
URL:https://www.salutementale.net/event/festival-della-complessita-xi-edizione/
LOCATION:Webinar
CATEGORIES:Festival
END:VEVENT
BEGIN:VEVENT
DTSTART;TZID=Europe/Rome:20200403T100000
DTEND;TZID=Europe/Rome:20200405T220000
DTSTAMP:20260425T190834
CREATED:20200220T160635Z
LAST-MODIFIED:20200623T142736Z
UID:15230-1585908000-1586124000@www.salutementale.net
SUMMARY:10° Edizione Lo Spiraglio Filmfestival della salute mentale 2020
DESCRIPTION:Lo Spiraglio Filmfestival è nato come un’attività di un Centro Diurno romano. E’ un progetto di cultura e promozione della salute che incrocia cinema\, arte e salute mentale. Giunto alla sua decima edizione cerca di offrire il meglio della salute mentale raccontata per immagini\, attraverso cortometraggi e lungometraggi di ogni genere e provenienza. \nNOTA: La X edizione dello Spiraglio\, Film festival della Salute Mentale\, è stato rinviato a data da destinarsi. \n  \n 
URL:https://www.salutementale.net/event/10-edizione-lo-spiraglio-filmfestival-della-salute-mentale-2020/
LOCATION:MAXXI – Museo Nazionale delle Arti del XXI secolo\, Via Guido Reni\, 4 A\, Roma\, Italia
CATEGORIES:Festival
END:VEVENT
BEGIN:VEVENT
DTSTART;TZID=Europe/Rome:20200324T160000
DTEND;TZID=Europe/Rome:20200324T190000
DTSTAMP:20260425T190834
CREATED:20200218T162341Z
LAST-MODIFIED:20200219T095123Z
UID:15196-1585065600-1585076400@www.salutementale.net
SUMMARY:Percorsi di grafica d'arte in un'ottica di inclusione sociale e lavorativa
DESCRIPTION:Il Centro Diurno di Cinecittà UOC-CSM-D7 propone l’evento “Percorsi di grafica d’arte in un’ottica di inclusione sociale e lavorativa”. \nNon solo una mostra\, ma un allestimento di opere realizzate dal gruppo Stamperia del\nCDR Cinecittà. Percorsi\, perché le opere sono il risultato di una storia articolata che è\niniziata nel laboratorio di grafica d’arte del CDR Cinecittà per apprendere le tecniche\ndell’incisione (una vera Stamperia che ci ha aperto le porte in Via San Martino ai Monti)\,\nma che non si ferma al piano formativo.\nDi opere se ne troveranno in quantità\, di diverso tipo. Sono state realizzate grazie\nall’impegno lavorativo (non in orario di formazione e retribuito) di utenti/lavoratori che\nhanno potuto utilizzare in ambito produttivo quanto appreso nelle fasi precedenti.\nMa di che opere si tratta?\nVieni a scoprirlo il 24 Marzo a San Martino ai Monti alle ore 16!
URL:https://www.salutementale.net/event/percorsi-di-grafica-darte-in-unottica-di-inclusione-sociale-e-lavorativa/
LOCATION:Stamperia\, Via San Martino ai Monti\, 46\, Roma\, Italia
CATEGORIES:Mostra
END:VEVENT
BEGIN:VEVENT
DTSTART;TZID=Europe/Rome:20191202T080000
DTEND;TZID=Europe/Rome:20191202T170000
DTSTAMP:20260425T190834
CREATED:20191105T155923Z
LAST-MODIFIED:20191120T152404Z
UID:14867-1575273600-1575306000@www.salutementale.net
SUMMARY:"Sei personaggi in cerca e un dottore"
DESCRIPTION:Il 2 Dicembre 2019 alle ore 18.00 si terrà presso il Teatro Tor Bella Monaca sito in via Bruno Cirino a Roma lo spettacolo teatrale “Sei personaggi in cerca e un dottore. E’ stato organizzato all’interno di un laboratorio del Centro di Salute Mentale del VI Municipio. Per informazioni e prenotazioni telefonare a: 062010579. \n“Giocolieri abilissimi\, trasformano luoghi e persone e si servono della commedia magnetica. Gli occhi fiammeggiano\, il sangue canta\, le ossa si dilatano\, lacrime e filamenti rossi sgorgano. Lo scherzo […] dura un minuto\, o mesi interi\, [o per sempre] [A. Rimbaud].”
URL:https://www.salutementale.net/event/sei-personaggi-in-cerca-e-un-dottore/
LOCATION:Teatro Tor Bella Monaca\, via Bruno Cirino\, Roma\, Italia
CATEGORIES:Spettacolo
END:VEVENT
END:VCALENDAR