BEGIN:VCALENDAR
VERSION:2.0
PRODID:-//Salutementale.net - ECPv6.15.17.1//NONSGML v1.0//EN
CALSCALE:GREGORIAN
METHOD:PUBLISH
X-ORIGINAL-URL:https://www.salutementale.net
X-WR-CALDESC:Eventi per Salutementale.net
REFRESH-INTERVAL;VALUE=DURATION:PT1H
X-Robots-Tag:noindex
X-PUBLISHED-TTL:PT1H
BEGIN:VTIMEZONE
TZID:Europe/Rome
BEGIN:DAYLIGHT
TZOFFSETFROM:+0100
TZOFFSETTO:+0200
TZNAME:CEST
DTSTART:20250330T010000
END:DAYLIGHT
BEGIN:STANDARD
TZOFFSETFROM:+0200
TZOFFSETTO:+0100
TZNAME:CET
DTSTART:20251026T010000
END:STANDARD
BEGIN:DAYLIGHT
TZOFFSETFROM:+0100
TZOFFSETTO:+0200
TZNAME:CEST
DTSTART:20260329T010000
END:DAYLIGHT
BEGIN:STANDARD
TZOFFSETFROM:+0200
TZOFFSETTO:+0100
TZNAME:CET
DTSTART:20261025T010000
END:STANDARD
BEGIN:DAYLIGHT
TZOFFSETFROM:+0100
TZOFFSETTO:+0200
TZNAME:CEST
DTSTART:20270328T010000
END:DAYLIGHT
BEGIN:STANDARD
TZOFFSETFROM:+0200
TZOFFSETTO:+0100
TZNAME:CET
DTSTART:20271031T010000
END:STANDARD
END:VTIMEZONE
BEGIN:VEVENT
DTSTART;TZID=Europe/Rome:20260307T080000
DTEND;TZID=Europe/Rome:20260308T170000
DTSTAMP:20260424T075919
CREATED:20260204T095956Z
LAST-MODIFIED:20260204T095956Z
UID:31261-1772870400-1772989200@www.salutementale.net
SUMMARY:Michael Christensen\, pioniere mondiale della clownterapia\, a Giardini Naxos per una masterclass e un workshop con Theatre Degart
DESCRIPTION:L’impresa culturale Theatre Degart ospita a Giardini Naxos una masterclass e un workshop condotti da Michael Christensen\, riconosciuto a livello internazionale come il fondatore della clownterapia moderna e una delle figure più influenti nella storia dell’healthcare clowning. \nL’appuntamento\, in programma sabato 7 e domenica 8 marzo 2026\, rappresenta un’occasione di formazione e approfondimento con uno dei protagonisti che hanno contribuito in modo determinante a definire l’applicazione dell’arte del clown nei contesti di cura. \nPer iscriversi clicca qui.
URL:https://www.salutementale.net/event/michael-christensen-pioniere-mondiale-della-clownterapia-a-giardini-naxos-per-una-masterclass-e-un-workshop-con-theatre-degart/
LOCATION:Giardini Naxos – Messina\, Sicilia
CATEGORIES:Corso
ATTACH;FMTTYPE=image/jpeg:https://www.salutementale.net/wp-content/uploads/2026/02/Gruppo-Clownterapia-Theatre-Degart-LD-1.jpg
END:VEVENT
END:VCALENDAR