BEGIN:VCALENDAR
VERSION:2.0
PRODID:-//Salutementale.net - ECPv6.15.17.1//NONSGML v1.0//EN
CALSCALE:GREGORIAN
METHOD:PUBLISH
X-ORIGINAL-URL:https://www.salutementale.net
X-WR-CALDESC:Eventi per Salutementale.net
REFRESH-INTERVAL;VALUE=DURATION:PT1H
X-Robots-Tag:noindex
X-PUBLISHED-TTL:PT1H
BEGIN:VTIMEZONE
TZID:Europe/Rome
BEGIN:DAYLIGHT
TZOFFSETFROM:+0100
TZOFFSETTO:+0200
TZNAME:CEST
DTSTART:20230326T010000
END:DAYLIGHT
BEGIN:STANDARD
TZOFFSETFROM:+0200
TZOFFSETTO:+0100
TZNAME:CET
DTSTART:20231029T010000
END:STANDARD
BEGIN:DAYLIGHT
TZOFFSETFROM:+0100
TZOFFSETTO:+0200
TZNAME:CEST
DTSTART:20240331T010000
END:DAYLIGHT
BEGIN:STANDARD
TZOFFSETFROM:+0200
TZOFFSETTO:+0100
TZNAME:CET
DTSTART:20241027T010000
END:STANDARD
BEGIN:DAYLIGHT
TZOFFSETFROM:+0100
TZOFFSETTO:+0200
TZNAME:CEST
DTSTART:20250330T010000
END:DAYLIGHT
BEGIN:STANDARD
TZOFFSETFROM:+0200
TZOFFSETTO:+0100
TZNAME:CET
DTSTART:20251026T010000
END:STANDARD
END:VTIMEZONE
BEGIN:VEVENT
DTSTART;TZID=Europe/Rome:20240217T080000
DTEND;TZID=Europe/Rome:20240420T170000
DTSTAMP:20260424T054252
CREATED:20240212T095846Z
LAST-MODIFIED:20240214T114335Z
UID:24237-1708156800-1713632400@www.salutementale.net
SUMMARY:Il disagio giovanile nella contemporaneità: la rete che cura
DESCRIPTION:Al via le iscrizioni per il corso di formazione tenuto dalla fondazione Di Liegro per volontari\, familiari\, youth workers e operatori per la Salute Mentale sul tema del disagio giovanile nella contemporaneità. Il corso partirà sabato 17 febbraio\, è suddiviso in 8 lezioni da sabato 17 febbraio fino a sabato 20 aprile. I docenti sono tutti esperti del settore\, psicologi\, psichiatri\, sociologi\, insegnanti ed educatori quotidianamente impegnati al benessere e alla cura dei giovani.
URL:https://www.salutementale.net/event/il-disagio-giovanile-nella-contemporaneita-la-rete-che-cura/
LOCATION:via ostiense 106 oppure piattaforma ZOOM online
CATEGORIES:Presentazione del corso di formazione,Corso,Evento culturale
END:VEVENT
BEGIN:VEVENT
DTSTART;TZID=Europe/Rome:20240219T080000
DTEND;TZID=Europe/Rome:20240219T170000
DTSTAMP:20260424T054252
CREATED:20240130T150458Z
LAST-MODIFIED:20240130T151427Z
UID:24151-1708329600-1708362000@www.salutementale.net
SUMMARY:Mindfulness e arteterapia
DESCRIPTION:Arteterapia e Mindfulness sono per molti aspetti complementari e si completano a vicenda dando origine alla Mindfulness Based Art Therapy (MBAT). Dove la Mindfulness aiuta ad essere radicati nel momento presente e senza giudizio\, la creazione artistica permette di dare espressione a ciò che c’è in quel momento stesso. Per questo la Mindfulness offre la cornice ideale per le artiterapie capace di offrire sia contenimento emotivo sia libertà di espressione. \nINFO: crispinto@gmail.com \nTEL:3487231547
URL:https://www.salutementale.net/event/mindfulness-e-arteterapia/
LOCATION:Roma-zona Pigneto
CATEGORIES:Corso
END:VEVENT
BEGIN:VEVENT
DTSTART;TZID=Europe/Rome:20240226T113000
DTEND;TZID=Europe/Rome:20240226T130000
DTSTAMP:20260424T054252
CREATED:20240213T154736Z
LAST-MODIFIED:20240213T164811Z
UID:24243-1708947000-1708952400@www.salutementale.net
SUMMARY:Salute mentale insieme alle famiglie. Psicoanalisi multifamiliare
DESCRIPTION:L’incontro vuole presentare il Gruppo di Psicoanalisi Multifamiliare (GPMF) che si terrà da marzo 2024 presso la Fondazione Di Liegro come intervento condiviso\, su richiesta dei familiari della ASL Roma2 e in collaborazione con i servizi pubblici
URL:https://www.salutementale.net/event/salute-mentale-insieme-alle-famiglie-psicoanalisi-multifamiliare/
LOCATION:Fondazione Di Liegro – Via Ostiense 106 – Roma
CATEGORIES:Conferenza,Convegno,Corso
ORGANIZER;CN="Fondazione Internazionale Don Luigi Di Liegro":MAILTO:segretria@fondazionediliegro.it
END:VEVENT
END:VCALENDAR