BEGIN:VCALENDAR
VERSION:2.0
PRODID:-//Salutementale.net - ECPv6.15.17.1//NONSGML v1.0//EN
CALSCALE:GREGORIAN
METHOD:PUBLISH
X-ORIGINAL-URL:https://www.salutementale.net
X-WR-CALDESC:Eventi per Salutementale.net
REFRESH-INTERVAL;VALUE=DURATION:PT1H
X-Robots-Tag:noindex
X-PUBLISHED-TTL:PT1H
BEGIN:VTIMEZONE
TZID:Europe/Rome
BEGIN:DAYLIGHT
TZOFFSETFROM:+0100
TZOFFSETTO:+0200
TZNAME:CEST
DTSTART:20220327T010000
END:DAYLIGHT
BEGIN:STANDARD
TZOFFSETFROM:+0200
TZOFFSETTO:+0100
TZNAME:CET
DTSTART:20221030T010000
END:STANDARD
BEGIN:DAYLIGHT
TZOFFSETFROM:+0100
TZOFFSETTO:+0200
TZNAME:CEST
DTSTART:20230326T010000
END:DAYLIGHT
BEGIN:STANDARD
TZOFFSETFROM:+0200
TZOFFSETTO:+0100
TZNAME:CET
DTSTART:20231029T010000
END:STANDARD
BEGIN:DAYLIGHT
TZOFFSETFROM:+0100
TZOFFSETTO:+0200
TZNAME:CEST
DTSTART:20240331T010000
END:DAYLIGHT
BEGIN:STANDARD
TZOFFSETFROM:+0200
TZOFFSETTO:+0100
TZNAME:CET
DTSTART:20241027T010000
END:STANDARD
END:VTIMEZONE
BEGIN:VEVENT
DTSTART;TZID=Europe/Rome:20231125T080000
DTEND;TZID=Europe/Rome:20231125T170000
DTSTAMP:20260424T092103
CREATED:20231002T095449Z
LAST-MODIFIED:20231002T100518Z
UID:23199-1700899200-1700931600@www.salutementale.net
SUMMARY:Rischio suicidario e condotte autolesive
DESCRIPTION:Il suicidio è al secondo posto tra le cause di morte nella fascia d’età tra i 15 e i 29 anni\, secondo l’Organizzazione Mondiale della Sanità. Adolescenti e giovani adulti sono la popolazione più a rischio per la messa in atto di comportamenti autolesionistici. L’evento\, nato dalla collaborazione tra Erickson e Raffello Cortina Editore\, offre a psicologi\, psicoterapeuti e neuropsichiatri una panoramica aggiornata sulle attuali conoscenze relative ai comportamenti autolesionistici e presenta alcune modalità di valutazione e intervento utili a riconoscere e prevenire efficacemente questi comportamenti. \n \n 
URL:https://www.salutementale.net/event/rischio-suicidario-e-condotte-autolesive/
LOCATION:Roma\, viale Etiopia 20 /online
CATEGORIES:Conferenza,Corso,Corso di aggiornamento ECM
END:VEVENT
END:VCALENDAR