BEGIN:VCALENDAR
VERSION:2.0
PRODID:-//Salutementale.net - ECPv6.15.17.1//NONSGML v1.0//EN
CALSCALE:GREGORIAN
METHOD:PUBLISH
X-ORIGINAL-URL:https://www.salutementale.net
X-WR-CALDESC:Eventi per Salutementale.net
REFRESH-INTERVAL;VALUE=DURATION:PT1H
X-Robots-Tag:noindex
X-PUBLISHED-TTL:PT1H
BEGIN:VTIMEZONE
TZID:Europe/Rome
BEGIN:DAYLIGHT
TZOFFSETFROM:+0100
TZOFFSETTO:+0200
TZNAME:CEST
DTSTART:20220327T010000
END:DAYLIGHT
BEGIN:STANDARD
TZOFFSETFROM:+0200
TZOFFSETTO:+0100
TZNAME:CET
DTSTART:20221030T010000
END:STANDARD
BEGIN:DAYLIGHT
TZOFFSETFROM:+0100
TZOFFSETTO:+0200
TZNAME:CEST
DTSTART:20230326T010000
END:DAYLIGHT
BEGIN:STANDARD
TZOFFSETFROM:+0200
TZOFFSETTO:+0100
TZNAME:CET
DTSTART:20231029T010000
END:STANDARD
BEGIN:DAYLIGHT
TZOFFSETFROM:+0100
TZOFFSETTO:+0200
TZNAME:CEST
DTSTART:20240331T010000
END:DAYLIGHT
BEGIN:STANDARD
TZOFFSETFROM:+0200
TZOFFSETTO:+0100
TZNAME:CET
DTSTART:20241027T010000
END:STANDARD
END:VTIMEZONE
BEGIN:VEVENT
DTSTART;TZID=Europe/Rome:20230915T090000
DTEND;TZID=Europe/Rome:20230917T183000
DTSTAMP:20260424T114250
CREATED:20230704T092722Z
LAST-MODIFIED:20230704T093839Z
UID:22627-1694768400-1694975400@www.salutementale.net
SUMMARY:Attaccamento e Trauma 2023: Accogliere e riparare il Sé traumatizzato in psicoterapia
DESCRIPTION:Questa nuova edizione del congresso Attaccamento e Trauma esplorerà le origini e le possibili evoluzioni derivate dalle esperienze traumatiche nell’attaccamento. Le neuroscienze hanno contribuito ad evidenziare l’importanza imprescindibile del senso di sicurezza nello sviluppo del sé individuale. Altrettanto importante è il soddisfacimento del bisogno di autonomia\, il riconoscimento di sé come individuo. Le esperienze traumatiche nell’attaccamento sgretolano il senso di fiducia e di coesione del sé\, dando origine a diversi possibili quadri psicopatologici\, che rappresentano il tentativo dell’individuo di adattarsi al trauma\, modellando il proprio sistema di funzionamento sull’ambiente. \nISCRIZIONI VALIDE FINO AL 31/07/2023 \n 
URL:https://www.salutementale.net/event/attaccamento-e-trauma-2023-accogliere-e-riparare-il-se-traumatizzato-in-psicoterapia/
LOCATION:Roma\, presso Auditorium Antonianum (Viale Manzoni\, 1\, 00185 Roma)/ONLINE su zoom
CATEGORIES:Corso di aggiornamento ECM,Congresso online,Conferenza,Convegno,congresso,Corso,Corso online
END:VEVENT
BEGIN:VEVENT
DTSTART;TZID=Europe/Rome:20230918T150000
DTEND;TZID=Europe/Rome:20230918T190000
DTSTAMP:20260424T114250
CREATED:20230914T145652Z
LAST-MODIFIED:20230914T150943Z
UID:22848-1695049200-1695063600@www.salutementale.net
SUMMARY:Esprimi te stesso e combatti con noi il tuo malessere mentale
DESCRIPTION:Il 18 settembre presso la Fondazione Di Liegro avrà luogo l’ open day di molteplici attività. Vieni a scoprire come l’arte e la condivisione possono diventare strumenti di rinascita e crescita personale. Non lasciare che il disagio limiti la tua vita\, unisciti a noi e intraprendi un viaggio di trasformazione! \nTra i corsi vi sono: \n– Laboratorio di Teatro\n– Laboratorio di Musica\n– Laboratorio di Fotografia\n– Laboratorio di Narrazione Creativa\n– Laboratorio Artistico Creativo \nSenza dimenticare i gruppi di ascolto familiare come Gruppi di Aiuto-Aiuto per i Familiari\, i Gruppi Multifamiliari\, Servizio di supporto e assistenza SOSS\, \nPresentazione laboratori:\ndalle 15 alle 17. \nIscrizione ai laboratori:\ndalle 17 alle 19. \nnon mancate! \n \n  \n  \n  \n  \n 
URL:https://www.salutementale.net/event/esprimi-te-stesso-e-combatti-con-noi-il-tuo-malessere-mentale/
LOCATION:Fondazione Di Liegro – Via Ostiense 106 – Roma
CATEGORIES:Corso
END:VEVENT
BEGIN:VEVENT
DTSTART;TZID=Europe/Rome:20230921T080000
DTEND;TZID=Europe/Rome:20231019T170000
DTSTAMP:20260424T114250
CREATED:20230925T100721Z
LAST-MODIFIED:20230925T101812Z
UID:22942-1695283200-1697734800@www.salutementale.net
SUMMARY:Che cos'è la Recovery? Prima edizione
DESCRIPTION:Il partecipante facilitato dagli esperti potrà conoscere e approfondire le tematiche del modello della Recovery: un percorso di cambiamento e di ripresa personale dall’esperienza della malattia mentale verso una “guarigione personale”. \n \n 
URL:https://www.salutementale.net/event/che-cose-la-recovery-prima-edizione/
LOCATION:Centro di Salute Mentale San Donato/San Vitale\, via Zanolini 2\, Bologna
CATEGORIES:Conferenza,Convegno,congresso,Corso
END:VEVENT
END:VCALENDAR