BEGIN:VCALENDAR
VERSION:2.0
PRODID:-//Salutementale.net - ECPv6.15.17.1//NONSGML v1.0//EN
CALSCALE:GREGORIAN
METHOD:PUBLISH
X-ORIGINAL-URL:https://www.salutementale.net
X-WR-CALDESC:Eventi per Salutementale.net
REFRESH-INTERVAL;VALUE=DURATION:PT1H
X-Robots-Tag:noindex
X-PUBLISHED-TTL:PT1H
BEGIN:VTIMEZONE
TZID:Europe/Rome
BEGIN:DAYLIGHT
TZOFFSETFROM:+0100
TZOFFSETTO:+0200
TZNAME:CEST
DTSTART:20240331T010000
END:DAYLIGHT
BEGIN:STANDARD
TZOFFSETFROM:+0200
TZOFFSETTO:+0100
TZNAME:CET
DTSTART:20241027T010000
END:STANDARD
BEGIN:DAYLIGHT
TZOFFSETFROM:+0100
TZOFFSETTO:+0200
TZNAME:CEST
DTSTART:20250330T010000
END:DAYLIGHT
BEGIN:STANDARD
TZOFFSETFROM:+0200
TZOFFSETTO:+0100
TZNAME:CET
DTSTART:20251026T010000
END:STANDARD
BEGIN:DAYLIGHT
TZOFFSETFROM:+0100
TZOFFSETTO:+0200
TZNAME:CEST
DTSTART:20260329T010000
END:DAYLIGHT
BEGIN:STANDARD
TZOFFSETFROM:+0200
TZOFFSETTO:+0100
TZNAME:CET
DTSTART:20261025T010000
END:STANDARD
END:VTIMEZONE
BEGIN:VEVENT
DTSTART;TZID=Europe/Rome:20250630T180000
DTEND;TZID=Europe/Rome:20250730T233000
DTSTAMP:20260425T210236
CREATED:20250701T151916Z
LAST-MODIFIED:20250701T151916Z
UID:29008-1751306400-1753918200@www.salutementale.net
SUMMARY:Concorso pubblico: 979 posti per funzionari psicologi negli enti locali
DESCRIPTION:È stato pubblicato il bando per il reclutamento di 979 psicologhe e psicologi\, da assumere a tempo pieno e determinato (durata massima 36 mesi) presso gli Ambiti Territoriali Sociali\, all’interno del comparto Funzioni Locali.
URL:https://www.salutementale.net/event/concorso-pubblico-979-posti-per-funzionari-psicologi-negli-enti-locali/
CATEGORIES:Concorso
ATTACH;FMTTYPE=image/png:https://www.salutementale.net/wp-content/uploads/2025/07/Immagine-1.png
END:VEVENT
END:VCALENDAR