BEGIN:VCALENDAR
VERSION:2.0
PRODID:-//Salutementale.net - ECPv6.15.17.1//NONSGML v1.0//EN
CALSCALE:GREGORIAN
METHOD:PUBLISH
X-ORIGINAL-URL:https://www.salutementale.net
X-WR-CALDESC:Eventi per Salutementale.net
REFRESH-INTERVAL;VALUE=DURATION:PT1H
X-Robots-Tag:noindex
X-PUBLISHED-TTL:PT1H
BEGIN:VTIMEZONE
TZID:Europe/Rome
BEGIN:DAYLIGHT
TZOFFSETFROM:+0100
TZOFFSETTO:+0200
TZNAME:CEST
DTSTART:20240331T010000
END:DAYLIGHT
BEGIN:STANDARD
TZOFFSETFROM:+0200
TZOFFSETTO:+0100
TZNAME:CET
DTSTART:20241027T010000
END:STANDARD
BEGIN:DAYLIGHT
TZOFFSETFROM:+0100
TZOFFSETTO:+0200
TZNAME:CEST
DTSTART:20250330T010000
END:DAYLIGHT
BEGIN:STANDARD
TZOFFSETFROM:+0200
TZOFFSETTO:+0100
TZNAME:CET
DTSTART:20251026T010000
END:STANDARD
BEGIN:DAYLIGHT
TZOFFSETFROM:+0100
TZOFFSETTO:+0200
TZNAME:CEST
DTSTART:20260329T010000
END:DAYLIGHT
BEGIN:STANDARD
TZOFFSETFROM:+0200
TZOFFSETTO:+0100
TZNAME:CET
DTSTART:20261025T010000
END:STANDARD
BEGIN:DAYLIGHT
TZOFFSETFROM:+0100
TZOFFSETTO:+0200
TZNAME:CEST
DTSTART:20270328T010000
END:DAYLIGHT
BEGIN:STANDARD
TZOFFSETFROM:+0200
TZOFFSETTO:+0100
TZNAME:CET
DTSTART:20271031T010000
END:STANDARD
END:VTIMEZONE
BEGIN:VEVENT
DTSTART;TZID=Europe/Rome:20251215T080000
DTEND;TZID=Europe/Rome:20260528T170000
DTSTAMP:20260425T233551
CREATED:20260216T105117Z
LAST-MODIFIED:20260216T105117Z
UID:31324-1765785600-1779987600@www.salutementale.net
SUMMARY:Bando per favorire l'inserimento lavorativo delle persone con disabilità
DESCRIPTION:L’assessorato regionale al Lavoro in collaborazione con la direzione competente\, nella Sala Tirreno della Regione Lazio\, il 12 febbraio ha organizzato l’evento «Più Lavoro\, più Inclusione – presentazione avviso Fondo Regionale per l’Occupazione delle persone con disabilità». \nL’incontro è stato organizzato per presentare l’avviso pubblico per il finanziamento di misure volte a favorire l’inserimento lavorativo delle persone con disabilità. \nQui si può trovare il Bando ufficiale della Regione Lazio. \nQuesto avviso pubblico\, secondo l’assessore al Lavoro\, Scuola\, Formazione\, Ricerca e Merito e Urbanistica\, Giuseppe Schiboni\, è un evento rivoluzionario; si tratta di uno strumento concreto per l’inclusione lavorativa delle persone con disabilità\, ponendo al centro l’individuo e le imprese che lo accoglieranno. \nNello specifico\, è prevista l’estensione delle misure ai datori di lavoro non obbligati all’assunzione di persone con disabilità e il rimborso totale delle indennità di tirocini extracurriculari. Le misure previste si configurano come un aiuto all’ingresso e alla permanenza nel mercato del lavoro delle persone con disabilità\, favorendo la collaborazione tra datori di lavoro e servizi di collocamento. \nPer la prima volta\, con queste misure\, la condizione di disabilità di tanti cittadini della nostra regione viene rappresentata nella sua interezza e per il suo valore\, non solo come un problema assistenziale confinato entro il perimetro delle politiche di «welfare»\, ma come un imprescindibile ambito di tutela dei diritti che investe la politica e l’amministrazione in tutte le sue articolazioni. \nPer più informazioni clicca qui.
URL:https://www.salutementale.net/event/bando-per-favorire-linserimento-lavorativo-delle-persone-con-disabilita/
LOCATION:online
CATEGORIES:Concorso
ATTACH;FMTTYPE=image/jpeg:https://www.salutementale.net/wp-content/uploads/2026/02/notizia-lavoro-giunta.jpeg
END:VEVENT
END:VCALENDAR