BEGIN:VCALENDAR
VERSION:2.0
PRODID:-//Salutementale.net - ECPv6.15.17.1//NONSGML v1.0//EN
CALSCALE:GREGORIAN
METHOD:PUBLISH
X-ORIGINAL-URL:https://www.salutementale.net
X-WR-CALDESC:Eventi per Salutementale.net
REFRESH-INTERVAL;VALUE=DURATION:PT1H
X-Robots-Tag:noindex
X-PUBLISHED-TTL:PT1H
BEGIN:VTIMEZONE
TZID:Europe/Rome
BEGIN:DAYLIGHT
TZOFFSETFROM:+0100
TZOFFSETTO:+0200
TZNAME:CEST
DTSTART:20230326T010000
END:DAYLIGHT
BEGIN:STANDARD
TZOFFSETFROM:+0200
TZOFFSETTO:+0100
TZNAME:CET
DTSTART:20231029T010000
END:STANDARD
BEGIN:DAYLIGHT
TZOFFSETFROM:+0100
TZOFFSETTO:+0200
TZNAME:CEST
DTSTART:20240331T010000
END:DAYLIGHT
BEGIN:STANDARD
TZOFFSETFROM:+0200
TZOFFSETTO:+0100
TZNAME:CET
DTSTART:20241027T010000
END:STANDARD
BEGIN:DAYLIGHT
TZOFFSETFROM:+0100
TZOFFSETTO:+0200
TZNAME:CEST
DTSTART:20250330T010000
END:DAYLIGHT
BEGIN:STANDARD
TZOFFSETFROM:+0200
TZOFFSETTO:+0100
TZNAME:CET
DTSTART:20251026T010000
END:STANDARD
END:VTIMEZONE
BEGIN:VEVENT
DTSTART;TZID=Europe/Rome:20240513T170000
DTEND;TZID=Europe/Rome:20240513T190000
DTSTAMP:20260423T154211
CREATED:20240304T110720Z
LAST-MODIFIED:20240304T111153Z
UID:24587-1715619600-1715626800@www.salutementale.net
SUMMARY:Teatro e salute mentale
DESCRIPTION:Teatro e salute mentale: presentazione dei volumi “Darsi le parole. Scrittura e teatro come pratiche di liberazione. Un’esperienza” a cura di Mariaelena Leone (Negretto Editore\, 2023) e “Accademia della Follia: un viaggio lungo trent’anni”\, a cura di Angela Pianca e Franco Rotelli (Negretto Editore\, 2022).
URL:https://www.salutementale.net/event/teatro-e-salute-mentale/
LOCATION:via Sant’Isaia\, 90 – Bologna
CATEGORIES:Basaglia
ATTACH;FMTTYPE=image/jpeg:https://www.salutementale.net/wp-content/uploads/2024/03/Basaglia-Minguzzi-Sartre-Dedijer_800600.jpg
END:VEVENT
BEGIN:VEVENT
DTSTART;TZID=Europe/Rome:20240320T180000
DTEND;TZID=Europe/Rome:20240320T213000
DTSTAMP:20260423T154211
CREATED:20240311T094725Z
LAST-MODIFIED:20240311T102618Z
UID:24692-1710957600-1710970200@www.salutementale.net
SUMMARY:Archivi della follia. In cerca di Franco Basaglia
DESCRIPTION:Archivi della follia.In cerca di Franco Basaglia.
URL:https://www.salutementale.net/event/archivi-della-follia-in-cerca-di-franco-basaglia/
LOCATION:Via dei Marsi 78\, Roma
CATEGORIES:congresso,Evento culturale,Basaglia,Conferenza,Convegno
ATTACH;FMTTYPE=image/jpeg:https://www.salutementale.net/wp-content/uploads/2024/03/basaglia-20-marzo.jpg
END:VEVENT
BEGIN:VEVENT
DTSTART;TZID=Europe/Rome:20240320T080000
DTEND;TZID=Europe/Rome:20240326T170000
DTSTAMP:20260423T154211
CREATED:20240304T110008Z
LAST-MODIFIED:20240304T110131Z
UID:24581-1710921600-1711472400@www.salutementale.net
SUMMARY:Il pensiero che cambia le cose: 100 anni di Basaglia al cinema
DESCRIPTION:Carrellata cinematografica che avrà come tema di fondo la salute mentale. Qui il link degli eventi: https://minguzzi.cittametropolitana.bo.it/L_attualita_di_Franco_Basaglia/L_attualita_di_Franco_Basaglia
URL:https://www.salutementale.net/event/il-pensiero-che-cambia-le-cose-100-anni-di-basaglia-al-cinema/
LOCATION:Cinema Modernissimo – via Rizzoli\, 1 – Bologna
CATEGORIES:Evento culturale,Basaglia
ATTACH;FMTTYPE=image/jpeg:https://www.salutementale.net/wp-content/uploads/2024/03/Basaglia-Minguzzi-Sartre-Dedijer_800600.jpg
END:VEVENT
BEGIN:VEVENT
DTSTART;TZID=Europe/Rome:20240320T080000
DTEND;TZID=Europe/Rome:20240320T170000
DTSTAMP:20260423T154211
CREATED:20240304T104747Z
LAST-MODIFIED:20240304T110242Z
UID:24572-1710921600-1710954000@www.salutementale.net
SUMMARY:Lectio magistralis di Benedetto Saraceno
DESCRIPTION:Lectio magistralis di Benedetto Saraceno “Perché Basaglia è attuale per i giovani di oggi”\, con gli interventi di studenti/esse di 4 istituti superiori bolognesi (Righi\, Salvemini\, Sirani\, Montessori-Da Vinci)\, docenti e studenti/esse universitari\, operatori/trici.
URL:https://www.salutementale.net/event/lectio-magistralis-di-benedetto-saraceno/
LOCATION:Palazzo Malvezzi\, via Zamboni\, 13 – Bologna
CATEGORIES:Evento culturale,Basaglia
ATTACH;FMTTYPE=image/jpeg:https://www.salutementale.net/wp-content/uploads/2024/03/Basaglia-Minguzzi-Sartre-Dedijer_800600.jpg
END:VEVENT
BEGIN:VEVENT
DTSTART;TZID=Europe/Rome:20240315T150000
DTEND;TZID=Europe/Rome:20240315T233000
DTSTAMP:20260423T154211
CREATED:20240305T145106Z
LAST-MODIFIED:20240305T152522Z
UID:24629-1710514800-1710545400@www.salutementale.net
SUMMARY:Franco Basaglia: passato\, presente e futuro della psichiatria
DESCRIPTION:Franco Basaglia: passato\, presente e futuro della psichiatria.Per info:tel/whatsapp 335 6270739\, mail info@chille.it
URL:https://www.salutementale.net/event/franco-basaglia-passato-presente-e-futuro-della-psichiatria/
LOCATION:le murate caffè letterario/Firenze
CATEGORIES:Evento culturale,Basaglia
ATTACH;FMTTYPE=image/jpeg:https://www.salutementale.net/wp-content/uploads/2024/03/o0.jpg
END:VEVENT
BEGIN:VEVENT
DTSTART;TZID=Europe/Rome:20240312T170000
DTEND;TZID=Europe/Rome:20240312T210000
DTSTAMP:20260423T154211
CREATED:20240304T103642Z
LAST-MODIFIED:20240304T110354Z
UID:24562-1710262800-1710277200@www.salutementale.net
SUMMARY:Presentazione del libro di Paolo F. Peloso
DESCRIPTION:Presentazione del libro di Paolo F. Peloso\, “Franco Basaglia\, un profilo: dalla critica dell’istituzione psichiatrica alla critica della società”\, organizzato in collaborazione con il Collegio nazionale dei Dipartimenti di Salute Mentale. Ne discutono con l’autore: Angelo Fioritti\, Valeria Babini\, John Foot.
URL:https://www.salutementale.net/event/presentazione-del-libro-di-paolo-f-peloso/
LOCATION:via Sant’Isaia\, 90 – Bologna
CATEGORIES:Evento culturale,Basaglia
ATTACH;FMTTYPE=image/jpeg:https://www.salutementale.net/wp-content/uploads/2024/03/Basaglia-Minguzzi-Sartre-Dedijer_800600.jpg
END:VEVENT
BEGIN:VEVENT
DTSTART;TZID=Europe/Rome:20240311T160000
DTEND;TZID=Europe/Rome:20240312T130000
DTSTAMP:20260423T154211
CREATED:20240221T093637Z
LAST-MODIFIED:20240305T151249Z
UID:24335-1710172800-1710248400@www.salutementale.net
SUMMARY:Franco Basaglia oggi: un pensiero necessario
DESCRIPTION:Due giornate promosse dall’Archivio Basaglia\, dalla Conf. Basaglia e Il Saggiatore in occasione del Centenario della nascita di Franco Basaglia. \n \n 
URL:https://www.salutementale.net/event/franco-basaglia-oggi-un-pensiero-necessario/
LOCATION:teatro Miela/Trieste
CATEGORIES:congresso,Basaglia,Conferenza,Convegno
ATTACH;FMTTYPE=image/jpeg:https://www.salutementale.net/wp-content/uploads/2024/02/basaglia.jpg
END:VEVENT
BEGIN:VEVENT
DTSTART;TZID=Europe/Rome:20240311T090000
DTEND;TZID=Europe/Rome:20240311T140000
DTSTAMP:20260423T154211
CREATED:20240305T151948Z
LAST-MODIFIED:20240305T152311Z
UID:24642-1710147600-1710165600@www.salutementale.net
SUMMARY:100 anni Franco Basaglia
DESCRIPTION:100 anni Franco Basaglia \n 
URL:https://www.salutementale.net/event/100-anni-franco-basaglia/
LOCATION:città dei ragazzi/Roma
CATEGORIES:Evento culturale,Basaglia
ATTACH;FMTTYPE=image/jpeg:https://www.salutementale.net/wp-content/uploads/2024/03/basaglia-rosini.jpg
END:VEVENT
BEGIN:VEVENT
DTSTART;TZID=Europe/Rome:20240308T170000
DTEND;TZID=Europe/Rome:20240411T170000
DTSTAMP:20260423T154211
CREATED:20240305T142624Z
LAST-MODIFIED:20240305T144111Z
UID:24626-1709917200-1712854800@www.salutementale.net
SUMMARY:Carrellata eventi centenario Basaglia
DESCRIPTION:Tra marzo e luglio si svolgeranno degli eventi a Firenze che avranno come tema principale il centenario della nascita di Franco Basaglia. Per info:  info@chille.it o whatsapp +39 335 627 0739
URL:https://www.salutementale.net/event/carrellata-eventi-centenario-basaglia/
LOCATION:Firenze
CATEGORIES:Evento culturale,Basaglia
ATTACH;FMTTYPE=image/jpeg:https://www.salutementale.net/wp-content/uploads/2024/03/Logo-FRANCO-BASAGLIA-100-1024x344-1.jpg
END:VEVENT
BEGIN:VEVENT
DTSTART;TZID=Europe/Rome:20240305T080000
DTEND;TZID=Europe/Rome:20241027T170000
DTSTAMP:20260423T154211
CREATED:20240304T112855Z
LAST-MODIFIED:20240709T133512Z
UID:24600-1709625600-1730048400@www.salutementale.net
SUMMARY:Trieste: un anno di iniziative dedicate a Franco Basaglia
DESCRIPTION:Trieste: un anno di iniziative dedicate a Franco Basaglia coordinate da Copersamm-Conferenza per la Salute Mentale nel Mondo Franco Basaglia. \nPer le date degli eventi clicca qui.
URL:https://www.salutementale.net/event/triesteun-anno-di-iniziative-dedicate-a-franco-basaglia/
LOCATION:Trieste\, via Edoardo Weiss- teatrino Franco e Franca Basaglia\, Trieste\, Italia
CATEGORIES:Evento culturale,Basaglia
ATTACH;FMTTYPE=image/webp:https://www.salutementale.net/wp-content/uploads/2024/03/Trieste@news-centenario-Franco-Basaglia-Trieste.webp
END:VEVENT
END:VCALENDAR