BEGIN:VCALENDAR
VERSION:2.0
PRODID:-//Salutementale.net - ECPv6.15.17.1//NONSGML v1.0//EN
CALSCALE:GREGORIAN
METHOD:PUBLISH
X-ORIGINAL-URL:https://www.salutementale.net
X-WR-CALDESC:Eventi per Salutementale.net
REFRESH-INTERVAL;VALUE=DURATION:PT1H
X-Robots-Tag:noindex
X-PUBLISHED-TTL:PT1H
BEGIN:VTIMEZONE
TZID:Europe/Rome
BEGIN:DAYLIGHT
TZOFFSETFROM:+0100
TZOFFSETTO:+0200
TZNAME:CEST
DTSTART:20230326T010000
END:DAYLIGHT
BEGIN:STANDARD
TZOFFSETFROM:+0200
TZOFFSETTO:+0100
TZNAME:CET
DTSTART:20231029T010000
END:STANDARD
BEGIN:DAYLIGHT
TZOFFSETFROM:+0100
TZOFFSETTO:+0200
TZNAME:CEST
DTSTART:20240331T010000
END:DAYLIGHT
BEGIN:STANDARD
TZOFFSETFROM:+0200
TZOFFSETTO:+0100
TZNAME:CET
DTSTART:20241027T010000
END:STANDARD
BEGIN:DAYLIGHT
TZOFFSETFROM:+0100
TZOFFSETTO:+0200
TZNAME:CEST
DTSTART:20250330T010000
END:DAYLIGHT
BEGIN:STANDARD
TZOFFSETFROM:+0200
TZOFFSETTO:+0100
TZNAME:CET
DTSTART:20251026T010000
END:STANDARD
END:VTIMEZONE
BEGIN:VEVENT
DTSTART;TZID=Europe/Rome:20240305T080000
DTEND;TZID=Europe/Rome:20241027T170000
DTSTAMP:20260424T215150
CREATED:20240304T112855Z
LAST-MODIFIED:20240709T133512Z
UID:24600-1709625600-1730048400@www.salutementale.net
SUMMARY:Trieste: un anno di iniziative dedicate a Franco Basaglia
DESCRIPTION:Trieste: un anno di iniziative dedicate a Franco Basaglia coordinate da Copersamm-Conferenza per la Salute Mentale nel Mondo Franco Basaglia. \nPer le date degli eventi clicca qui.
URL:https://www.salutementale.net/event/triesteun-anno-di-iniziative-dedicate-a-franco-basaglia/
LOCATION:Trieste\, via Edoardo Weiss- teatrino Franco e Franca Basaglia\, Trieste\, Italia
CATEGORIES:Evento culturale,Basaglia
ATTACH;FMTTYPE=image/webp:https://www.salutementale.net/wp-content/uploads/2024/03/Trieste@news-centenario-Franco-Basaglia-Trieste.webp
END:VEVENT
BEGIN:VEVENT
DTSTART;TZID=Europe/Rome:20240613T093000
DTEND;TZID=Europe/Rome:20240613T130000
DTSTAMP:20260424T215150
CREATED:20240520T081215Z
LAST-MODIFIED:20240520T082107Z
UID:25252-1718271000-1718283600@www.salutementale.net
SUMMARY:Il gesto di Basaglia
DESCRIPTION:In occasione del centenario della nascita di Franco Basaglia\, il Dipartimento di Psicologia Dinamica\, Clinica e Salute in collaborazione con il Museo Laboratorio della Mente ricorda il movimento di riforma della salute mentale che vide la nuova psichiatria e la psicologia collaborare e confrontarsi allo scopo di modernizzare il servizio sanitario italiano.
URL:https://www.salutementale.net/event/il-gesto-di-basaglia/
LOCATION:Via dei Marsi 78\, Roma
CATEGORIES:Basaglia,Convegno,congresso,Evento culturale
ATTACH;FMTTYPE=image/jpeg:https://www.salutementale.net/wp-content/uploads/2024/05/locandina-evento-13.06.2024R_page-0001.jpg
END:VEVENT
END:VCALENDAR